Workbook

Sheet CLASSIFICA
A1: CANADA | E1: CLASSIFICA GENERALE
A3: JERRY | B3: =PUNTI!N22 -> 723.4 | E3: LUPO1976 | F3: =PUNTI!Q32 -> 9956.6 | G3: +2
A4: CALIX | B4: =PUNTI!H22 -> 557.9 | E4: DIAVORIK | F4: =PUNTI!I32 -> 9881.7 | G4: -1
A5: LUPO1976 | B5: =PUNTI!Q22 -> 523.8 | E5: UOLLANO | F5: =PUNTI!Y32 -> 9828.4 | G5: -1
A6: POTTI POTTI | B6: =PUNTI!S22 -> 476 | E6: RF FOREVER | F6: =PUNTI!V32 -> 9480.6 | G6: +1
A7: ALY | B7: =PUNTI!F22 -> 464.1 | E7: FICHINS | F7: =PUNTI!J32 -> 9372.4 | G7: -1
A8: KOLLER22 | B8: =PUNTI!O22 -> 455.8 | E8: PRE86 | F8: =PUNTI!T32 -> 9367 | G8: =
A9: GUIDODENO | B9: =PUNTI!M22 -> 453.7 | E9: RAFA66 | F9: =PUNTI!U32 -> 9278.4 | G9: =
A10: PRE86 | B10: =PUNTI!T22 -> 441.9 | E10: KOLLER22 | F10: =PUNTI!O32 -> 9225 | G10: =
A11: LUDOPIPPO | B11: =PUNTI!P22 -> 432.5 | E11: FOGLIA70 | F11: =PUNTI!K32 -> 9015.6 | G11: +2
A12: VAMOS4LA | B12: =PUNTI!Z22 -> 396.5 | E12: GIANGIPOLI64 | F12: =PUNTI!L32 -> 8900.9 | G12: -1
A13: RF FOREVER | B13: =PUNTI!V22 -> 395.4 | E13: BIG BULL | F13: =PUNTI!G32 -> 8883.2 | G13: -1
A14: RAFA66 | B14: =PUNTI!U22 -> 366.3 | E14: JERRY | F14: =PUNTI!N32 -> 8734 | G14: +2
A15: UOLLANO | B15: =PUNTI!Y22 -> 361.9 | E15: POTTI POTTI | F15: =PUNTI!S32 -> 8610 | G15: =
A16: ALBE08 | B16: =PUNTI!E22 -> 346.3 | E16: THE QUEER | F16: =PUNTI!X32 -> 8583.8 | G16: -2
A17: FOGLIA70 | B17: =PUNTI!K22 -> 329.7 | E17: CALIX | F17: =PUNTI!H32 -> 8357.2 | G17: =
A18: THE QUEER | B18: =PUNTI!X22 -> 284.9 | E18: GUIDODENO | F18: =PUNTI!M32 -> 8044.3 | G18: =
A19: DIAVORIK | B19: =PUNTI!I22 -> 217.1 | E19: LUDOPIPPO | F19: =PUNTI!P32 -> 7781.7 | G19: +2
A20: NICOGIU79 | B20: =PUNTI!R22 -> 204.9 | E20: NICOGIU79 | F20: =PUNTI!R32 -> 7705.7 | G20: =
A21: GIANGIPOLI64 | B21: =PUNTI!L22 -> 193.2 | E21: TADDEUS TADDEI | F21: =PUNTI!W32 -> 7568.9 | G21: -2
A22: BIG BULL | B22: =PUNTI!G22 -> 177.5 | E22: ALBE08 | F22: =PUNTI!E32 -> 7554.1 | G22: =
A23: FICHINS | B23: =PUNTI!J22 -> 163.4 | E23: VAMOS4LA | F23: =PUNTI!Z32 -> 7270 | G23: =
A24: TADDEUS TADDEI | B24: =PUNTI!W22 -> 0

Sheet PUNTI
A1: DATA | C1: SEDE | E1: ALBE08 | F1: ALY | G1: BIG BULL | H1: CALIX | I1: DIAVORIK | J1: FICHINS | K1: FOGLIA70 | L1: GIANGI POLI64 | M1: GUIDODENO | N1: JERRY | O1: KOLLER22 | P1: LUDOPIPPO | Q1: LUPO1976 | R1: NICOGIU79 | S1: POTTI POTTI | T1: PRE86 | U1: RAFA66 | V1: RF FOREVER | W1: TADDEUS TADDEI | X1: THE QUEER | Y1: UOLLANO | Z1: VAMOS4LA
A2: 46040 | B2: GS | C2: AUSTRALIAN OPEN | E2: =TORNEI!F57 -> 599 | F2: =TORNEI!I57 -> 0 | G2: =TORNEI!J57 -> 548.4 | H2: =TORNEI!L57 -> 547.3 | I2: =TORNEI!N57 -> 596.8 | J2: =TORNEI!P57 -> 491.7 | K2: =TORNEI!R57 -> 397.6 | L2: =TORNEI!T57 -> 630.2 | M2: =TORNEI!V57 -> 443.7 | N2: =TORNEI!X57 -> 559.7 | O2: =TORNEI!Z57 -> 698.2 | P2: =TORNEI!AB57 -> 325.3 | Q2: =TORNEI!AD57 -> 680.6 | R2: =TORNEI!AF57 -> 734.7 | S2: =TORNEI!AH57 -> 501.3 | T2: =TORNEI!AJ57 -> 597.7 | U2: =TORNEI!AL57 -> 483.8 | V2: =TORNEI!AN57 -> 592.5 | W2: =TORNEI!AP57 -> 525.2 | X2: =TORNEI!AR57 -> 544.2 | Y2: =TORNEI!AT57 -> 577.8 | Z2: =TORNEI!AV57 -> 583
A3: 46062 | B3: 500 | C3: DALLAS | E3: =TORNEI!F94 -> 306.2 | F3: =TORNEI!I94 -> 0 | G3: =TORNEI!J94 -> 466.3 | H3: =TORNEI!L94 -> 360.9 | I3: =TORNEI!N94 -> 389.6 | J3: =TORNEI!P94 -> 433.8 | K3: =TORNEI!R94 -> 308.5 | L3: =TORNEI!T94 -> 377 | M3: =TORNEI!V94 -> 328.5 | N3: =TORNEI!X94 -> 260.7 | O3: =TORNEI!Z94 -> 351.6 | P3: =TORNEI!AB94 -> 361.3 | Q3: =TORNEI!AD94 -> 274.6 | R3: =TORNEI!AF94 -> 336.2 | S3: =TORNEI!AH94 -> 310.4 | T3: =TORNEI!AJ94 -> 520.9 | U3: =TORNEI!AL94 -> 204.8 | V3: =TORNEI!AN94 -> 355.5 | W3: =TORNEI!AP94 -> 270 | X3: =TORNEI!AR94 -> 368.6 | Y3: =TORNEI!AT94 -> 412.3 | Z3: =TORNEI!AV94 -> 264.2
A4: 46062 | B4: 500 | C4: ROTTERDAM | E4: =TORNEI!F132 -> 231.2 | F4: =TORNEI!I132 -> 0 | G4: =TORNEI!J132 -> 400.7 | H4: =TORNEI!L132 -> 386.7 | I4: =TORNEI!N132 -> 511.6 | J4: =TORNEI!P132 -> 250.7 | K4: =TORNEI!R132 -> 392.2 | L4: =TORNEI!T132 -> 554.4 | M4: =TORNEI!V132 -> 323.4 | N4: =TORNEI!X132 -> 536.3 | O4: =TORNEI!Z132 -> 483.4 | P4: =TORNEI!AB132 -> 346.8 | Q4: =TORNEI!AD132 -> 409.2 | R4: =TORNEI!AF132 -> 425.2 | S4: =TORNEI!AH132 -> 463.6 | T4: =TORNEI!AJ132 -> 367.8 | U4: =TORNEI!AL132 -> 405.5 | V4: =TORNEI!AN132 -> 576.3 | W4: =TORNEI!AP132 -> 330.3 | X4: =TORNEI!AR132 -> 415.8 | Y4: =TORNEI!AT132 -> 296.3 | Z4: =TORNEI!AV132 -> 363.8
A5: 46069 | B5: 500 | C5: DOHA | E5: =TORNEI!F170 -> 0 | F5: =TORNEI!I170 -> 0 | G5: =TORNEI!J170 -> 306.5 | H5: =TORNEI!L170 -> 523.4 | I5: =TORNEI!N170 -> 417.7 | J5: =TORNEI!P170 -> 413.4 | K5: =TORNEI!R170 -> 352.5 | L5: =TORNEI!T170 -> 461 | M5: =TORNEI!V170 -> 469 | N5: =TORNEI!X170 -> 453.4 | O5: =TORNEI!Z170 -> 488.3 | P5: =TORNEI!AB170 -> 368.6 | Q5: =TORNEI!AD170 -> 355.4 | R5: =TORNEI!AF170 -> 377 | S5: =TORNEI!AH170 -> 504.7 | T5: =TORNEI!AJ170 -> 575.6 | U5: =TORNEI!AL170 -> 255.6 | V5: =TORNEI!AN170 -> 461.4 | W5: =TORNEI!AP170 -> 438.2 | X5: =TORNEI!AR170 -> 394.9 | Y5: =TORNEI!AT170 -> 453.3 | Z5: =TORNEI!AV170 -> 414.2
A6: 46069 | B6: 500 | C6: RIO | E6: =TORNEI!F205 -> 275.5 | F6: =TORNEI!I205 -> 0 | G6: =TORNEI!J205 -> 310.6 | H6: =TORNEI!L205 -> 296.4 | I6: =TORNEI!N205 -> 227.1 | J6: =TORNEI!P205 -> 266.9 | K6: =TORNEI!R205 -> 437.8 | L6: =TORNEI!T205 -> 203.7 | M6: =TORNEI!V205 -> 244 | N6: =TORNEI!X205 -> 257.9 | O6: =TORNEI!Z205 -> 282 | P6: =TORNEI!AB205 -> 277.6 | Q6: =TORNEI!AD205 -> 345.5 | R6: =TORNEI!AF205 -> 268 | S6: =TORNEI!AH205 -> 398.6 | T6: =TORNEI!AJ205 -> 254.9 | U6: =TORNEI!AL205 -> 87.2 | V6: =TORNEI!AN205 -> 241.3 | W6: =TORNEI!AP205 -> 413.1 | X6: =TORNEI!AR205 -> 227.1 | Y6: =TORNEI!AT205 -> 227.1 | Z6: =TORNEI!AV205 -> 251.9
A7: 46076 | B7: 500 | C7: ACAPULCO | E7: =TORNEI!F241 -> 208.6 | F7: =TORNEI!I241 -> 0 | G7: =TORNEI!J241 -> 275.8 | H7: =TORNEI!L241 -> 334.5 | I7: =TORNEI!N241 -> 364.1 | J7: =TORNEI!P241 -> 282.5 | K7: =TORNEI!R241 -> 113 | L7: =TORNEI!T241 -> 237.1 | M7: =TORNEI!V241 -> 186.2 | N7: =TORNEI!X241 -> 308 | O7: =TORNEI!Z241 -> 241.8 | P7: =TORNEI!AB241 -> 51.4 | Q7: =TORNEI!AD241 -> 455.2 | R7: =TORNEI!AF241 -> 455.9 | S7: =TORNEI!AH241 -> 317.8 | T7: =TORNEI!AJ241 -> 236.3 | U7: =TORNEI!AL241 -> 409.7 | V7: =TORNEI!AN241 -> 333.4 | W7: =TORNEI!AP241 -> 104.2 | X7: =TORNEI!AR241 -> 280.3 | Y7: =TORNEI!AT241 -> 276 | Z7: =TORNEI!AV241 -> 77.5
A8: 46076 | B8: 500 | C8: DUBAI | E8: =TORNEI!F279 -> 328.2 | F8: =TORNEI!I279 -> 0 | G8: =TORNEI!J279 -> 323 | H8: =TORNEI!L279 -> 252.6 | I8: =TORNEI!N279 -> 215.2 | J8: =TORNEI!P279 -> 388.2 | K8: =TORNEI!R279 -> 264.2 | L8: =TORNEI!T279 -> 261.9 | M8: =TORNEI!V279 -> 372.3 | N8: =TORNEI!X279 -> 327.1 | O8: =TORNEI!Z279 -> 287.9 | P8: =TORNEI!AB279 -> 204.9 | Q8: =TORNEI!AD279 -> 486.3 | R8: =TORNEI!AF279 -> 167.6 | S8: =TORNEI!AH279 -> 270.9 | T8: =TORNEI!AJ279 -> 374.5 | U8: =TORNEI!AL279 -> 425.8 | V8: =TORNEI!AN279 -> 386 | W8: =TORNEI!AP279 -> 405.9 | X8: =TORNEI!AR279 -> 239.9 | Y8: =TORNEI!AT279 -> 324.7 | Z8: =TORNEI!AV279 -> 276.3
A9: 46085 | B9: 1000 | C9: INDIAN WELLS | E9: =TORNEI!F337 -> 593.6 | F9: =TORNEI!I337 -> 0 | G9: =TORNEI!J337 -> 488.4 | H9: =TORNEI!L337 -> 313.9 | I9: =TORNEI!N337 -> 545.6 | J9: =TORNEI!P337 -> 548.4 | K9: =TORNEI!R337 -> 665.1 | L9: =TORNEI!T337 -> 463 | M9: =TORNEI!V337 -> 432.1 | N9: =TORNEI!X337 -> 263.8 | O9: =TORNEI!Z337 -> 504.4 | P9: =TORNEI!AB337 -> 664.8 | Q9: =TORNEI!AD337 -> 332.7 | R9: =TORNEI!AF337 -> 432.9 | S9: =TORNEI!AH337 -> 574.7 | T9: =TORNEI!AJ337 -> 667.3 | U9: =TORNEI!AL337 -> 617 | V9: =TORNEI!AN337 -> 718.1 | W9: =TORNEI!AP337 -> 340.4 | X9: =TORNEI!AR337 -> 568.8 | Y9: =TORNEI!AT337 -> 606.9 | Z9: =TORNEI!AV337 -> 260.5
A10: 46099 | B10: 1000 | C10: MIAMI | E10: =TORNEI!F395 -> 438.4 | F10: =TORNEI!I395 -> 0 | G10: =TORNEI!J395 -> 556.2 | H10: =TORNEI!L395 -> 190.7 | I10: =TORNEI!N395 -> 437.8 | J10: =TORNEI!P395 -> 825.8 | K10: =TORNEI!R395 -> 488.9 | L10: =TORNEI!T395 -> 414.5 | M10: =TORNEI!V395 -> 520.4 | N10: =TORNEI!X395 -> 537.9 | O10: =TORNEI!Z395 -> 416.4 | P10: =TORNEI!AB395 -> 424.1 | Q10: =TORNEI!AD395 -> 483.8 | R10: =TORNEI!AF395 -> 496.1 | S10: =TORNEI!AH395 -> 394.5 | T10: =TORNEI!AJ395 -> 436.4 | U10: =TORNEI!AL395 -> 545.7 | V10: =TORNEI!AN395 -> 543.8 | W10: =TORNEI!AP395 -> 520 | X10: =TORNEI!AR395 -> 630 | Y10: =TORNEI!AT395 -> 591.6 | Z10: =TORNEI!AV395 -> 84.5
A11: 46117 | B11: 1000 | C11: MONTECARLO | E11: =TORNEI!F447 -> 442.8 | F11: =TORNEI!I447 -> 0 | G11: =TORNEI!J447 -> 559.6 | H11: =TORNEI!L447 -> 521.8 | I11: =TORNEI!N447 -> 705.4 | J11: =TORNEI!P447 -> 711.7 | K11: =TORNEI!R447 -> 635.4 | L11: =TORNEI!T447 -> 498.8 | M11: =TORNEI!V447 -> 358.5 | N11: =TORNEI!X447 -> 635.4 | O11: =TORNEI!Z447 -> 529.7 | P11: =TORNEI!AB447 -> 567 | Q11: =TORNEI!AD447 -> 525.8 | R11: =TORNEI!AF447 -> 636.4 | S11: =TORNEI!AH447 -> 551 | T11: =TORNEI!AJ447 -> 687.6 | U11: =TORNEI!AL447 -> 743.6 | V11: =TORNEI!AN447 -> 614 | W11: =TORNEI!AP447 -> 408.7 | X11: =TORNEI!AR447 -> 438.1 | Y11: =TORNEI!AT447 -> 808.6 | Z11: =TORNEI!AV447 -> 438.1
A12: 46125 | B12: 500 | C12: BARCELLONA | E12: =TORNEI!F485 -> 438 | F12: =TORNEI!I485 -> 0 | G12: =TORNEI!J485 -> 469 | H12: =TORNEI!L485 -> 401.1 | I12: =TORNEI!N485 -> 473.8 | J12: =TORNEI!P485 -> 445.3 | K12: =TORNEI!R485 -> 414.5 | L12: =TORNEI!T485 -> 225.4 | M12: =TORNEI!V485 -> 350.4 | N12: =TORNEI!X485 -> 299.9 | O12: =TORNEI!Z485 -> 241.6 | P12: =TORNEI!AB485 -> 0 | Q12: =TORNEI!AD485 -> 528 | R12: =TORNEI!AF485 -> 230 | S12: =TORNEI!AH485 -> 330.7 | T12: =TORNEI!AJ485 -> 367.3 | U12: =TORNEI!AL485 -> 143.4 | V12: =TORNEI!AN485 -> 327.6 | W12: =TORNEI!AP485 -> 525 | X12: =TORNEI!AR485 -> 409.2 | Y12: =TORNEI!AT485 -> 592.4 | Z12: =TORNEI!AV485 -> 405.9
A13: 46125 | B13: 500 | C13: MONACO | E13: =TORNEI!F522 -> 287.1 | F13: =TORNEI!I522 -> 0 | G13: =TORNEI!J522 -> 513.8 | H13: =TORNEI!L522 -> 278.6 | I13: =TORNEI!N522 -> 297.3 | J13: =TORNEI!P522 -> 266 | K13: =TORNEI!R522 -> 329.4 | L13: =TORNEI!T522 -> 476.8 | M13: =TORNEI!V522 -> 320.6 | N13: =TORNEI!X522 -> 339.4 | O13: =TORNEI!Z522 -> 375.5 | P13: =TORNEI!AB522 -> 0 | Q13: =TORNEI!AD522 -> 437.8 | R13: =TORNEI!AF522 -> 252.4 | S13: =TORNEI!AH522 -> 314.7 | T13: =TORNEI!AJ522 -> 360.4 | U13: =TORNEI!AL522 -> 388.4 | V13: =TORNEI!AN522 -> 295.2 | W13: =TORNEI!AP522 -> 220.8 | X13: =TORNEI!AR522 -> 296.4 | Y13: =TORNEI!AT522 -> 300.4 | Z13: =TORNEI!AV522 -> 242.4
A14: 46134 | B14: 1000 | C14: MADRID | E14: =TORNEI!F588 -> 596 | F14: =TORNEI!I588 -> 0 | G14: =TORNEI!J588 -> 747.1 | H14: =TORNEI!L588 -> 342.9 | I14: =TORNEI!N588 -> 907.6 | J14: =TORNEI!P588 -> 711 | K14: =TORNEI!R588 -> 701.4 | L14: =TORNEI!T588 -> 655.8 | M14: =TORNEI!V588 -> 618.8 | N14: =TORNEI!X588 -> 617.6 | O14: =TORNEI!Z588 -> 599.1 | P14: =TORNEI!AB588 -> 807.2 | Q14: =TORNEI!AD588 -> 1039.1 | R14: =TORNEI!AF588 -> 775.9 | S14: =TORNEI!AH588 -> 821.1 | T14: =TORNEI!AJ588 -> 493.5 | U14: =TORNEI!AL588 -> 702.3 | V14: =TORNEI!AN588 -> 843.6 | W14: =TORNEI!AP588 -> 615.6 | X14: =TORNEI!AR588 -> 549.6 | Y14: =TORNEI!AT588 -> 677.4 | Z14: =TORNEI!AV588 -> 427.4
A15: 46148 | B15: 1000 | C15: ROMA | E15: =TORNEI!F645 -> 568.4 | F15: =TORNEI!I645 -> 0 | G15: =TORNEI!J645 -> 548.5 | H15: =TORNEI!L645 -> 508.7 | I15: =TORNEI!N645 -> 463.5 | J15: =TORNEI!P645 -> 481.6 | K15: =TORNEI!R645 -> 701.4 | L15: =TORNEI!T645 -> 515.4 | M15: =TORNEI!V645 -> 362.1 | N15: =TORNEI!X645 -> 540.8 | O15: =TORNEI!Z645 -> 546.8 | P15: =TORNEI!AB645 -> 644.4 | Q15: =TORNEI!AD645 -> 539.4 | R15: =TORNEI!AF645 -> 501.9 | S15: =TORNEI!AH645 -> 641.8 | T15: =TORNEI!AJ645 -> 539.9 | U15: =TORNEI!AL645 -> 567.9 | V15: =TORNEI!AN645 -> 596.6 | W15: =TORNEI!AP645 -> 254.3 | X15: =TORNEI!AR645 -> 606.7 | Y15: =TORNEI!AT645 -> 655.6 | Z15: =TORNEI!AV645 -> 575.8
A16: 46159 | B16: 500 | C16: AMBURGO | E16: =TORNEI!F681 -> 123.9 | F16: =TORNEI!I681 -> 0 | G16: =TORNEI!J681 -> 314.9 | H16: =TORNEI!L681 -> 385.7 | I16: =TORNEI!N681 -> 285.7 | J16: =TORNEI!P681 -> 304.9 | K16: =TORNEI!R681 -> 271.5 | L16: =TORNEI!T681 -> 318.9 | M16: =TORNEI!V681 -> 175.6 | N16: =TORNEI!X681 -> 289.2 | O16: =TORNEI!Z681 -> 469.7 | P16: =TORNEI!AB681 -> 296.8 | Q16: =TORNEI!AD681 -> 295.2 | R16: =TORNEI!AF681 -> 170.2 | S16: =TORNEI!AH681 -> 282.7 | T16: =TORNEI!AJ681 -> 295.8 | U16: =TORNEI!AL681 -> 205.3 | V16: =TORNEI!AN681 -> 236.5 | W16: =TORNEI!AP681 -> 252.2 | X16: =TORNEI!AR681 -> 169.1 | Y16: =TORNEI!AT681 -> 330.1 | Z16: =TORNEI!AV681 -> 197.2
A17: 46166 | B17: GS | C17: ROLAND GARROS | E17: =TORNEI!F737 -> 266.2 | F17: =TORNEI!I737 -> 0 | G17: =TORNEI!J737 -> 244.2 | H17: =TORNEI!L737 -> 664.7 | I17: =TORNEI!N737 -> 716.7 | J17: =TORNEI!P737 -> 455.9 | K17: =TORNEI!R737 -> 620.9 | L17: =TORNEI!T737 -> 715.9 | M17: =TORNEI!V737 -> 538.8 | N17: =TORNEI!X737 -> 297.5 | O17: =TORNEI!Z737 -> 403 | P17: =TORNEI!AB737 -> 497.7 | Q17: =TORNEI!AD737 -> 786.9 | R17: =TORNEI!AF737 -> 479.8 | S17: =TORNEI!AH737 -> 345.3 | T17: =TORNEI!AJ737 -> 655 | U17: =TORNEI!AL737 -> 838.1 | V17: =TORNEI!AN737 -> 282.4 | W17: =TORNEI!AP737 -> 351.3 | X17: =TORNEI!AR737 -> 465.2 | Y17: =TORNEI!AT737 -> 630.3 | Z17: =TORNEI!AV737 -> 440.2
A18: 46188 | B18: 500 | C18: HALLE | E18: =TORNEI!F772 -> 250.5 | F18: =TORNEI!I772 -> 0 | G18: =TORNEI!J772 -> 165.3 | H18: =TORNEI!L772 -> 178.9 | I18: =TORNEI!N772 -> 433.2 | J18: =TORNEI!P772 -> 390.2 | K18: =TORNEI!R772 -> 334.1 | L18: =TORNEI!T772 -> 216.7 | M18: =TORNEI!V772 -> 189.3 | N18: =TORNEI!X772 -> 390.9 | O18: =TORNEI!Z772 -> 182.3 | P18: =TORNEI!AB772 -> 223.1 | Q18: =TORNEI!AD772 -> 249.3 | R18: =TORNEI!AF772 -> 0 | S18: =TORNEI!AH772 -> 204.7 | T18: =TORNEI!AJ772 -> 193.6 | U18: =TORNEI!AL772 -> 368.3 | V18: =TORNEI!AN772 -> 257 | W18: =TORNEI!AP772 -> 340.7 | X18: =TORNEI!AR772 -> 285 | Y18: =TORNEI!AT772 -> 317.4 | Z18: =TORNEI!AV772 -> 188.6
A19: 46188 | B19: 500 | C19: LONDRA | E19: =TORNEI!F810 -> 351.2 | F19: =TORNEI!I810 -> 0 | G19: =TORNEI!J810 -> 371 | H19: =TORNEI!L810 -> 371 | I19: =TORNEI!N810 -> 501.6 | J19: =TORNEI!P810 -> 507.5 | K19: =TORNEI!R810 -> 451.7 | L19: =TORNEI!T810 -> 443.4 | M19: =TORNEI!V810 -> 341.7 | N19: =TORNEI!X810 -> 361 | O19: =TORNEI!Z810 -> 501.6 | P19: =TORNEI!AB810 -> 371 | Q19: =TORNEI!AD810 -> 276.2 | R19: =TORNEI!AF810 -> 0 | S19: =TORNEI!AH810 -> 236.1 | T19: =TORNEI!AJ810 -> 478.9 | U19: =TORNEI!AL810 -> 341.7 | V19: =TORNEI!AN810 -> 310.4 | W19: =TORNEI!AP810 -> 339.4 | X19: =TORNEI!AR810 -> 472.6 | Y19: =TORNEI!AT810 -> 339.4 | Z19: =TORNEI!AV810 -> 381.3
A20: 46202 | B20: GS | C20: WIMBLEDON | E20: =TORNEI!F870 -> 555.3 | F20: =TORNEI!I870 -> 0 | G20: =TORNEI!J870 -> 704.1 | H20: =TORNEI!L870 -> 645.3 | I20: =TORNEI!N870 -> 756.5 | J20: =TORNEI!P870 -> 604.7 | K20: =TORNEI!R870 -> 516.7 | L20: =TORNEI!T870 -> 654.6 | M20: =TORNEI!V870 -> 573.2 | N20: =TORNEI!X870 -> 517.8 | O20: =TORNEI!Z870 -> 979 | P20: =TORNEI!AB870 -> 563.1 | Q20: =TORNEI!AD870 -> 642.2 | R20: =TORNEI!AF870 -> 594.9 | S20: =TORNEI!AH870 -> 532.3 | T20: =TORNEI!AJ870 -> 541.5 | U20: =TORNEI!AL870 -> 634.8 | V20: =TORNEI!AN870 -> 781.7 | W20: =TORNEI!AP870 -> 593.6 | X20: =TORNEI!AR870 -> 642.5 | Y20: =TORNEI!AT870 -> 707 | Z20: =TORNEI!AV870 -> 621.9
A21: 46230 | B21: 500 | C21: WASHINGTON | E21: =TORNEI!F909 -> 347.7 | F21: =TORNEI!H909 -> 422.3 | G21: =TORNEI!J909 -> 392.3 | H21: =TORNEI!L909 -> 294.2 | I21: =TORNEI!N909 -> 417.8 | J21: =TORNEI!P909 -> 428.8 | K21: =TORNEI!R909 -> 289.1 | L21: =TORNEI!T909 -> 383.2 | M21: =TORNEI!V909 -> 442 | N21: =TORNEI!X909 -> 216.3 | O21: =TORNEI!Z909 -> 186.9 | P21: =TORNEI!AB909 -> 354.1 | Q21: =TORNEI!AD909 -> 289.6 | R21: =TORNEI!AF909 -> 165.7 | S21: =TORNEI!AH909 -> 137.1 | T21: =TORNEI!AJ909 -> 280.2 | U21: =TORNEI!AL909 -> 543.2 | V21: =TORNEI!AN909 -> 331.9 | W21: =TORNEI!AP909 -> 320 | X21: =TORNEI!AR909 -> 294.9 | Y21: =TORNEI!AT909 -> 341.9 | Z21: =TORNEI!AV909 -> 378.8
A22: 46236 | B22: 1000 | C22: CANADA | E22: =TORNEI!F966 -> 346.3 | F22: =TORNEI!H966 -> 464.1 | G22: =TORNEI!J966 -> 177.5 | H22: =TORNEI!L966 -> 557.9 | I22: =TORNEI!N966 -> 217.1 | J22: =TORNEI!P966 -> 163.4 | K22: =TORNEI!R966 -> 329.7 | L22: =TORNEI!T966 -> 193.2 | M22: =TORNEI!V966 -> 453.7 | N22: =TORNEI!X966 -> 723.4 | O22: =TORNEI!Z966 -> 455.8 | P22: =TORNEI!AB966 -> 432.5 | Q22: =TORNEI!AD966 -> 523.8 | R22: =TORNEI!AF966 -> 204.9 | S22: =TORNEI!AH966 -> 476 | T22: =TORNEI!AJ966 -> 441.9 | U22: =TORNEI!AL966 -> 366.3 | V22: =TORNEI!AN966 -> 395.4 | W22: =TORNEI!AP966 -> 0 | X22: =TORNEI!AR966 -> 284.9 | Y22: =TORNEI!AT966 -> 361.9 | Z22: =TORNEI!AV966 -> 396.5
A23: 46247 | B23: 1000 | C23: CINCINNATI
A24: 46265 | B24: GS | C24: US OPEN
A25: 46295 | B25: 500 | C25: TOKYO
A26: 46295 | B26: 500 | C26: PECHINO
A27: 46302 | B27: 1000 | C27: SHANGHAI
A28: 46321 | B28: 500 | C28: BASILEA
A29: 46321 | B29: 500 | C29: VIENNA
A30: 46328 | B30: 1000 | C30: PARIGI
C32: TOTALE | E32: =SUM(E2:E30) -> 7554.1 | F32: 0 | G32: =SUM(G2:G30) -> 8883.2 | H32: =SUM(H2:H30) -> 8357.2 | I32: =SUM(I2:I30) -> 9881.7 | J32: =SUM(J2:J30) -> 9372.4 | K32: =SUM(K2:K30) -> 9015.6 | L32: =SUM(L2:L30) -> 8900.9 | M32: =SUM(M2:M30) -> 8044.3 | N32: =SUM(N2:N30) -> 8734 | ... Z32: =SUM(Z2:Z30) -> 7270

Sheet €URO
A1: DATA | C1: SEDE | E1: MONTEPREMI | G1: ALBE08 | H1: ALY | I1: BIG BULL | J1: CALIX | K1: DIAVORIK | L1: FICHINS | M1: FOGLIA70 | N1: GIANGI POLI64 | O1: GUIDODENO | P1: JERRY | Q1: KOLLER22 | R1: LUDOPIPPO | S1: LUPO1976 | T1: NICOGIU79 | U1: POTTI POTTI | V1: PRE86 | W1: RAFA66 | X1: RF FOREVER | Y1: TADDEUS TADDEI | Z1: THE QUEER | AA1: UOLLANO | AB1: VAMOS4LA
A2: 46040 | B2: GS | C2: AUSTRALIAN OPEN | E2: 75 | Q2: 25 | T2: 50 | AC2: 15 | AE2: =(E2*AC2) -> 1125
A3: 46062 | B3: 500 | C3: DALLAS | E3: 15 | I3: 5 | V3: 10 | AC3: 15 | AE3: =E3*AC3 -> 225
A4: 46062 | B4: 500 | C4: ROTTERDAM | E4: 15 | N4: 5 | X4: 10 | AC4: 15 | AE4: =E4*AC4 -> 225
A5: 46069 | B5: 500 | C5: DOHA | E5: 15 | J5: 5 | V5: 10 | AC5: 15 | AE5: =E5*AC5 -> 225
A6: 46069 | B6: 500 | C6: RIO | E6: 15 | M6: 10 | Y6: 5 | AC6: 15 | AE6: =E6*AC6 -> 225
A7: 46076 | B7: 500 | C7: ACAPULCO | E7: 15 | S7: 5 | T7: 10 | AC7: 15 | AE7: =E7*AC7 -> 225
A8: 46076 | B8: 500 | C8: DUBAI | E8: 15 | S8: 10 | W8: 5 | AC8: 15 | AE8: =E8*AC8 -> 225
A9: 46085 | B9: 1000 | C9: INDIAN WELLS | E9: 30 | V9: 10 | X9: 20 | AC9: 15 | AE9: =E9*AC9 -> 450
A10: 46099 | B10: 1000 | C10: MIAMI | E10: 30 | L10: 20 | Z10: 10 | AC10: 15 | AE10: =E10*AC10 -> 450
A11: 46117 | B11: 1000 | C11: MONTECARLO | E11: 30 | W11: 10 | AA11: 20 | AC11: 15 | AE11: =E11*AC11 -> 450
A12: 46125 | B12: 500 | C12: BARCELLONA | E12: 15 | S12: 5 | AA12: 10 | AC12: 15 | AE12: =E12*AC12 -> 225
A13: 46125 | B13: 500 | C13: MONACO | E13: 15 | I13: 10 | N13: 5 | AC13: 15 | AE13: =E13*AC13 -> 225
A14: 46134 | B14: 1000 | C14: MADRID | E14: 30 | K14: 10 | S14: 20 | AC14: 15 | AE14: =E14*AC14 -> 450
A15: 46148 | B15: 1000 | C15: ROMA | E15: 30 | M15: 20 | AA15: 10 | AC15: 15 | AE15: =E15*AC15 -> 450
A16: 46159 | B16: 500 | C16: AMBURGO | E16: 15 | J16: 5 | Q16: 10 | AC16: 15 | AE16: =E16*AC16 -> 225
A17: 46166 | B17: GS | C17: ROLAND GARROS | E17: 75 | S17: 25 | W17: 50 | AC17: 15 | AE17: =E17*AC17 -> 1125
A18: 46188 | B18: 500 | C18: HALLE | E18: 15 | K18: 10 | P18: 5 | AC18: 15 | AE18: =E18*AC18 -> 225
A19: 46188 | B19: 500 | C19: LONDRA | E19: 15 | K19: 2.5 | L19: 10 | Q19: 2.5 | AC19: 15 | AE19: =E19*AC19 -> 225
A20: 46202 | B20: GS | C20: WIMBLEDON | E20: 75 | Q20: 50 | X20: 25 | AC20: 15 | AE20: =E20*AC20 -> 1125
A21: 46230 | B21: 500 | C21: WASHINGTON | E21: 15 | O21: 5 | W21: 10 | AC21: 15 | AE21: =E21*AC21 -> 225
A22: 46236 | B22: 1000 | C22: CANADA | E22: 30 | J22: 10 | P22: 20 | AC22: 15 | AE22: =E22*AC22 -> 450
A23: 46247 | B23: 1000 | C23: CINCINNATI | E23: 30 | AC23: 15 | AE23: =E23*AC23 -> 450
A24: 46265 | B24: GS | C24: US OPEN | E24: 75 | AC24: 15 | AE24: =E24*AC24 -> 1125
A25: 46295 | B25: 500 | C25: TOKYO | E25: 15 | AC25: 15 | AE25: =E25*AC25 -> 225
A26: 46295 | B26: 500 | C26: PECHINO | E26: 15 | AC26: 15 | AE26: =E26*AC26 -> 225
A27: 46302 | B27: 1000 | C27: SHANGHAI | E27: 30 | AC27: 15 | AE27: =E27*AC27 -> 450
A28: 46321 | B28: 500 | C28: BASILEA | E28: 15 | AC28: 15 | AE28: =E28*AC28 -> 225
A29: 46321 | B29: 500 | C29: VIENNA | E29: 15 | AC29: 15 | AE29: =E29*AC29 -> 225
A30: 46328 | B30: 1000 | C30: PARIGI | E30: 30 | AC30: 15 | AE30: =E30*AC30 -> 450
A31: 46341 | C31: ATP FINALS | E31: 50
A32: CLASSIFICA FINALE | AC32: 15 | AE32: 270
E34: TOTALE | G34: =SUM(G2:G32)-60 -> -60 | H34: =SUM(H2:H32)-20 -> -20 | I34: =SUM(I2:I32)-60 -> -45 | J34: =SUM(J2:J32)-60 -> -40 | K34: =SUM(K2:K32)-60 -> -37.5 | L34: =SUM(L2:L32)-60 -> -30 | M34: =SUM(M2:M32)-60 -> -30 | N34: =SUM(N2:N32)-60 -> -50 | O34: =SUM(O2:O32)-60 -> -55 | P34: =SUM(P2:P32)-60 -> -35 | ... AC34: =SUM(AC2:AC32)-60 -> 390 | AE34: =SUM(AE2:AE33) -> 12420

Sheet TORNEI
A1: DATA | C1: SEDE | E1: ALBE08 | G1: ALY | I1: BIG BULL | K1: CALIX | M1: DIAVORIK | O1: FICHINS | Q1: FOGLIA70 | S1: GIANGIPOLI64 | U1: GUIDODENO | W1: JERRY | Y1: KOLLER22 | AA1: LUDOPIPPO | AC1: LUPO1976 | AE1: NICOGIU79 | AG1: POTTI POTTI | AI1: PRE86 | AK1: RAFA66 | AM1: RF FOREVER | AO1: TADDEUS TADDEI | AQ1: THE QUEER | AS1: UOLLANO | AU1: VAMOS4LA
A2: 46039 | B2: GS | C2: AUSTRALIAN OPEN | E2: BAEZ | F2: 27.8 | I2: ALCARAZ | J2: 28.5 | K2: ALCARAZ | L2: 28.5 | M2: ALCARAZ | N2: 28.5 | O2: ARNALDI | P2: 4.1 | Q2: BUBLIK | R2: 29 | S2: ALCARAZ | T2: 28.5 | U2: BUBLIK | V2: 29 | W2: BUBLIK | X2: 29 | Y2: ALCARAZ | Z2: 28.5 | AA2: AUGER-ALI. | AB2: 5 | AC2: ALCARAZ | AD2: 28.5 | AE2: ALCARAZ | AF2: 28.5 | AG2: BUBLIK | AH2: 29 | AI2: FUCSOVICS | AJ2: 31.3 | AK2: ARNALDI | AL2: 4.1 | AM2: BUBLIK | AN2: 29 | AO2: ARNALDI | AP2: 4.1 | AQ2: ALCARAZ | AR2: 28.5 | AS2: ALCARAZ | AT2: 28.5 | AU2: BUDKOV-KJAER | AV2: 5.7
E3: BUBLIK | F3: 29 | I3: DIMITROV | J3: 4.9 | K3: BAUTISTA-A. | L3: 6.1 | M3: COBOLLI | N3: 3 | O3: BUBLIK | P3: 29 | Q3: HUMBERT | R3: 8.2 | S3: BUBLIK | T3: 29 | U3: GIRON | V3: 11.5 | W3: DRAXL | X3: 2.8 | Y3: DARDERI | Z3: 27.6 | AA3: DE MINAUR | AB3: 32.7 | AC3: MACHAC | AD3: 32.3 | AE3: JACQUET | AF3: 9.7 | AG3: DE MINAUR | AH3: 32.7 | AI3: LEHECKA | AJ3: 4.2 | AK3: BAEZ | AL3: 27.8 | AM3: CILIC | AN3: 36.1 | AO3: BONZI | AP3: 7.9 | AQ3: AUGER-ALI. | AR3: 5 | AS3: BUBLIK | AT3: 29 | AU3: GIRON | AV3: 11.5
E4: DIMITROV | F4: 4.9 | I4: HURKACZ | J4: 26 | K4: KORDA | L4: 5.4 | M4: HIJIKATA | N4: 35.3 | O4: COBOLLI | P4: 3 | Q4: LEHECKA | R4: 4.2 | S4: CILIC | T4: 36.1 | U4: LEHECKA | V4: 4.2 | W4: MUSETTI | X4: 25 | Y4: DZUMHUR | Z4: 34.4 | AA4: DJERE | AB4: 9 | AC4: MAROZSAN | AD4: 28.1 | AE4: MUSETTI | AF4: 25 | AG4: FONSECA | AH4: 4.7 | AI4: MAROZSAN | AJ4: 28.1 | AK4: DE MINAUR | AL4: 32.7 | AM4: MEDVEDEV | AN4: 27.9 | AO4: BUBLIK | AP4: 29 | AQ4: HIJIKATA | AR4: 35.3 | AS4: NAKASHIMA | AT4: 6.6 | AU4: HURCKACZ | AV4: 26
E5: MENSIK | F5: 21.4 | I5: KORDA | J5: 5.4 | K5: NAKASHIMA | L5: 6.6 | M5: MEDVEDEV | N5: 27.9 | O5: MUSETTI | P5: 25 | Q5: MEDVEDEV | R5: 27.9 | S5: GRIEKSPOOR | T5: 0.8 | U5: MENSIK | V5: 21.4 | W5: OPELKA | X5: 30.9 | Y5: MAJCHRAZAK | Z5: 22.6 | AA5: DZUMHUR | AB5: 34.4 | AC5: MOUTET | AD5: 28.6 | AE5: PERRICARD | AF5: 9.1 | AG5: HUMBERT | AH5: 8.2 | AI5: MENSIK | AJ5: 21.4 | AK5: HUMBERT | AL5: 8.2 | AM5: MICHELSEN | AN5: 9.5 | AO5: MEDVEDEV | AP5: 27.9 | AQ5: HURKACZ | AR5: 26 | AS5: NAVA | AT5: 25.1 | AU5: MEDVEDEV | AV5: 27.9
E6: RUBLEV | F6: 31.6 | I6: MANNARINO | J6: 1.7 | K6: PAUL | L6: 30.1 | M6: PERRICARD | N6: 9.1 | O6: OPELKA | P6: 30.9 | Q6: MENSIK | R6: 21.4 | S6: NORRIE | T6: 26 | U6: MUNAR | V6: 23.7 | W6: SHANG | X6: 27.8 | Y6: MEDJEDOVIC | Z6: 28.1 | AA6: FONSECA | AB6: 4.7 | AC6: MUNAR | AD6: 23.7 | AE6: SHANG | AF6: 27.8 | AG6: MUNAR | AH6: 23.7 | AI6: MUSETTI | AJ6: 25 | AK6: MACHAC | AL6: 32.3 | AM6: MUSETTI | AN6: 25 | AO6: MENSIK | AP6: 21.4 | AQ6: MEDVEDEV | AR6: 27.9 | AS6: SINNER | AT6: 25 | AU6: MUSETTI | AV6: 25
E7: SINNER | F7: 25 | I7: MENSIK | J7: 21.4 | K7: SINNER | L7: 25 | M7: SHANG | N7: 27.8 | O7: SINNER | P7: 25 | Q7: PERRICARD | R7: 9.1 | S7: RINDERKNECH | T7: 7.3 | U7: NAKASHIMA | V7: 6.6 | W7: SHELTON | X7: 28.6 | Y7: MENSIK | Z7: 21.4 | AA7: KORDA | AB7: 5.4 | AC7: POPYRIN | AD7: 9.9 | AE7: SINNER | AF7: 25 | AG7: RINDERKNECH | AH7: 7.3 | AI7: NORRIE | AJ7: 26 | AK7: MEDVEDEV | AL7: 27.9 | AM7: PERRICARD | AN7: 9.1 | AO7: PAUL | AP7: 30.1 | AQ7: MENSIK | AR7: 21.4 | AS7: STRUFF | AT7: 5.3 | AU7: PAUL | AV7: 30.1
E8: TIEN | F8: 23 | I8: SHEVCHENKO | J8: 26.6 | K8: TSITSIPAS | L8: 26.8 | M8: SINNER | N8: 25 | O8: SONEGO | P8: 32.9 | Q8: SINNER | R8: 25 | S8: RUUD | T8: 32.8 | U8: PAUL | V8: 30.1 | W8: SHEVCHENKO | X8: 26.6 | Y8: SINNER | Z8: 25 | AA8: PERRICARD | AB8: 9.1 | AC8: SINNER | AD8: 25 | AE8: TIEN | AF8: 23 | AG8: SINNER | AH8: 25 | AI8: SINNER | AJ8: 25 | AK8: MUNAR | AL8: 23.7 | AM8: SINNER | AN8: 25 | AO8: SINNER | AP8: 25 | AQ8: PERRICARD | AR8: 9.1 | AS8: THOMPSON | AT8: 29.7 | AU8: SINNER | AV8: 25
E9: VACHEROT | F9: 29.8 | I9: SINNER | J9: 25 | K9: ZHANG | L9: 6.8 | M9: THOMPSON | N9: 29.7 | O9: TIAFOE | P9: 29.9 | Q9: VUKIC | R9: 0.7 | S9: TSITSIPAS | T9: 26.8 | U9: SINNER | V9: 25 | W9: SINNER | X9: 25 | Y9: VACHEROT | Z9: 29.8 | AA9: SINNER | AB9: 25 | AC9: TIAFOE | AD9: 29.9 | AE9: ZHENG | AF9: 35.1 | AG9: WAWRINKA | AH9: 26.4 | AI9: TIAFOE | AJ9: 29.9 | AK9: SINNER | AL9: 25 | AM9: WAWRINKA | AN9: 26.4 | AO9: THOMPSON | AP9: 29.7 | AQ9: SHANG | AR9: 27.8 | AS9: VACHEROT | AT9: 29.8 | AU9: VACHEROT | AV9: 29.8
F11: =SUM(F2:F9) -> 192.5 | J11: =SUM(J2:J9) -> 139.5 | L11: =SUM(L2:L9) -> 135.3 | N11: =SUM(N2:N9) -> 186.3 | P11: =SUM(P2:P9) -> 179.8 | R11: =SUM(R2:R9) -> 125.5 | T11: =SUM(T2:T9) -> 187.3 | V11: =SUM(V2:V9) -> 151.5 | X11: =SUM(X2:X9) -> 195.7 | Z11: =SUM(Z2:Z9) -> 217.4 | AB11: =SUM(AB2:AB9) -> 125.3 | AD11: =SUM(AD2:AD9) -> 206 | AF11: =SUM(AF2:AF9) -> 183.2 | AH11: =SUM(AH2:AH9) -> 157 | AJ11: =SUM(AJ2:AJ9) -> 190.9 | AL11: =SUM(AL2:AL9) -> 181.7 | AN11: =SUM(AN2:AN9) -> 188 | AP11: =SUM(AP2:AP9) -> 175.1 | AR11: =SUM(AR2:AR9) -> 181 | AT11: =SUM(AT2:AT9) -> 179 | AV11: =SUM(AV2:AV9) -> 181
E13: BAEZ | F13: 7.6 | I13: ALCARAZ | J13: 28.5 | K13: ALCARAZ | L13: 28.5 | M13: ALCARAZ | N13: 28.5 | O13: BUBLIK | P13: 28.1 | Q13: BUBLIK | R13: 28.1 | S13: ALCARAZ | T13: 28.5 | U13: BUBLIK | V13: 28.1 | W13: BUBLIK | X13: 28.1 | Y13: ALCARAZ | Z13: 28.5 | AA13: DE MINAUR | AB13: 28.8 | AC13: ALCARAZ | AD13: 28.5 | AE13: ALCARAZ | AF13: 28.5 | AG13: BUBLIK | AH13: 28.1 | AI13: FUCSOVICS | AJ13: 7.5 | AK13: BAEZ | AL13: 7.6 | AM13: BUBLIK | AN13: 28.1 | AO13: BUBLIK | AP13: 28.1 | AQ13: ALCARAZ | AR13: 28.5 | AS13: ALCARAZ | AT13: 28.5 | AU13: HURCKACZ | AV13: 0.5
E14: BUBLIK | F14: 28.1 | I14: HURCKACZ | J14: 0.5 | K14: PAUL | L14: 30.4 | M14: HIJIKATA | N14: 4.8 | O14: MUSETTI | P14: 31.1 | Q14: MEDVEDEV | R14: 25.9 | S14: BUBLIK | T14: 28.1 | U14: MENSIK | V14: 31.5 | W14: MUSETTI | X14: 31.1 | Y14: DARDERI | Z14: 29.9 | AA14: DZUMHUR | AB14: 1.3 | AC14: MACHAC | AD14: 23.4 | AE14: MUSETTI | AF14: 31.1 | AG14: DE MINAUR | AH14: 28.8 | AI14: MAROZSAN | AJ14: 29.8 | AK14: DE MINAUR | AL14: 28.8 | AM14: CILIC | AN14: 36 | AO14: MEDVEDEV | AP14: 25.9 | AQ14: HIJIKATA | AR14: 4.8 | AS14: BUBLIK | AT14: 28.1 | AU14: MEDVEDEV | AV14: 25.9
E15: MENSIK | F15: 31.5 | I15: MENSIK | J15: 31.5 | K15: SINNER | L15: 32 | M15: MEDVEDEV | N15: 25.9 | O15: OPELKA | P15: 11.4 | Q15: MENSIK | R15: 31.5 | S15: CILIC | T15: 36 | U15: MUNAR | V15: 6.3 | W15: OPELKA | X15: 11.4 | Y15: DZUMHUR | Z15: 1.3 | AA15: SINNER | AB15: 32 | AC15: MAROZSAN | AD15: 29.8 | AE15: SHANG | AF15: 3.4 | AG15: MUNAR | AH15: 6.3 | AI15: MENSIK | AJ15: 31.5 | AK15: MACHAC | AL15: 23.4 | AM15: MEDVEDEV | AN15: 25.9 | AO15: MENSIK | AP15: 31.5 | AQ15: HURCKACZ | AR15: 0.5 | AS15: NAVA | AT15: 9.5 | AU15: MUSETTI | AV15: 31.1
E16: RUBLEV | F16: 24.3 | I16: SHEVCHENKO | J16: 3.1 | K16: TSITSIPAS | L16: 11.1 | M16: SHANG | N16: 3.4 | O16: SINNER | P16: 32 | Q16: SINNER | R16: 32 | S16: NORRIE | T16: 24.7 | U16: PAUL | V16: 30.4 | W16: SHANG | X16: 3.4 | Y16: MAJCHRAZAK | Z16: 7 | AC16: MOUTET | AD16: 25 | AE16: SINNER | AF16: 32 | AG16: SINNER | AH16: 32 | AI16: MUSETTI | AJ16: 31.1 | AK16: MEDVEDEV | AL16: 25.9 | AM16: MUSETTI | AN16: 31.1 | AO16: PAUL | AP16: 30.4 | AQ16: MEDVEDEV | AR16: 25.9 | AS16: SINNER | AT16: 32 | AU16: PAUL | AV16: 30.4
E17: SINNER | F17: 32 | I17: SINNER | J17: 32 | M17: SINNER | N17: 32 | O17: SONEGO | P17: 5 | S17: RUUD | T17: 29.9 | U17: SINNER | V17: 32 | W17: SHELTON | X17: 32.4 | Y17: MEDJEDOVIC | Z17: 4.6 | AC17: MUNAR | AD17: 6.3 | AE17: TIEN | AF17: 30.4 | AG17: WAWRINKA | AH17: 28 | AI17: NORRIE | AJ17: 24.7 | AK17: MUNAR | AL17: 6.3 | AM17: SINNER | AN17: 32 | AO17: SINNER | AP17: 32 | AQ17: MENSIK | AR17: 31.5 | AS17: THOMPSON | AT17: 6.5 | AU17: SINNER | AV17: 32
E18: TIEN | F18: 30.4 | M18: THOMPSON | N18: 6.5 | O18: TIAFOE | P18: 27.3 | S18: TSITSIPAS | T18: 11.1 | W18: SHEVCHENKO | X18: 3.1 | Y18: MENSIK | Z18: 31.5 | AC18: SINNER | AD18: 32 | AE18: ZHENG | AF18: 5 | AI18: SINNER | AJ18: 56 | AK18: SINNER | AL18: 32 | AM18: WAWRINKA | AN18: 28 | AO18: THOMPSON | AP18: 6.5 | AQ18: SHANG | AR18: 3.4 | AS18: VACHEROT | AT18: 29.7 | AU18: VACHEROT | AV18: 29.7
E19: VACHEROT | F19: 29.7 | W19: SINNER | X19: 32 | Y19: SINNER | Z19: 32 | AC19: TIAFOE | AD19: 27.3 | AI19: TIAFOE | AJ19: 27.3
Y20: VACHEROT | Z20: 29.7
F22: =SUM(F11:F21) -> 376.1 | J22: =SUM(J11:J21) -> 235.1 | L22: =SUM(L11:L21) -> 237.3 | N22: =SUM(N11:N21) -> 287.4 | P22: =SUM(P11:P21) -> 314.7 | R22: =SUM(R11:R21) -> 243 | T22: =SUM(T11:T21) -> 345.6 | V22: =SUM(V11:V21) -> 279.8 | X22: =SUM(X11:X21) -> 337.2 | Z22: =SUM(Z11:Z21) -> 381.9 | AB22: =SUM(AB11:AB21) -> 187.4 | AD22: =SUM(AD11:AD21) -> 378.3 | AF22: =SUM(AF11:AF21) -> 313.6 | AH22: =SUM(AH11:AH21) -> 280.2 | AJ22: =SUM(AJ11:AJ21) -> 398.8 | AL22: =SUM(AL11:AL21) -> 305.7 | AN22: =SUM(AN11:AN21) -> 369.1 | AP22: =SUM(AP11:AP21) -> 329.5 | AR22: =SUM(AR11:AR21) -> 275.6 | AT22: =SUM(AT11:AT21) -> 313.3 | AV22: =SUM(AV11:AV21) -> 330.6
E24: BUBLIK | F24: 26.3 | I24: ALCARAZ | J24: 32.5 | K24: ALCARAZ | L24: 32.5 | M24: ALCARAZ | N24: 32.5 | O24: BUBLIK | P24: 26.3 | Q24: BUBLIK | R24: 26.3 | S24: ALCARAZ | T24: 32.5 | U24: BUBLIK | V24: 26.3 | W24: BUBLIK | X24: 26.3 | Y24: ALCARAZ | Z24: 32.5 | AA24: DE MINAUR | AB24: 28.7 | AC24: ALCARAZ | AD24: 32.5 | AE24: ALCARAZ | AF24: 32.5 | AG24: BUBLIK | AH24: 26.3 | AI24: MAROZSAN | AJ24: 8.2 | AK24: DE MINAUR | AL24: 28.7 | AM24: BUBLIK | AN24: 26.3 | AO24: BUBLIK | AP24: 26.3 | AQ24: ALCARAZ | AR24: 32.5 | AS24: ALCARAZ | AT24: 32.5 | AU24: MEDVEDEV | AV24: 25.3
E25: MENSIK | F25: 28.6 | I25: MENSIK | J25: 28.6 | K25: PAUL | L25: 25 | M25: MEDVEDEV | N25: 25.3 | O25: MUSETTI | P25: 26.5 | Q25: MEDVEDEV | R25: 25.3 | S25: BUBLIK | T25: 26.3 | U25: MENSIK | V25: 28.6 | W25: MUSETTI | X25: 26.5 | Y25: DARDERI | Z25: 39.7 | AA25: SINNER | AB25: 23.4 | AC25: MACHAC | AD25: 8.4 | AE25: MUSETTI | AF25: 26.5 | AG25: DE MINAUR | AH25: 28.7 | AI25: MENSIK | AJ25: 28.6 | AK25: MACHAC | AL25: 8.4 | AM25: CILIC | AN25: 9.6 | AO25: MEDVEDEV | AP25: 25.3 | AQ25: MEDVEDEV | AR25: 25.3 | AS25: BUBLIK | AT25: 26.3 | AU25: MUSETTI | AV25: 26.5
E26: RUBLEV | F26: 5.6 | I26: SINNER | J26: 23.4 | K26: SINNER | L26: 23.4 | M26: SINNER | N26: 23.4 | O26: SINNER | P26: 23.4 | Q26: MENSIK | R26: 28.6 | S26: CILIC | T26: 9.6 | U26: PAUL | V26: 25 | W26: SHELTON | X26: 27.4 | Y26: MENSIK | Z26: 28.6 | AC26: MAROZSAN | AD26: 8.2 | AE26: SINNER | AF26: 23.4 | AG26: SINNER | AH26: 23.4 | AI26: MUSETTI | AJ26: 26.5 | AK26: MEDVEDEV | AL26: 25.3 | AM26: MEDVEDEV | AN26: 25.3 | AO26: MENSIK | AP26: 28.6 | AQ26: MENSIK | AR26: 28.6 | AS26: SINNER | AT26: 23.4 | AU26: PAUL | AV26: 25
E27: SINNER | F27: 23.4 | O27: TIAFOE | P27: 6.8 | Q27: SINNER | R27: 23.4 | S27: NORRIE | T27: 7 | U27: SINNER | V27: 23.4 | W27: SINNER | X27: 23.4 | Y27: SINNER | Z27: 23.4 | AC27: MOUTET | AD27: 2.5 | AE27: TIEN | AF27: 30.1 | AG27: WAWRINKA | AH27: 11.8 | AI27: NORRIE | AJ27: 7 | AK27: SINNER | AL27: 23.4 | AM27: MUSETTI | AN27: 26.5 | AO27: PAUL | AP27: 25 | AS27: VACHEROT | AT27: 8.3 | AU27: SINNER | AV27: 23.4
E28: TIEN | F28: 30.1 | S28: RUUD | T28: 24.5 | Y28: VACHEROT | Z28: 8.3 | AC28: SINNER | AD28: 23.4 | AI28: SINNER | AJ28: 23.4 | AM28: SINNER | AN28: 23.4 | AO28: SINNER | AP28: 23.4 | AU28: VACHEROT | AV28: 8.3
E29: VACHEROT | F29: 8.3 | AC29: TIAFOE | AD29: 6.8 | AI29: TIAFOE | AJ29: 6.8 | AM29: WAWRINKA | AN29: 11.8
F31: =SUM(F22:F30) -> 498.4 | J31: =SUM(J22:J30) -> 319.6 | L31: =SUM(L22:L30) -> 318.2 | N31: =SUM(N22:N30) -> 368.6 | P31: =SUM(P22:P30) -> 397.7 | R31: =SUM(R22:R30) -> 346.6 | T31: =SUM(T22:T30) -> 445.5 | V31: =SUM(V22:V30) -> 383.1 | X31: =SUM(X22:X30) -> 440.8 | Z31: =SUM(Z22:Z30) -> 514.4 | AB31: =SUM(AB22:AB30) -> 239.5 | AD31: =SUM(AD22:AD30) -> 460.1 | AF31: =SUM(AF22:AF30) -> 426.1 | AH31: =SUM(AH22:AH30) -> 370.4 | AJ31: =SUM(AJ22:AJ30) -> 499.3 | AL31: =SUM(AL22:AL30) -> 391.5 | AN31: =SUM(AN22:AN30) -> 492 | AP31: =SUM(AP22:AP30) -> 458.1 | AR31: =SUM(AR22:AR30) -> 362 | AT31: =SUM(AT22:AT30) -> 403.8 | AV31: =SUM(AV22:AV30) -> 439.1
E33: BUBLIK | F33: 0.6 | I33: ALCARAZ | J33: 26.6 | K33: ALCARAZ | L33: 26.6 | M33: ALCARAZ | N33: 26.6 | O33: BUBLIK | P33: 0.6 | Q33: BUBLIK | R33: 0.6 | S33: ALCARAZ | T33: 26.6 | U33: BUBLIK | V33: 0.6 | W33: BUBLIK | X33: 0.6 | Y33: ALCARAZ | Z33: 26.6 | AA33: DE MINAUR | AB33: 36.2 | AC33: ALCARAZ | AD33: 26.6 | AE33: ALCARAZ | AF33: 26.6 | AG33: BUBLIK | AH33: 0.6 | AI33: MENSIK | AJ33: 5 | AK33: DE MINAUR | AL33: 36.2 | AM33: BUBLIK | AN33: 0.6 | AO33: BUBLIK | AP33: 0.6 | AQ33: ALCARAZ | AR33: 26.6 | AS33: ALCARAZ | AT33: 26.6 | AU33: MEDVEDEV | AV33: -1
E34: MENSIK | F34: 5 | I34: MENSIK | J34: 5 | K34: PAUL | L34: 8.6 | M34: MEDVEDEV | N34: -1 | O34: MUSETTI | P34: 34.5 | Q34: MEDVEDEV | R34: -1 | S34: BUBLIK | T34: 0.6 | U34: MENSIK | V34: 5 | W34: MUSETTI | X34: 34.5 | Y34: DARDERI | Z34: 5.4 | AA34: SINNER | AB34: 29.6 | AC34: SINNER | AD34: 29.6 | AE34: MUSETTI | AF34: 34.5 | AG34: DE MINAUR | AH34: 36.2 | AI34: MUSETTI | AJ34: 34.5 | AK34: MEDVEDEV | AL34: -1 | AM34: MEDVEDEV | AN34: -1 | AO34: MEDVEDEV | AP34: -1 | AQ34: MEDVEDEV | AR34: -1 | AS34: BUBLIK | AT34: 0.6 | AU34: MUSETTI | AV34: 34.5
E35: SINNER | F35: 29.6 | I35: SINNER | J35: 29.6 | K35: SINNER | L35: 29.6 | M35: SINNER | N35: 29.6 | O35: SINNER | P35: 29.6 | Q35: MENSIK | R35: 5 | S35: RUUD | T35: 8.8 | U35: PAUL | V35: 8.6 | W35: SHELTON | X35: 25.8 | Y35: MENSIK | Z35: 5 | AE35: SINNER | AF35: 29.6 | AG35: SINNER | AH35: 66.6 | AI35: SINNER | AJ35: 29.6 | AK35: SINNER | AL35: 29.6 | AM35: MUSETTI | AN35: 34.5 | AO35: MENSIK | AP35: 5 | AQ35: MENSIK | AR35: 5 | AS35: SINNER | AT35: 29.6 | AU35: PAUL | AV35: 8.6
E36: TIEN | F36: 41.3 | Q36: SINNER | R36: 29.6 | U36: SINNER | V36: 29.6 | W36: SINNER | X36: 29.6 | Y36: SINNER | Z36: 29.6 | AE36: TIEN | AF36: 41.3 | AM36: SINNER | AN36: 29.6 | AO36: PAUL | AP36: 8.6 | AU36: SINNER | AV36: 29.6
AO37: SINNER | AP37: 29.6
F38: =SUM(F31:F37) -> 574.9 | J38: =SUM(J31:J37) -> 380.8 | L38: =SUM(L31:L37) -> 383 | N38: =SUM(N31:N37) -> 423.8 | P38: =SUM(P31:P37) -> 462.4 | R38: =SUM(R31:R37) -> 380.8 | T38: =SUM(T31:T37) -> 481.5 | V38: =SUM(V31:V37) -> 426.9 | X38: =SUM(X31:X37) -> 531.3 | Z38: =SUM(Z31:Z37) -> 581 | AB38: =SUM(AB31:AB37) -> 305.3 | AD38: =SUM(AD31:AD37) -> 516.3 | AF38: =SUM(AF31:AF37) -> 558.1 | AH38: =SUM(AH31:AH37) -> 473.8 | AJ38: =SUM(AJ31:AJ37) -> 568.4 | AL38: =SUM(AL31:AL37) -> 456.3 | AN38: =SUM(AN31:AN37) -> 555.7 | AP38: =SUM(AP31:AP37) -> 500.9 | AR38: =SUM(AR31:AR37) -> 392.6 | AT38: =SUM(AT31:AT37) -> 460.6 | AV38: =SUM(AV31:AV37) -> 510.8
E40: SINNER | F40: 28.6 | I40: ALCARAZ | J40: 32.2 | K40: ALCARAZ | L40: 32.2 | M40: ALCARAZ | N40: 80.5 | O40: MUSETTI | P40: 5 | Q40: SINNER | R40: 28.6 | S40: ALCARAZ | T40: 80.5 | U40: SINNER | V40: 28.6 | W40: MUSETTI | X40: 5 | Y40: ALCARAZ | Z40: 32.2 | AA40: DE MINAUR | AB40: 3.2 | AC40: ALCARAZ | AD40: 32.2 | AE40: ALCARAZ | AF40: 32.2 | AG40: DE MINAUR | AH40: 3.2 | AI40: MUSETTI | AJ40: 5 | AK40: DE MINAUR | AL40: 3.2 | AM40: MUSETTI | AN40: 12.5 | AO40: SINNER | AP40: 28.6 | AQ40: ALCARAZ | AR40: 32.2 | AS40: ALCARAZ | AT40: 32.2 | AU40: MUSETTI | AV40: 5
E41: TIEN | F41: 7.3 | I41: SINNER | J41: 71.5 | K41: SINNER | L41: 28.6 | M41: SINNER | N41: 28.6 | O41: SINNER | P41: 28.6 | W41: SHELTON | X41: 6.6 | Y41: SINNER | Z41: 28.6 | AA41: SINNER | AB41: 28.6 | AC41: SINNER | AD41: 28.6 | AE41: MUSETTI | AF41: 5 | AG41: SINNER | AH41: 28.6 | AI41: SINNER | AJ41: 28.6 | AK41: SINNER | AL41: 28.6 | AM41: SINNER | AN41: 28.6 | AS41: SINNER | AT41: 28.6 | AU41: SINNER | AV41: 71.5
W42: SINNER | X42: 28.6 | AE42: SINNER | AF42: 28.6
AE43: TIEN | AF43: 7.3
F45: =SUM(F38:F44) -> 610.8 | J45: =SUM(J38:J44) -> 484.5 | L45: =SUM(L38:L44) -> 443.8 | N45: =SUM(N38:N44) -> 532.9 | P45: =SUM(P38:P44) -> 496 | R45: =SUM(R38:R44) -> 409.4 | T45: =SUM(T38:T44) -> 562 | V45: =SUM(V38:V44) -> 455.5 | X45: =SUM(X38:X44) -> 571.5 | Z45: =SUM(Z38:Z44) -> 641.8 | AB45: =SUM(AB38:AB44) -> 337.1 | AD45: =SUM(AD38:AD44) -> 577.1 | AF45: =SUM(AF38:AF44) -> 631.2 | AH45: =SUM(AH38:AH44) -> 505.6 | AJ45: =SUM(AJ38:AJ44) -> 602 | AL45: =SUM(AL38:AL44) -> 488.1 | AN45: =SUM(AN38:AN44) -> 596.8 | AP45: =SUM(AP38:AP44) -> 529.5 | AR45: =SUM(AR38:AR44) -> 424.8 | AT45: =SUM(AT38:AT44) -> 521.4 | AV45: =SUM(AV38:AV44) -> 587.3
E47: SINNER | F47: -11.8 | I47: ALCARAZ | J47: 22.6 | K47: ALCARAZ | L47: 62.2 | M47: ALCARAZ | N47: 22.6 | Q47: SINNER | R47: -11.8 | S47: ALCARAZ | T47: 22.6 | U47: SINNER | V47: -11.8 | W47: SINNER | X47: -11.8 | Y47: ALCARAZ | Z47: 22.6 | AC47: ALCARAZ | AD47: 62.2 | AE47: ALCARAZ | AF47: 62.2 | AO47: SINNER | AP47: -4.3 | AQ47: ALCARAZ | AR47: 22.6 | AS47: ALCARAZ | AT47: 22.6
I48: SINNER | J48: -4.3 | K48: SINNER | L48: -4.3 | M48: SINNER | N48: -4.3 | O48: SINNER | P48: -4.3 | Y48: SINNER | Z48: -11.8 | AA48: SINNER | AB48: -11.8 | AC48: SINNER | AD48: -4.3 | AE48: SINNER | AF48: -4.3 | AG48: SINNER | AH48: -4.3 | AI48: SINNER | AJ48: -4.3 | AK48: SINNER | AL48: -4.3 | AM48: SINNER | AN48: -4.3 | AS48: SINNER | AT48: -11.8 | AU48: SINNER | AV48: -4.3
F52: =SUM(F45:F51) -> 599 | J52: =SUM(J45:J51) -> 502.8 | L52: =SUM(L45:L51) -> 501.7 | N52: =SUM(N45:N51) -> 551.2 | P52: =SUM(P45:P51) -> 491.7 | R52: =SUM(R45:R51) -> 397.6 | T52: =SUM(T45:T51) -> 584.6 | V52: =SUM(V45:V51) -> 443.7 | X52: =SUM(X45:X51) -> 559.7 | Z52: =SUM(Z45:Z51) -> 652.6 | AB52: =SUM(AB45:AB51) -> 325.3 | AD52: =SUM(AD45:AD51) -> 635 | AF52: =SUM(AF45:AF51) -> 689.1 | AH52: =SUM(AH45:AH51) -> 501.3 | AJ52: =SUM(AJ45:AJ51) -> 597.7 | AL52: =SUM(AL45:AL51) -> 483.8 | AN52: =SUM(AN45:AN51) -> 592.5 | AP52: =SUM(AP45:AP51) -> 525.2 | AR52: =SUM(AR45:AR51) -> 447.4 | AT52: =SUM(AT45:AT51) -> 532.2 | AV52: =SUM(AV45:AV51) -> 583
...

Sheet ALBO D'ORO
B1: SEDE | D1: VINCITORE 2023 | F1: VINCITORE 2024 | H1: VINCITORE 2025 | J1: VINCITORE 2026
A2: GS | B2: AUSTRALIAN OPEN | D2: CALIX | F2: UOLLANO | H2: CALIX | J2: NICOGIU79
A3: 500 | B3: DALLAS | H3: LUDOPIPPO | J3: PRE86
A4: 500 | B4: ROTTERDAM | D4: ALBE | F4: KOLLER22 | H4: THE QUEER | J4: RF FOREVER
A5: 500 | B5: DOHA | H5: LUPO1976 | J5: PRE86
A6: 500 | B6: RIO | D6: VAMOS4LA | F6: DIAVORIK | H6: KOLLER22 | J6: FOGLIA70
A7: 500 | B7: ACAPULCO | D7: VAMOS4LA | F7: KOLLER22 | H7: UOLLANO | J7: NICOGIU79
A8: 500 | B8: DUBAI | D8: RAFA66 | F8: THE QUEER | H8: GIANGIPOLI64 | J8: LUPO1976
A9: 1000 | B9: INDIAN WELLS | D9: VAMOS4LA | F9: UOLLANO | H9: JERRY | J9: RF FOREVER
A10: 1000 | B10: MIAMI | D10: CALIX | F10: FOGLIA70 | H10: MERIUS | J10: FICHINS
A11: 1000 | B11: MONTECARLO | D11: CALIX | F11: CALIX | H11: BIG BULL | J11: UOLLANO
A12: 500 | B12: BARCELLONA | D12: CALIX | F12: LUPO1976 | H12: MERIUS | J12: UOLLANO
A13: 500 | B13: MONACO | H13: MERIUS | J13: BIG BULL
A14: 1000 | B14: MADRID | D14: JERRY | F14: MARCOCICCIUS | H14: LUDOPIPPO | J14: LUPO1976
A15: 1000 | B15: ROMA | D15: TADDEUSTADDEI | F15: FOGLIA70 | H15: JERRY | J15: FOGLIA70
A16: 500 | B16: AMBURGO | D16: RAFA66 | F16: FOGLIA70/UOLLY | H16: RF FOREVER | J16: KOLLER22
A17: GS | B17: ROLAND GARROS | D17: LUPO1976 | F17: DIAVORIK | H17: UOLLANO | J17: RAFA66
A18: 500 | B18: HALLE | D18: TADDEUSTADDEI | F18: THE QUEER | H18: TADDEUSTADDEI | J18: DIAVORIK
A19: 500 | B19: LONDRA | D19: JERRY | F19: DIAVORIK | H19: KOLLER22 | J19: FICHINS
A20: GS | B20: WIMBLEDON | D20: VAMOS4LA | F20: DIAVORIK | H20: UOLLANO | J20: KOLLER22
B21: OLIMPIADI | F21: LUPO1976
A22: 500 | B22: WASHINGTON | D22: CALIX | F22: DIAVORIK | H22: RF FOREVER | J22: RAFA66
A23: 1000 | B23: CANADA | D23: JERRY | F23: ALBE | H23: NICOGIU79 | J23: JERRY
A24: 1000 | B24: CINCINNATI | D24: DIAVORIK | F24: LUPO1976 | H24: RAFA66
A25: GS | B25: US OPEN | D25: DIAVORIK | F25: DIAVORIK | H25: GIANGIPOLI64
A26: 500 | B26: TOKYO | D26: LUPO1976 | F26: DIAVORIK | H26: KOLLER22
A27: 500 | B27: PECHINO | D27: ALBE | F27: DIAVORIK | H27: KOLLER22
A28: 1000 | B28: SHANGHAI | D28: UOLLANO | F28: JERRY | H28: UOLLANO
A29: 500 | B29: BASILEA | D29: MERIUS | F29: UOLLANO | H29: THE QUEER
A30: 500 | B30: VIENNA | D30: UOLLANO | F30: TADDEUSTADDEI | H30: DIAVORIK
A31: 1000 | B31: PARIGI | D31: DIAVORIK | F31: LUPO1976 | H31: PRE86
B32: ATP FINALS | H32: RF FOREVER
A33: CLASSIFICA FINALE | D33: VAMOS4LA | F33: DIAVORIK | H33: DIAVORIK

Sheet PALMARES
B1: PALMARES
A5: ALBE08
B6: #VALUE! | C6: #VALUE! | D6: #VALUE! | E6: #VALUE! | F6: #VALUE! | G6: #VALUE! | H6: #VALUE! | I6: #VALUE!
B7: - | C7: - | D7: - | E7: - | F7: 1 | G7: 2 | H7: 2 | I7: -
F8: CANADA 24 | G8: ROTTERDAM 23 PECHINO 23 | H8: GSTAAD 26 KITZBUHEL 26
A9: ALY
B10: #VALUE! | C10: #VALUE! | D10: #VALUE! | E10: #VALUE! | F10: #VALUE! | G10: #VALUE! | H10: #VALUE! | I10: #VALUE!
B11: - | C11: - | D11: - | E11: - | F11: - | G11: - | H11: - | I11: -
A13: BIGBULL
B14: #VALUE! | C14: #VALUE! | D14: #VALUE! | E14: #VALUE! | F14: #VALUE! | G14: #VALUE! | H14: #VALUE! | I14: #VALUE!
B15: - | C15: - | D15: - | E15: - | F15: 1 | G15: 1 | H15: - | I15: -
F16: MONTECARLO 25 | G16: MONACO 26
A17: CALIX
B18: #VALUE! | C18: #VALUE! | D18: #VALUE! | E18: #VALUE! | F18: #VALUE! | G18: #VALUE! | H18: #VALUE! | I18: #VALUE!
B19: 2 | C19: - | D19: - | E19: - | F19: 3 | G19: 2 | H19: - | I19: -
B20: 2023 2025 | F20: MIAMI 23 MONTECARLO 23 MONTECARLO 24 | G20: BARCELLONA 23 WASHINGTON 23
A21: DIAVORIK
B22: #VALUE! | C22: #VALUE! | D22: #VALUE! | E22: #VALUE! | F22: #VALUE! | G22: #VALUE! | H22: #VALUE! | I22: #VALUE!
B23: - | C23: 1 | D23: 1 | E23: 2 | F23: 2 | G23: 7 | H23: 3 | I23: -
C24: 2024 | D24: 2024 | E24: 2023 2024 | F24: CINCINNATI 23 PARIGI 23 | G24: RIO 24 LONDRA 24 WASHINGTON 24 TOKYO 24 PECHINO 24 VIENNA 25 HALLE 26 | H24: BRISBANE 26 ADELAIDE 26 EASTBOURNE 26
A25: FICHINS
B26: #VALUE! | C26: #VALUE! | D26: #VALUE! | E26: #VALUE! | F26: #VALUE! | G26: #VALUE! | H26: #VALUE! | I26: #VALUE!
B27: - | C27: - | D27: - | E27: - | F27: 1 | G27: 1 | H27: - | I27: -
F28: MIAMI 26 | G28: LONDRA 26
A29: FOGLIA70
B30: #VALUE! | C30: #VALUE! | D30: #VALUE! | E30: #VALUE! | F30: #VALUE! | G30: #VALUE! | H30: #VALUE! | I30: #VALUE!
B31: - | C31: - | D31: - | E31: - | F31: 3 | G31: 2 | H31: 3 | I31: -
F32: MIAMI 24 ROMA 24 ROMA 26 | G32: AMBURGO 24 RIO 26 | H32: HONG KONG 26 AUCKLAND 26 B. AIRES 26
A33: GIANGIPOLI64
B34: #VALUE! | C34: #VALUE! | D34: #VALUE! | E34: #VALUE! | F34: #VALUE! | G34: #VALUE! | H34: #VALUE! | I34: #VALUE!
B35: - | C35: - | D35: - | E35: 1 | F35: - | G35: 1 | H35: - | I35: -
E36: 2025 | G36: DUBAI 25
A37: GUIDODENO
B38: #VALUE! | C38: #VALUE! | D38: #VALUE! | E38: #VALUE! | F38: #VALUE! | G38: #VALUE! | H38: #VALUE! | I38: #VALUE!
B39: - | C39: - | D39: - | E39: - | F39: - | G39: - | H39: 1 | I39: -
H40: LOS CABOS 26
A41: JERRY
B42: #VALUE! | C42: #VALUE! | D42: #VALUE! | E42: #VALUE! | F42: #VALUE! | G42: #VALUE! | H42: #VALUE! | I42: #VALUE!
B43: - | C43: - | D43: - | E43: - | F43: 6 | G43: 1 | H43: 3 | I43: -
F44: MADRID 23 CANADA 23 SHANGAI 24 INDIAN WELLS 24 ROMA 25 CANADA 26 | G44: LONDRA 23 | H44: MONTPELLIER 26 DELRAY B. 26 HOUSTON 26
...

Sheet ANAGRAFICA
A1: PARTECIPANTI | C1: MAIL | D1: TELEFONO | E1: NOME | F1: SODALE | G1: QUOTA | H1: VINCITE | I1: CREDITO
A3: ALBERTO | B3: CIAPERONI | C3: albeci66@gmail.com | D3: 3458915098 | E3: ALBE08 | F3: dalmy | G3: -60 | J3: =SUM(G3:I3) -> -60 | L3: CALIX
A4: ALICE | B4: CORIGLIANO | E4: ALY | F4: dalmy | G4: -20 | J4: =SUM(G4:I4) -> -20 | L4: RICKY
A5: FABIO | B5: CAFARO | C5: fabio.cafaro@gmail.com | D5: 3356515680 | E5: BIGBULL | G5: -60 | H5: 15 | J5: =SUM(G5:I5) -> -45
A6: DAVIDE | B6: DALMIGLIO | C6: dd_davide@yahoo.it | D6: 3358473054 | E6: CALIX | G6: -60 | H6: 15 | J6: =SUM(G6:I6) -> -45
A7: RICCARDO | B7: MERIGGIOLI | C7: mericcardo@gmail.com | D7: 3482653126 | E7: DIAVORIK | G7: -60 | H7: 22.5 | J7: =SUM(G7:I7) -> -37.5
A8: EMILIANO | B8: FORESI | D8: 3737192309 | E8: FICHINS | F8: ricky | G8: -60 | H8: 30 | J8: =SUM(G8:I8) -> -30 | L8: RF FOREVER
A9: ANDREA | B9: FOGLIANI | C9: foglianiandrea70@gmail.com | D9: 3482951246 | E9: FOGLIA70 | F9: ricky | G9: -60 | H9: 30 | I9: 10 | J9: =SUM(G9:I9) -> -20
A10: GIANGI | B10: RANZINI | C10: gl.ranzini@gmail.com | D10: 3387891571 | E10: GIANGIPOLI64 | G10: -60 | H10: 10 | J10: =SUM(G10:I10) -> -50
A11: GUIDO | B11: DE NOVELLIS | D11: 3601082190 | E11: GUIDODENO | G11: -60 | H11: 5 | J11: =SUM(G11:I11) -> -55 | L11: ALBE08
A12: GERMANO | B12: PIANEZZI | C12: germano.pianezzi@gmail.com | D12: 3925623554 | E12: JERRY | F12: dalmy | G12: -60 | H12: 25 | I12: -5 | J12: =SUM(G12:I12) -> -40 | L12: ALBE08
A13: MARCO | B13: MONTAGNANI | C13: mmontagnanimarelli@gmail.com | D13: 3395237564 | E13: KOLLER22 | G13: -60 | H13: 77.5 | J13: =SUM(G13:I13) -> 17.5
A14: PAOLO | B14: VIMERCATI | C14: paivime@gmail.com | D14: 3356099479 | E14: LUDOPIPPO | F14: forly | G14: -60 | J14: =SUM(G14:I14) -> -60
A15: CHRISTIAN | B15: INVITTI | C15: chinvitti@gmail.com | D15: 3388330914 | E15: LUPO1976 | F15: forly | G15: -60 | H15: 65 | J15: =SUM(G15:I15) -> 5 | L15: FORLY
A16: GIUSEPPE | B16: NICOLOSI | D16: 3493703479 | E16: NICOGIU79 | G16: -60 | H16: 50 | J16: =SUM(G16:I16) -> -10 | L16: ALBE08
A17: MAURO | D17: 3356514644 | E17: POTTI POTTI | G17: -60 | J17: =SUM(G17:I17) -> -60
A18: ALESSANDRO | B18: PRESTI | D18: 3895752289 | E18: PRE86 | G18: -60 | H18: 30 | J18: =SUM(G18:I18) -> -30 | L18: ALBE08
A19: DOMENICO | B19: DE ANGELIS | C19: dome1566@gmail.com | D19: 3475840960 | E19: RAFA66 | G19: -60 | H19: 75 | J19: =SUM(G19:I19) -> 15
A20: GIAMPIERO | B20: PATRIZI | D20: 3483109274 | E20: RF FOREVER | F20: dalmy | G20: -60 | H20: 55 | J20: =SUM(G20:I20) -> -5 | L20: MC
A21: TADDEUS | B21: COSTARELLI | C21: mcostarelli@outlook.com | D21: 3395098877 | E21: TADDEUSTADDEI | G21: -60 | H21: 5 | J21: =SUM(G21:I21) -> -55 | L21: RICKY
A22: MAURO | B22: CRISTINA | C22: ideadilisa@gmail.com | D22: 3355305631 | E22: THE QUEER | G22: -60 | H22: 10 | J22: =SUM(G22:I22) -> -50
A23: PIERO | B23: GRANTALIANO | C23: uollano2@yahoo.com | D23: 3355356334 | E23: UOLLANO | G23: -60 | H23: 40 | J23: =SUM(G23:I23) -> -20
A24: STEFANO | B24: FORLANI | C24: stiv4lani@gmail.com | D24: 3357192264 | E24: VAMOS4LA | G24: -60 | J24: =SUM(G24:I24) -> -60
G26: =SUM(G4:G25) -> -1220 | H26: 860 | I26: =-(SUM(G26:H26)) -> 360 | J26: MONTEPREMI FINALE
A27: codice lega
I28: =I26*0.6 -> 216 | J28: 1° CLASSIFICATO
A29: 664626 | I29: =I26*0.3 -> 108 | J29: 2° CLASSIFICATO
I30: =I26*0.1 -> 36 | J30: 3° CLASSIFICATO
