Workbook

Sheet CLASSIFICA
A1: MALLORCA | E1: CLASSIFICA GENERALE
A3: THEQUEER | B3: =PUNTI!O16 -> 449 | E3: DIAVORIK | F3: =PUNTI!G34 -> 5602.9 | G3: =
A4: GUIDODENO | B4: =PUNTI!I16 -> 433.2 | E4: FOGLIA70 | F4: =PUNTI!H34 -> 5173.2 | G4: =
A5: RF FOREVER | B5: =PUNTI!N16 -> 416.6 | E5: KOLLER22 | F5: =PUNTI!K34 -> 5009.4 | G5: =
A6: ALBE08 | B6: =PUNTI!D16 -> 371.4 | E6: BIG BULL | F6: =PUNTI!E34 -> 4959 | G6: +1
A7: FOGLIA70 | B7: =PUNTI!H16 -> 363.1 | E7: RF FOREVER | F7: =PUNTI!N34 -> 4943.4 | G7: +2
A8: CALIX | B8: =PUNTI!F16 -> 341.2 | E8: JERRY | F8: =PUNTI!J34 -> 4916.9 | G8: -2
A9: RAFA66 | B9: =PUNTI!M16 -> 333.2 | E9: RAFA66 | F9: =PUNTI!M34 -> 4802.2 | G9: +3
A10: JERRY | B10: =PUNTI!J16 -> 325.8 | E10: THEQUEER | F10: =PUNTI!O34 -> 4801.6 | G10: -2
A11: BIG BULL | B11: =PUNTI!E16 -> 311.2 | E11: CALIX | F11: =PUNTI!F34 -> 4770 | G11: -1
A12: DIAVORIK | B12: =PUNTI!G16 -> 302.6 | E12: ALBE08 | F12: =PUNTI!D34 -> 4675.2 | G12: -1
A13: UOLLANO | B13: =PUNTI!P16 -> 286.9 | E13: GUIDODENO | F13: =PUNTI!I34 -> 4669.6 | G13: =
A14: KOLLER22 | B14: =PUNTI!K16 -> 283.9 | E14: UOLLANO | F14: =PUNTI!P34 -> 4493.1 | G14: =
A15: LUDOPIPPO | B15: =PUNTI!L16 -> 0 | E15: VAMOS4LA | F15: =PUNTI!Q34 -> 3994 | G15: =
A16: VAMOS4LA | B16: =PUNTI!Q16 -> 0 | E16: LUDOPIPPO | F16: =PUNTI!L34 -> 3750.7 | G16: =
A18: EASTBOURNE
A20: DIAVORIK | B20: =PUNTI!G17 -> 442.1
A21: BIG BULL | B21: =PUNTI!E17 -> 433.3
A22: KOLLER22 | B22: =PUNTI!K17 -> 401.8
A23: RAFA66 | B23: =PUNTI!M17 -> 382
A24: RF FOREVER | B24: =PUNTI!N17 -> 368.3
A25: GUIDODENO | B25: =PUNTI!I17 -> 363.8
A26: UOLLANO | B26: =PUNTI!P17 -> 325.2
A27: LUDOPIPPO | B27: =PUNTI!L17 -> 320.9
A28: CALIX | B28: =PUNTI!F17 -> 285.3
A29: JERRY | B29: =PUNTI!J17 -> 284.3
A30: ALBE08 | B30: =PUNTI!D17 -> 201.1
A31: FOGLIA70 | B31: =PUNTI!H17 -> 177.4
A32: VAMOS4LA | B32: =PUNTI!Q17 -> 167
A33: THEQUEER | B33: =PUNTI!O17 -> 156.1

Sheet PUNTI
A1: DATA | B1: SEDE | D1: ALBE08 | E1: BIG BULL | F1: CALIX | G1: DIAVORIK | H1: FOGLIA70 | I1: GUIDODENO | J1: JERRY | K1: KOLLER22 | L1: LUDOPIPPO | M1: RAFA66 | N1: RF FOREVER | O1: THEQUEER | P1: UOLLANO | Q1: VAMOS4LA
A2: 46027 | B2: BRISBANE | D2: =TORNEI!E31 -> 249.4 | E2: =TORNEI!G31 -> 343.1 | F2: =TORNEI!I31 -> 126 | G2: =TORNEI!K31 -> 375.7 | H2: =TORNEI!M31 -> 292.1 | I2: =TORNEI!O31 -> 281.2 | J2: =TORNEI!Q31 -> 145.8 | K2: =TORNEI!S31 -> 207.1 | L2: =TORNEI!U31 -> 124.8 | M2: =TORNEI!W31 -> 120.7 | N2: =TORNEI!Y31 -> 94.8 | O2: =TORNEI!AA31 -> 280.6 | P2: =TORNEI!AC31 -> 68.8 | Q2: =TORNEI!AE31 -> 305.1
A3: 46027 | B3: HONG KONG | D3: =TORNEI!E68 -> 381.5 | E3: =TORNEI!G68 -> 205.3 | F3: =TORNEI!I68 -> 318.5 | G3: =TORNEI!K68 -> 363.9 | H3: =TORNEI!M68 -> 430.7 | I3: =TORNEI!O68 -> 335.5 | J3: =TORNEI!Q68 -> 181.2 | K3: =TORNEI!S68 -> 417.4 | L3: =TORNEI!U68 -> 256.8 | M3: =TORNEI!W68 -> 287.3 | N3: =TORNEI!Y68 -> 332 | O3: =TORNEI!AA68 -> 311.3 | P3: =TORNEI!AC68 -> 373.2 | Q3: =TORNEI!AE68 -> 267.2
A4: 46034 | B4: ADELAIDE | D4: =TORNEI!E107 -> 454.4 | E4: =TORNEI!G107 -> 413.9 | F4: =TORNEI!I107 -> 224.3 | G4: =TORNEI!K107 -> 525.6 | H4: =TORNEI!M107 -> 182.9 | I4: =TORNEI!O107 -> 371.3 | J4: =TORNEI!Q107 -> 330.3 | K4: =TORNEI!S107 -> 385.5 | L4: =TORNEI!U107 -> 0 | M4: =TORNEI!W107 -> 324.6 | N4: =TORNEI!Y107 -> 399.1 | O4: =TORNEI!AA107 -> 376.4 | P4: =TORNEI!AC107 -> 500.5 | Q4: =TORNEI!AE107 -> 375.8
A5: 46034 | B5: AUCKLAND | D5: =TORNEI!E141 -> 133.3 | E5: =TORNEI!G141 -> 299.2 | F5: =TORNEI!I141 -> 119.6 | G5: =TORNEI!K141 -> 191.6 | H5: =TORNEI!M141 -> 370.2 | I5: =TORNEI!O141 -> 193.4 | J5: =TORNEI!Q141 -> 130.2 | K5: =TORNEI!S141 -> 174.6 | L5: =TORNEI!U141 -> 0 | M5: =TORNEI!W141 -> 166.2 | N5: =TORNEI!Y141 -> 343.5 | O5: =TORNEI!AA141 -> 146.9 | P5: =TORNEI!AC141 -> 162.8 | Q5: =TORNEI!AE141 -> 217
A6: 46055 | B6: MONTPELLIER | D6: =TORNEI!E177 -> 251.5 | E6: =TORNEI!G177 -> 184.8 | F6: =TORNEI!I177 -> 285.9 | G6: =TORNEI!K177 -> 270.4 | H6: =TORNEI!M177 -> 225.8 | I6: =TORNEI!O177 -> 260.7 | J6: =TORNEI!Q177 -> 392.9 | K6: =TORNEI!S177 -> 251.3 | L6: =TORNEI!U177 -> 157.1 | M6: =TORNEI!W177 -> 219.3 | N6: =TORNEI!Y177 -> 259.9 | O6: =TORNEI!AA177 -> 279.7 | P6: =TORNEI!AC177 -> 145.8 | Q6: =TORNEI!AE177 -> 158.1
A7: 46062 | B7: BUENOS AIRES | D7: =TORNEI!E217 -> 378.7 | E7: =TORNEI!G217 -> 380.6 | F7: =TORNEI!I217 -> 411.6 | G7: =TORNEI!K217 -> 481.2 | H7: =TORNEI!M217 -> 584 | I7: =TORNEI!O217 -> 490.9 | J7: =TORNEI!Q217 -> 452.6 | K7: =TORNEI!S217 -> 427 | L7: =TORNEI!U217 -> 488.6 | M7: =TORNEI!W217 -> 378.7 | N7: =TORNEI!Y217 -> 413.8 | O7: =TORNEI!AA217 -> 435.7 | P7: =TORNEI!AC217 -> 401.6 | Q7: =TORNEI!AE217 -> 470.8
A8: 46069 | B8: DELRAY BEACH | D8: =TORNEI!E255 -> 207.9 | E8: =TORNEI!G255 -> 272.9 | F8: =TORNEI!I255 -> 254.1 | G8: =TORNEI!K255 -> 498.3 | H8: =TORNEI!M255 -> 499.8 | I8: =TORNEI!O255 -> 212.2 | J8: =TORNEI!Q255 -> 529.7 | K8: =TORNEI!S255 -> 260.5 | L8: =TORNEI!U255 -> 286.2 | M8: =TORNEI!W255 -> 442 | N8: =TORNEI!Y255 -> 322.5 | O8: =TORNEI!AA255 -> 190.4 | P8: =TORNEI!AC255 -> 479.6 | Q8: =TORNEI!AE255 -> 294.4
A9: 46076 | B9: SANTIAGO | D9: =TORNEI!E292 -> 393.6 | E9: =TORNEI!G292 -> 320.1 | F9: =TORNEI!I292 -> 359.2 | G9: =TORNEI!K292 -> 333.4 | H9: =TORNEI!M292 -> 230.4 | I9: =TORNEI!O292 -> 299.4 | J9: =TORNEI!Q292 -> 334.8 | K9: =TORNEI!S292 -> 371.6 | L9: =TORNEI!U292 -> 301.6 | M9: =TORNEI!W292 -> 227.5 | N9: =TORNEI!Y292 -> 389.7 | O9: =TORNEI!AA292 -> 406.6 | P9: =TORNEI!AC292 -> 348.4 | Q9: =TORNEI!AE292 -> 366.9
A10: 46111 | B10: BUCAREST | D10: =TORNEI!E327 -> 330.9 | E10: =TORNEI!G327 -> 210.2 | F10: =TORNEI!I327 -> 311.8 | G10: =TORNEI!K327 -> 370.5 | H10: =TORNEI!M327 -> 227.8 | I10: =TORNEI!O327 -> 241.7 | J10: =TORNEI!Q327 -> 279.6 | K10: =TORNEI!S327 -> 368.5 | L10: =TORNEI!U327 -> 282.6 | M10: =TORNEI!W327 -> 327.4 | N10: =TORNEI!Y327 -> 143.2 | O10: =TORNEI!AA327 -> 290.1 | P10: =TORNEI!AC327 -> 372.9 | Q10: =TORNEI!AE327 -> 406.2
A11: 46111 | B11: MARRAKECH | D11: =TORNEI!E361 -> 154.6 | E11: =TORNEI!G361 -> 134.9 | F11: =TORNEI!I361 -> 193.2 | G11: =TORNEI!K361 -> 158 | H11: =TORNEI!M361 -> 244.1 | I11: =TORNEI!O361 -> 169.7 | J11: =TORNEI!Q361 -> 156.1 | K11: =TORNEI!S361 -> 156.5 | L11: =TORNEI!U361 -> 277.6 | M11: =TORNEI!W361 -> 195.7 | N11: =TORNEI!Y361 -> 115.3 | O11: =TORNEI!AA361 -> 158 | P11: =TORNEI!AC361 -> 100.3 | Q11: =TORNEI!AE361 -> 102.9
A12: 46111 | B12: HOUSTON | D12: =TORNEI!E396 -> 311.1 | E12: =TORNEI!G396 -> 371.4 | F12: =TORNEI!I396 -> 322.9 | G12: =TORNEI!K396 -> 377.8 | H12: =TORNEI!M396 -> 301.3 | I12: =TORNEI!O396 -> 194.7 | J12: =TORNEI!Q396 -> 394.6 | K12: =TORNEI!S396 -> 314.4 | L12: =TORNEI!U396 -> 261.7 | M12: =TORNEI!W396 -> 223.4 | N12: =TORNEI!Y396 -> 324 | O12: =TORNEI!AA396 -> 345.1 | P12: =TORNEI!AC396 -> 217.4 | Q12: =TORNEI!AE396 -> 258.4
A13: 46159 | B13: GENEVA | D13: =TORNEI!E435 -> 305 | E13: =TORNEI!G435 -> 320.5 | F13: =TORNEI!I435 -> 434.4 | G13: =TORNEI!K435 -> 346.1 | H13: =TORNEI!M435 -> 440.4 | I13: =TORNEI!O435 -> 441.1 | J13: =TORNEI!Q435 -> 412.4 | K13: =TORNEI!S435 -> 312.5 | L13: =TORNEI!U435 -> 476.9 | M13: =TORNEI!W435 -> 315 | N13: =TORNEI!Y435 -> 487.3 | O13: =TORNEI!AA435 -> 374.9 | P13: =TORNEI!AC435 -> 176.8 | Q13: =TORNEI!AE435 -> 254.4
A14: 46181 | B14: STUTTGART | D14: =TORNEI!E472 -> 240.9 | E14: =TORNEI!G472 -> 377.2 | F14: =TORNEI!I472 -> 384.2 | G14: =TORNEI!K472 -> 353.2 | H14: =TORNEI!M472 -> 307.8 | I14: =TORNEI!O472 -> 228.2 | J14: =TORNEI!Q472 -> 362.9 | K14: =TORNEI!S472 -> 312 | L14: =TORNEI!U472 -> 292 | M14: =TORNEI!W472 -> 403.4 | N14: =TORNEI!Y472 -> 310.6 | O14: =TORNEI!AA472 -> 391.4 | P14: =TORNEI!AC472 -> 334.5 | Q14: =TORNEI!AE472 -> 278.8
A15: 46181 | B15: S'HERTONGENBOSH | D15: =TORNEI!E509 -> 309.9 | E15: =TORNEI!G509 -> 380.4 | F15: =TORNEI!I509 -> 397.8 | G15: =TORNEI!K509 -> 212.5 | H15: =TORNEI!M509 -> 295.4 | I15: =TORNEI!O509 -> 152.6 | J15: =TORNEI!Q509 -> 203.7 | K15: =TORNEI!S509 -> 364.8 | L15: =TORNEI!U509 -> 223.9 | M15: =TORNEI!W509 -> 455.8 | N15: =TORNEI!Y509 -> 222.8 | O15: =TORNEI!AA509 -> 209.4 | P15: =TORNEI!AC509 -> 198.4 | Q15: =TORNEI!AE509 -> 71
A16: 46194 | B16: MALLORCA | D16: =TORNEI!E545 -> 371.4 | E16: =TORNEI!G545 -> 311.2 | F16: =TORNEI!I545 -> 341.2 | G16: =TORNEI!K545 -> 302.6 | H16: =TORNEI!M545 -> 363.1 | I16: =TORNEI!O545 -> 433.2 | J16: =TORNEI!Q545 -> 325.8 | K16: =TORNEI!S545 -> 283.9 | L16: =TORNEI!U545 -> 0 | M16: =TORNEI!W545 -> 333.2 | N16: =TORNEI!Y545 -> 416.6 | O16: =TORNEI!AA545 -> 449 | P16: =TORNEI!AC545 -> 286.9 | Q16: =TORNEI!AE545 -> 0
A17: 46195 | B17: EASTBOURNE | D17: =TORNEI!E583 -> 201.1 | E17: =TORNEI!G583 -> 433.3 | F17: =TORNEI!I583 -> 285.3 | G17: =TORNEI!K583 -> 442.1 | H17: =TORNEI!M583 -> 177.4 | I17: =TORNEI!O583 -> 363.8 | J17: =TORNEI!Q583 -> 284.3 | K17: =TORNEI!S583 -> 401.8 | L17: =TORNEI!U583 -> 320.9 | M17: =TORNEI!W583 -> 382 | N17: =TORNEI!Y583 -> 368.3 | O17: =TORNEI!AA583 -> 156.1 | P17: =TORNEI!AC583 -> 325.2 | Q17: =TORNEI!AE583 -> 167
A18: 46216 | B18: GSTAAD
A19: 46216 | B19: BASTAD
A20: 46216 | B20: UMAG
A21: 46223 | B21: KITZBUHEL
A22: 46223 | B22: ESTORIL
A23: 46230 | B23: LOS CABOS
A24: 46257 | B24: WINSTON-SALEM
A25: 46288 | B25: HANGZHOU
A26: 46288 | B26: CHENGDU
A27: 46314 | B27: ALMATY
A28: 46314 | B28: BRUSSELS
A29: 46314 | B29: MARSEILLE
... A32: 46334 | B32: STOCKHOLM
B34: TOTALE | D34: =SUM(D2:D32) -> 4675.2 | E34: =SUM(E2:E32) -> 4959 | F34: =SUM(F2:F32) -> 4770 | G34: =SUM(G2:G32) -> 5602.9 | H34: =SUM(H2:H32) -> 5173.2 | I34: =SUM(I2:I32) -> 4669.6 | J34: =SUM(J2:J32) -> 4916.9 | K34: =SUM(K2:K32) -> 5009.4 | ... Q34: =SUM(Q2:Q32) -> 3994

Sheet TORNEI
A1: DATA | B1: SEDE | D1: ALBE08 | F1: BIG BULL | H1: CALIX | J1: DIAVORIK | L1: FOGLIA70 | N1: GUIDODENO | P1: JERRY | R1: KOLLER22 | T1: LUDOPIPPO | V1: RAFA66 | X1: RF FOREVER | Z1: THEQUEER | AB1: UOLLANO | AD1: VAMOS4LA
A2: 46027 | B2: BRISBANE | D2: NAKASHIMA | E2: 33 | F2: KOVACEVIC | G2: 31.1 | H2: CARABELLI | I2: 8.4 | J2: DIMITROV | K2: 32.8 | L2: DIMITROV | M2: 32.8 | N2: FOKINA | O2: 6.5 | P2: DIMITROV | Q2: 32.8 | R2: FOKINA | S2: 6.5 | T2: LEHECKA | U2: 26.6 | V2: DIMITROV | W2: 32.8 | X2: DIMITROV | Y2: 32.8 | Z2: CARABELLI | AA2: 8.4 | AB2: ALTMAIER | AC2: 3.3 | AD2: DIMITROV | AE2: 32.8
D3: NORRIE | E3: 24.6 | F3: KYRGIOS | G3: 5.8 | H3: FOKINA | I3: 6.5 | J3: KORDA | K3: 28.8 | L3: HUMBERT | M3: 12 | N3: KOVACEVIC | O3: 31.1 | P3: LEHECKA | Q3: 26.6 | R3: KOVACEVIC | S3: 31.1 | T3: NORRIE | U3: 24.6 | V3: FOKINA | W3: 6.5 | X3: FOKINA | Y3: 6.5 | Z3: DIMITROV | AA3: 32.8 | AB3: FOKINA | AC3: 6.5 | AD3: HUMBERT | AE3: 12
D4: PAUL | E4: 10 | F4: MEDVEDEV | G4: 32.5 | H4: KORDA | I4: 28.8 | J4: MEDVEDEV | K4: 32.5 | L4: MEDVEDEV | M4: 32.5 | N4: MICHELSEN | O4: 25.7 | P4: NORRIE | Q4: 24.6 | R4: NORRIE | S4: 24.6 | T4: PAUL | U4: 10 | V4: HUMBERT | W4: 12 | X4: PAUL | Y4: 10 | Z4: MEDVEDEV | AA4: 32.5 | AB4: HUMBERT | AC4: 12 | AD4: MEDVEDEV | AE4: 32.5
D5: SHAPOVALOV | E5: 3.3 | F5: NORRIE | G5: 24.6 | H5: NORRIE | I5: 24.6 | J5: NORRIE | K5: 24.6 | L5: PAUL | M5: 10 | N5: NORRIE | O5: 24.6 | P5: PAUL | Q5: 10 | R5: PAUL | S5: 10 | T5: SHAPOVALOV | U5: 3.3 | V5: LEHECKA | W5: 26.6 | X5: SHAPOVALOV | Y5: 3.3 | Z5: PAUL | AA5: 10 | AB5: PAUL | AC5: 10 | AD5: PAUL | AE5: 10
D6: TIEN | E6: 27 | F6: PAUL | G6: 10 | H6: PAUL | I6: 10 | J6: POPYRIN | K6: 7.7 | L6: POPYRIN | M6: 7.7 | N6: PAUL | O6: 10 | P6: SHAPOVALOV | Q6: 3.3 | R6: SHAPOVALOV | S6: 3.3 | T6: TIAFOE | U6: 34.8 | V6: SHAPOVALOV | W6: 3.3 | X6: TIEN | Y6: 27 | Z6: POPYRIN | AA6: 7.7 | AB6: TIEN | AC6: 27 | AD6: POPYRIN | AE6: 7.7
D7: VACHEROT | E7: 7.7 | F7: SHAPOVALOV | G7: 3.3 | H7: SHAPOVALOV | I7: 3.3 | J7: TIEN | K7: 27 | L7: TIEN | M7: 27 | N7: SHAPOVALOV | O7: 3.3 | P7: TIEN | Q7: 27 | R7: TIEN | S7: 27 | T7: VACHEROT | U7: 7.7 | V7: TIEN | W7: 27 | X7: VACHEROT | Y7: 7.7 | Z7: SHAPOVALOV | AA7: 3.3 | AB7: VACHEROT | AC7: 7.7 | AD7: TIEN | AE7: 27
E9: =SUM(E2:E7) -> 105.6 | G9: =SUM(G2:G7) -> 107.3 | I9: =SUM(I2:I7) -> 81.6 | K9: =SUM(K2:K7) -> 153.4 | M9: =SUM(M2:M7) -> 122 | O9: =SUM(O2:O7) -> 101.2 | Q9: =SUM(Q2:Q7) -> 124.3 | S9: =SUM(S2:S7) -> 102.5 | U9: =SUM(U2:U7) -> 107 | W9: =SUM(W2:W7) -> 108.2 | Y9: =SUM(Y2:Y7) -> 87.3 | AA9: =SUM(AA2:AA7) -> 94.7 | AC9: =SUM(AC2:AC7) -> 66.5 | AE9: =SUM(AE2:AE7) -> 122
D11: NAKASHIMA | E11: 31.7 | F11: KOVACEVIC | G11: 28.9 | H11: KORDA | I11: 25 | J11: DIMITROV | K11: 5.2 | L11: DIMITROV | M11: 5.2 | N11: KOVACEVIC | O11: 28.9 | P11: LEHECKA | Q11: 5 | R11: KOVACEVIC | S11: 28.9 | T11: LEHECKA | U11: 5 | V11: DIMITROV | W11: 5.2 | X11: DIMITROV | Y11: 5.2 | Z11: DIMITROV | AA11: 5.2 | AB11: TIEN | AC11: 2.3 | AD11: DIMITROV | AE11: 5.2
D12: NORRIE | E12: 9 | F12: MEDVEDEV | G12: 56.2 | H12: NORRIE | I12: 9 | J12: KORDA | K12: 25 | L12: MEDVEDEV | M12: 32.1 | N12: MICHELSEN | O12: 37.6 | P12: NORRIE | Q12: 9 | R12: NORRIE | S12: 9 | T12: NORRIE | U12: 9 | V12: LEHECKA | W12: 5 | X12: TIEN | Y12: 2.3 | Z12: MEDVEDEV | AA12: 32.1 | AD12: MEDVEDEV | AE12: 32.1
D13: TIEN | E13: 2.3 | F13: NORRIE | G13: 9 | J13: MEDVEDEV | K13: 32.1 | L13: TIEN | M13: 2.3 | N13: NORRIE | O13: 9 | P13: DIMITROV | Q13: 5.2 | R13: TIEN | S13: 2.3 | T13: TIAFOE | U13: 3.8 | V13: TIEN | W13: 2.3 | AD13: TIEN | AE13: 2.3
J14: NORRIE | K14: 9 | P14: TIEN | Q14: 2.3
J15: TIEN | K15: 2.3
E17: =SUM(E9:E16) -> 148.6 | G17: =SUM(G9:G16) -> 201.4 | I17: =SUM(I9:I16) -> 115.6 | K17: =SUM(K9:K16) -> 227 | M17: =SUM(M9:M16) -> 161.6 | O17: =SUM(O9:O16) -> 176.7 | Q17: =SUM(Q9:Q16) -> 145.8 | S17: =SUM(S9:S16) -> 142.7 | U17: =SUM(U9:U16) -> 124.8 | W17: =SUM(W9:W16) -> 120.7 | Y17: =SUM(Y9:Y16) -> 94.8 | AA17: =SUM(AA9:AA16) -> 132 | AC17: =SUM(AC9:AC16) -> 68.8 | AE17: =SUM(AE9:AE16) -> 161.6
D19: NAKASHIMA | E19: 32.6 | F19: KOVACEVIC | G19: 27.8 | H19: KORDA | I19: 10.4 | J19: KORDA | K19: 5.2 | L19: MEDVEDEV | M19: 50.8 | N19: KOVACEVIC | O19: 55.6 | R19: KOVACEVIC | S19: 55.6 | Z19: MEDVEDEV | AA19: 25.4 | AD19: MEDVEDEV | AE19: 25.4
F20: MEDVEDEV | G20: 25.4 | J20: MEDVEDEV | K20: 25.4 | N20: MICHELSEN | O20: 35.1
E22: =SUM(E17:E21) -> 181.2 | G22: =SUM(G17:G21) -> 254.6 | I22: =SUM(I17:I21) -> 126 | K22: =SUM(K17:K21) -> 257.6 | M22: =SUM(M17:M21) -> 212.4 | O22: =SUM(O17:O21) -> 267.4 | Q22: =SUM(Q17:Q21) -> 145.8 | S22: =SUM(S17:S21) -> 198.3 | U22: =SUM(U17:U21) -> 124.8 | W22: =SUM(W17:W21) -> 120.7 | Y22: =SUM(Y17:Y21) -> 94.8 | AA22: =SUM(AA17:AA21) -> 157.4 | AC22: =SUM(AC17:AC21) -> 68.8 | AE22: =SUM(AE17:AE21) -> 187
D24: NAKASHIMA | E24: 61.4 | F24: KOVACEVIC | G24: 8.8 | J24: MEDVEDEV | K24: 69.1 | L24: MEDVEDEV | M24: 30.7 | N24: KOVACEVIC | O24: 8.8 | R24: KOVACEVIC | S24: 8.8 | Z24: MEDVEDEV | AA24: 30.7 | AD24: MEDVEDEV | AE24: 69.1
F25: MEDVEDEV | G25: 30.7 | N25: MICHELSEN | O25: 5
E27: =SUM(E22:E26) -> 242.6 | G27: =SUM(G22:G26) -> 294.1 | I27: =SUM(I22:I26) -> 126 | K27: =SUM(K22:K26) -> 326.7 | M27: =SUM(M22:M26) -> 243.1 | O27: =SUM(O22:O26) -> 281.2 | Q27: =SUM(Q22:Q26) -> 145.8 | S27: =SUM(S22:S26) -> 207.1 | U27: =SUM(U22:U26) -> 124.8 | W27: =SUM(W22:W26) -> 120.7 | Y27: =SUM(Y22:Y26) -> 94.8 | AA27: =SUM(AA22:AA26) -> 188.1 | AC27: =SUM(AC22:AC26) -> 68.8 | AE27: =SUM(AE22:AE26) -> 256.1
D29: NAKASHIMA | E29: 6.8 | F29: MEDVEDEV | G29: 49 | J29: MEDVEDEV | K29: 49 | L29: MEDVEDEV | M29: 49 | Z29: MEDVEDEV | AA29: 92.5 | AD29: MEDVEDEV | AE29: 49
B31: TOTALE | E31: =SUM(E27:E30) -> 249.4 | G31: =SUM(G27:G30) -> 343.1 | I31: =SUM(I27:I30) -> 126 | K31: =SUM(K27:K30) -> 375.7 | M31: =SUM(M27:M30) -> 292.1 | O31: =SUM(O27:O30) -> 281.2 | Q31: =SUM(Q27:Q30) -> 145.8 | S31: =SUM(S27:S30) -> 207.1 | U31: =SUM(U27:U30) -> 124.8 | W31: =SUM(W27:W30) -> 120.7 | Y31: =SUM(Y27:Y30) -> 94.8 | AA31: =SUM(AA27:AA30) -> 280.6 | AC31: =SUM(AC27:AC30) -> 68.8 | AE31: =SUM(AE27:AE30) -> 305.1
A34: 46027 | B34: HONG KONG | D34: BUBLIK | E34: 0 | F34: DIALLO | G34: 27.7 | H34: BUBLIK | I34: 0 | J34: DIALLO | K34: 27.7 | L34: BUBLIK | M34: 0 | N34: BORGES | O34: 30.7 | P34: MAROZSAN | Q34: 3.5 | R34: BUBLIK | S34: 0 | T34: DE JONG | U34: 8.6 | V34: BUBLIK | W34: 0 | X34: BUBLIK | Y34: 0 | Z34: DZUMHUR | AA34: 5.6 | AB34: BORGES | AC34: 30.7 | AD34: BORGES | AE34: 30.7
D35: LAM COLEMAN | E35: 31.7 | F35: KECMANOVIC | G35: 5.6 | H35: ETCHEVERRY | I35: 30.8 | J35: GIRON | K35: 39 | L35: GIRON | M35: 39 | N35: BUBLIK | O35: 0 | P35: KECMANOVIC | Q35: 5.6 | R35: CILIC | S35: 34.6 | T35: DIALLO | U35: 27.7 | V35: DE JONG | W35: 8.6 | X35: DIALLO | Y35: 27.7 | Z35: GIRON | AA35: 39 | AB35: BUBLIK | AC35: 0 | AD35: DIALLO | AE35: 27.7
D36: MANNARINO | E36: 2.8 | F36: MUSETTI | G36: 0 | H36: MAROZSAN | I36: 3.5 | J36: MUSETTI | K36: 0 | L36: MAROZSAN | M36: 3.5 | N36: DIALLO | O36: 27.7 | P36: KHACHANOV | Q36: 0 | R36: GIRON | S36: 39 | T36: KECMANOVIC | U36: 5.6 | V36: KECMANOVIC | W36: 5.6 | X36: MANNARINO | Y36: 2.8 | Z36: MANNARINO | AA36: 2.8 | AB36: DIALLO | AC36: 27.7 | AD36: KHACHANOV | AE36: 0
D37: MULLER | E37: 33.3 | F37: KHACHANOV | G37: 0 | H37: NAVONE | I37: 5.5 | J37: RUBLEV | K37: 0 | L37: MUSETTI | M37: 0 | N37: KHACHANOV | O37: 0 | P37: MUSETTI | Q37: 0 | R37: MAROZSAN | S37: 3.5 | T37: MULLER | U37: 33.3 | V37: MANNARINO | W37: 2.8 | X37: MAROZSAN | Y37: 3.5 | Z37: MUSETTI | AA37: 0 | AB37: KHACHANOV | AC37: 0 | AD37: MULLER | AE37: 33.3
D38: MUSETTI | E38: 0 | F38: SONEGO | G38: 29.8 | H38: RUBLEV | I38: 0 | J38: SONEGO | K38: 29.8 | L38: SONEGO | M38: 29.8 | N38: MAROZSAN | O38: 3.5 | P38: SONEGO | Q38: 29.8 | R38: MUSETTI | S38: 0 | T38: MUSETTI | U38: 0 | V38: MUSETTI | W38: 0 | X38: MUSETTI | Y38: 0 | Z38: RUBLEV | AA38: 0 | AB38: MULLER | AC38: 33.3 | AD38: RUBLEV | AE38: 0
D39: SONEGO | E39: 29.8 | F39: VAN DE ZAND. | G39: 28.8 | H39: SONEGO | I39: 29.8 | J39: VAN DE ZAND. | K39: 28.8 | L39: VAN DE ZAND. | M39: 28.8 | N39: SONEGO | O39: 29.8 | P39: VAN DE ZAND. | Q39: 28.8 | R39: SONEGO | S39: 29.8 | T39: RUBLEV | U39: 0 | V39: SONEGO | W39: 29.8 | X39: VAN DE ZAND. | Y39: 28.8 | Z39: SONEGO | AA39: 29.8 | AB39: SONEGO | AC39: 29.8 | AD39: SONEGO | AE39: 29.8
E41: =SUM(E34:E39) -> 97.6 | G41: =SUM(G34:G39) -> 91.9 | I41: =SUM(I34:I39) -> 69.6 | K41: =SUM(K34:K39) -> 125.3 | M41: =SUM(M34:M39) -> 101.1 | O41: =SUM(O34:O39) -> 91.7 | Q41: =SUM(Q34:Q39) -> 67.7 | S41: =SUM(S34:S39) -> 106.9 | U41: =SUM(U34:U39) -> 75.2 | W41: =SUM(W34:W39) -> 46.8 | Y41: =SUM(Y34:Y39) -> 62.8 | AA41: =SUM(AA34:AA39) -> 77.2 | AC41: =SUM(AC34:AC39) -> 121.5 | AE41: =SUM(AE34:AE39) -> 121.5
D43: BUBLIK | E43: 31.7 | F43: DIALLO | G43: 9.8 | H43: BUBLIK | I43: 31.7 | J43: DIALLO | K43: 9.8 | L43: BUBLIK | M43: 31.7 | N43: BORGES | O43: 32.1 | P43: KHACHANOV | Q43: 6.1 | R43: BUBLIK | S43: 31.7 | T43: DIALLO | U43: 9.8 | V43: BUBLIK | W43: 31.7 | X43: BUBLIK | Y43: 31.7 | Z43: GIRON | AA43: 29.5 | AB43: BORGES | AC43: 32.1 | AD43: BORGES | AE43: 32.1
D44: LAM COLEMAN | E44: 28.1 | F44: KHACHANOV | G44: 6.1 | H44: ETCHEVERRY | I44: 8.3 | J44: GIRON | K44: 29.5 | L44: GIRON | M44: 29.5 | N44: BUBLIK | O44: 31.7 | P44: MUSETTI | Q44: 25.6 | R44: CILIC | S44: 5.6 | T44: MULLER | U44: 7.9 | V44: MUSETTI | W44: 25.6 | X44: DIALLO | Y44: 9.8 | Z44: MUSETTI | AA44: 25.6 | AB44: BUBLIK | AC44: 31.7 | AD44: DIALLO | AE44: 9.8
D45: MULLER | E45: 7.9 | F45: MUSETTI | G45: 25.6 | H45: RUBLEV | I45: 27.9 | J45: MUSETTI | K45: 25.6 | L45: MUSETTI | M45: 25.6 | N45: DIALLO | O45: 9.8 | P45: SONEGO | Q45: 5.8 | R45: GIRON | S45: 29.5 | T45: MUSETTI | U45: 25.6 | V45: SONEGO | W45: 5.8 | X45: MUSETTI | Y45: 25.6 | Z45: RUBLEV | AA45: 27.9 | AB45: DIALLO | AC45: 9.8 | AD45: KHACHANOV | AE45: 6.1
D46: MUSETTI | E46: 25.6 | F46: SONEGO | G46: 5.8 | H46: SONEGO | I46: 5.8 | J46: RUBLEV | K46: 27.9 | L46: SONEGO | M46: 5.8 | N46: KHACHANOV | O46: 6.1 | P46: VAN DE ZAND. | Q46: 4.6 | R46: MUSETTI | S46: 25.6 | T46: RUBLEV | U46: 27.9 | X46: VAN DE ZAND. | Y46: 4.6 | Z46: SONEGO | AA46: 5.8 | AB46: KHACHANOV | AC46: 6.1 | AD46: MULLER | AE46: 7.9
D47: SONEGO | E47: 5.8 | F47: VAN DE ZAND. | G47: 4.6 | J47: SONEGO | K47: 5.8 | L47: VAN DE ZAND. | M47: 4.6 | N47: SONEGO | O47: 5.8 | R47: SONEGO | S47: 5.8 | AB47: MULLER | AC47: 7.9 | AD47: RUBLEV | AE47: 27.9
J48: VAN DE ZAND. | K48: 4.6 | AB48: SONEGO | AC48: 5.8 | AD48: SONEGO | AE48: 5.8
E50: =SUM(E41:E49) -> 196.7 | G50: =SUM(G41:G49) -> 143.8 | I50: =SUM(I41:I49) -> 143.3 | K50: =SUM(K41:K49) -> 228.5 | M50: =SUM(M41:M49) -> 198.3 | O50: =SUM(O41:O49) -> 177.2 | Q50: =SUM(Q41:Q49) -> 109.8 | S50: =SUM(S41:S49) -> 205.1 | U50: =SUM(U41:U49) -> 146.4 | W50: =SUM(W41:W49) -> 109.9 | Y50: =SUM(Y41:Y49) -> 134.5 | AA50: =SUM(AA41:AA49) -> 166 | AC50: =SUM(AC41:AC49) -> 214.9 | AE50: =SUM(AE41:AE49) -> 211.1
D52: BUBLIK | E52: 31.2 | F52: MUSETTI | G52: 28.3 | H52: BUBLIK | I52: 31.2 | J52: GIRON | K52: 25 | L52: BUBLIK | M52: 31.2 | N52: BORGES | O52: 6.1 | P52: MUSETTI | Q52: 28.3 | R52: BUBLIK | S52: 31.2 | T52: MUSETTI | U52: 28.3 | V52: BUBLIK | W52: 31.2 | X52: BUBLIK | Y52: 31.2 | Z52: GIRON | AA52: 25 | AB52: BORGES | AC52: 6.1 | AD52: BORGES | AE52: 6.1
D53: LAM COLEMAN | E53: 7.4 | H53: RUBLEV | I53: 60.4 | J53: MUSETTI | K53: 28.3 | L53: GIRON | M53: 25 | N53: BUBLIK | O53: 31.2 | R53: GIRON | S53: 25 | T53: RUBLEV | U53: 30.2 | V53: MUSETTI | W53: 28.3 | X53: MUSETTI | Y53: 28.3 | Z53: MUSETTI | AA53: 28.3 | AB53: BUBLIK | AC53: 31.2 | AD53: RUBLEV | AE53: 30.2
D54: MUSETTI | E54: 28.3 | J54: RUBLEV | K54: 30.2 | L54: MUSETTI | M54: 28.3 | R54: MUSETTI | S54: 28.3 | Z54: RUBLEV | AA54: 30.2
E56: =SUM(E50:E55) -> 263.6 | G56: =SUM(G50:G55) -> 172.1 | I56: =SUM(I50:I55) -> 234.9 | K56: =SUM(K50:K55) -> 312 | M56: =SUM(M50:M55) -> 282.8 | O56: =SUM(O50:O55) -> 214.5 | Q56: =SUM(Q50:Q55) -> 138.1 | S56: =SUM(S50:S55) -> 289.6 | U56: =SUM(U50:U55) -> 204.9 | W56: =SUM(W50:W55) -> 169.4 | Y56: =SUM(Y50:Y55) -> 194 | AA56: =SUM(AA50:AA55) -> 249.5 | AC56: =SUM(AC50:AC55) -> 252.2 | AE56: =SUM(AE50:AE55) -> 247.4
...

Sheet ALBO D'ORO
A1: SEDE | D1: VINCITORE 2026
A2: BRISBANE | D2: DIAVORIK
A3: HONG KONG | D3: FOGLIA70
A4: ADELAIDE | D4: DIAVORIK
A5: AUCKLAND | D5: FOGLIA70
A6: MONTPELLIER | D6: JERRY
A7: BUENOS AIRES | D7: FOGLIA70
A8: DELRAY BEACH | D8: JERRY
A9: SANTIAGO | D9: THE QUEER
A10: BUCAREST | D10: VAMOS4LA
A11: MARRAKECH | D11: LUDOPIPPO
A12: HOUSTON | D12: JERRY
... A17: EASTBOURNE | D17: DIAVORIK
A18: GSTAAD
A19: BASTAD
A20: UMAG
A21: KITZBUHEL
A22: ESTORIL
A23: LOS CABOS
A24: WINSTON-SALEM
A25: HANGZHOU
A26: CHENGDU
A27: ALMATY
A28: BRUSSELS
A29: MARSEILLE
... A32: STOCKHOLM

Sheet ANAGRAFICA
A1: PARTECIPANTI | C1: MAIL | D1: TELEFONO | E1: NOME | F1: SODALE | G1: QUOTA
A3: ALBERTO | B3: CIAPERONI | C3: albeci66@gmail.com | D3: 3458915098 | E3: ALBE08 | F3: dalmy | G3: -25 | J3: =G3+I3 -> -25 | L3: ok | M3: CALIX
A4: FABIO | B4: CAFARO | C4: fabio.cafaro@gmail.com | D4: 3356515680 | E4: BIGBULL | G4: -25 | J4: =G4+I4 -> -25 | L4: ok
A5: DAVIDE | B5: DALMIGLIO | C5: dd_davide@yahoo.it | D5: 3358473054 | E5: CALIX | G5: -25 | J5: =G5+I5 -> -25 | L5: ok
A6: RICCARDO | B6: MERIGGIOLI | C6: mericcardo@gmail.com | D6: 3482653126 | E6: DIAVORIK | G6: -25 | J6: =G6+I6 -> -25 | L6: ok
A7: ANDREA | B7: FOGLIANI | C7: foglianiandrea70@gmail.com | D7: 3482951246 | E7: FOGLIA70 | F7: ricky | G7: -25 | J7: =G7+I7 -> -25 | L7: ok
A8: GUIDO | B8: DE NOVELLIS | D8: 3601082190 | E8: GUIDODENO | G8: -25 | J8: =G8+I8 -> -25 | L8: ok | M8: albe
A9: GERMANO | B9: PIANEZZI | C9: germano.pianezzi@gmail.com | D9: 3925623554 | E9: JERRY | F9: dalmy | G9: -25 | J9: =G9+I9 -> -25 | L9: ok | M9: albe
A10: MARCO | B10: MONTAGNANI | C10: mmontagnanimarelli@gmail.com | D10: 3395237564 | E10: KOLLER22 | F10: dalmy | G10: -25 | J10: =G10+I10 -> -25 | L10: ok
A11: PAOLO | B11: VIMERCATI | C11: paivime@gmail.com | D11: 3356099479 | E11: LUDOPIPPO | F11: forly | G11: -25 | J11: =G11+I11 -> -25 | L11: ok
A12: DOMENICO | B12: DE ANGELIS | C12: dome1566@gmail.com | D12: 3475840960 | E12: RAFA66 | G12: -25 | J12: =G12+I12 -> -25 | L12: ok
A13: GIAMPIERO | B13: PATRIZI | D13: 3483109274 | E13: RF FOREVER | F13: dalmy | G13: -25 | J13: =G13+I13 -> -25 | L13: ok | M13: MC
A14: MAURO | B14: CRISTINA | C14: ideadilisa@gmail.com | D14: 3355305631 | E14: THEQUEER | G14: -25 | J14: =G14+I14 -> -25 | L14: ok
A15: PIERO | B15: GRANTALIANO | C15: uollano2@yahoo.com | D15: 3355356334 | E15: UOLLANO | G15: -25 | J15: =G15+I15 -> -25 | L15: ok
A16: STEFANO | B16: FORLANI | C16: stiv4lani@gmail.com | D16: 3357192264 | E16: VAMOS4LA | G16: -25 | J16: =G16+I16 -> -25 | L16: ok
G18: =SUM(G3:G17) -> -350 | I18: =SUM(G18:H18) -> -350 | J18: MONTEPREMI FINALE
A19: codice lega
I20: =350*0.6 -> 210 | J20: 1° CLASSIFICATO
A21: 664626 | I21: 100 | J21: 2° CLASSIFICATO
I22: 40 | J22: 3° CLASSIFICATO
