Workbook

Sheet CLASSIFICA
A1: MONTECARLO | E1: CLASSIFICA GENERALE
A3: UOLLANO | B3: =PUNTI!X11 -> 808.6 | E3: RF FOREVER | F3: =PUNTI!U32 -> 4822.3 | G3: =
A4: RAFA66 | B4: =PUNTI!T11 -> 743.6 | E4: PRE86 | F4: =PUNTI!S32 -> 4719 | G4: =
A5: FICHINS | B5: =PUNTI!I11 -> 711.7 | E5: FICHINS | F5: =PUNTI!I32 -> 4613.1 | G5: =
A6: DIAVORIK | B6: =PUNTI!H11 -> 705.4 | E6: UOLLANO | F6: =PUNTI!X32 -> 4574.6 | G6: +1
A7: PRE86 | B7: =PUNTI!S11 -> 687.6 | E7: DIAVORIK | F7: =PUNTI!H32 -> 4410.9 | G7: +3
A8: NICOGIU79 | B8: =PUNTI!Q11 -> 636.4 | E8: LUPO1976 | F8: =PUNTI!P32 -> 4349.1 | G8: -2
A9: JERRY | B9: =PUNTI!M11 -> 635.4 | E9: NICOGIU79 | F9: =PUNTI!Q32 -> 4330 | G9: +2
A10: FOGLIA70 | B10: =PUNTI!J11 -> 635.4 | E10: POTTI POTTI | F10: =PUNTI!R32 -> 4287.5 | G10: -1
A11: RF FOREVER | B11: =PUNTI!U11 -> 614 | E11: KOLLER22 | F11: =PUNTI!N32 -> 4283.7 | G11: -3
A12: LUDOPIPPO | B12: =PUNTI!O11 -> 567 | E12: BIG BULL | F12: =PUNTI!F32 -> 4235.5 | G12: =
A13: BIG BULL | B13: =PUNTI!F11 -> 559.6 | E13: RAFA66 | F13: =PUNTI!T32 -> 4178.7 | G13: +3
A14: POTTI POTTI | B14: =PUNTI!R11 -> 551 | E14: JERRY | F14: =PUNTI!M32 -> 4140.2 | G14: +1
A15: KOLLER22 | B15: =PUNTI!N11 -> 529.7 | E15: THE QUEER | F15: =PUNTI!W32 -> 4107.7 | G15: -2
A16: LUPO1976 | B16: =PUNTI!P11 -> 525.8 | E16: GIANGIPOLI64 | F16: =PUNTI!K32 -> 4101.6 | G16: -2
A17: CALIX | B17: =PUNTI!G11 -> 521.8 | E17: FOGLIA70 | F17: =PUNTI!J32 -> 4055.2 | G17: =
A18: GIANGIPOLI64 | B18: =PUNTI!K11 -> 498.8 | E18: TADDEUS TADDEI | F18: =PUNTI!V32 -> 3756 | G18: =
A19: ALBE08 | B19: =PUNTI!E11 -> 442.8 | E19: CALIX | F19: =PUNTI!G32 -> 3728.2 | G19: +1
A20: THE QUEER | B20: =PUNTI!W11 -> 438.1 | E20: GUIDODENO | F20: =PUNTI!L32 -> 3678.1 | G20: -1
A21: VAMOS4LA | B21: =PUNTI!Y11 -> 438.1 | E21: LUDOPIPPO | F21: =PUNTI!O32 -> 3591.8 | G21: =
A22: TADDEUS TADDEI | B22: =PUNTI!V11 -> 408.7 | E22: ALBE08 | F22: =PUNTI!E32 -> 3423.5 | G22: =
A23: GUIDODENO | B23: =PUNTI!L11 -> 358.5 | E23: VAMOS4LA | F23: =PUNTI!Y32 -> 3014 | G23: =

Sheet PUNTI
A1: DATA | C1: SEDE | E1: ALBE08 | F1: BIG BULL | G1: CALIX | H1: DIAVORIK | I1: FICHINS | J1: FOGLIA70 | K1: GIANGI POLI64 | L1: GUIDODENO | M1: JERRY | N1: KOLLER22 | O1: LUDOPIPPO | P1: LUPO1976 | Q1: NICOGIU79 | R1: POTTI POTTI | S1: PRE86 | T1: RAFA66 | U1: RF FOREVER | V1: TADDEUS TADDEI | W1: THE QUEER | X1: UOLLANO | Y1: VAMOS4LA
A2: 46040 | B2: GS | C2: AUSTRALIAN OPEN | E2: =TORNEI!F57 -> 599 | F2: =TORNEI!H57 -> 548.4 | G2: =TORNEI!J57 -> 547.3 | H2: =TORNEI!L57 -> 596.8 | I2: =TORNEI!N57 -> 491.7 | J2: =TORNEI!P57 -> 397.6 | K2: =TORNEI!R57 -> 630.2 | L2: =TORNEI!T57 -> 443.7 | M2: =TORNEI!V57 -> 559.7 | N2: =TORNEI!X57 -> 698.2 | O2: =TORNEI!Z57 -> 325.3 | P2: =TORNEI!AB57 -> 680.6 | Q2: =TORNEI!AD57 -> 734.7 | R2: =TORNEI!AF57 -> 501.3 | S2: =TORNEI!AH57 -> 597.7 | T2: =TORNEI!AJ57 -> 483.8 | U2: =TORNEI!AL57 -> 592.5 | V2: =TORNEI!AN57 -> 525.2 | W2: =TORNEI!AP57 -> 544.2 | X2: =TORNEI!AR57 -> 577.8 | Y2: =TORNEI!AT57 -> 583
A3: 46062 | B3: 500 | C3: DALLAS | E3: =TORNEI!F94 -> 306.2 | F3: =TORNEI!H94 -> 466.3 | G3: =TORNEI!J94 -> 360.9 | H3: =TORNEI!L94 -> 389.6 | I3: =TORNEI!N94 -> 433.8 | J3: =TORNEI!P94 -> 308.5 | K3: =TORNEI!R94 -> 377 | L3: =TORNEI!T94 -> 328.5 | M3: =TORNEI!V94 -> 260.7 | N3: =TORNEI!X94 -> 351.6 | O3: =TORNEI!Z94 -> 361.3 | P3: =TORNEI!AB94 -> 274.6 | Q3: =TORNEI!AD94 -> 336.2 | R3: =TORNEI!AF94 -> 310.4 | S3: =TORNEI!AH94 -> 520.9 | T3: =TORNEI!AJ94 -> 204.8 | U3: =TORNEI!AL94 -> 355.5 | V3: =TORNEI!AN94 -> 270 | W3: =TORNEI!AP94 -> 368.6 | X3: =TORNEI!AR94 -> 412.3 | Y3: =TORNEI!AT94 -> 264.2
A4: 46062 | B4: 500 | C4: ROTTERDAM | E4: =TORNEI!F132 -> 231.2 | F4: =TORNEI!H132 -> 400.7 | G4: =TORNEI!J132 -> 386.7 | H4: =TORNEI!L132 -> 511.6 | I4: =TORNEI!N132 -> 250.7 | J4: =TORNEI!P132 -> 392.2 | K4: =TORNEI!R132 -> 554.4 | L4: =TORNEI!T132 -> 323.4 | M4: =TORNEI!V132 -> 536.3 | N4: =TORNEI!X132 -> 483.4 | O4: =TORNEI!Z132 -> 346.8 | P4: =TORNEI!AB132 -> 409.2 | Q4: =TORNEI!AD132 -> 425.2 | R4: =TORNEI!AF132 -> 463.6 | S4: =TORNEI!AH132 -> 367.8 | T4: =TORNEI!AJ132 -> 405.5 | U4: =TORNEI!AL132 -> 576.3 | V4: =TORNEI!AN132 -> 330.3 | W4: =TORNEI!AP132 -> 415.8 | X4: =TORNEI!AR132 -> 296.3 | Y4: =TORNEI!AT132 -> 363.8
A5: 46069 | B5: 500 | C5: DOHA | E5: =TORNEI!F170 -> 0 | F5: =TORNEI!H170 -> 306.5 | G5: =TORNEI!J170 -> 523.4 | H5: =TORNEI!L170 -> 417.7 | I5: =TORNEI!N170 -> 413.4 | J5: =TORNEI!P170 -> 352.5 | K5: =TORNEI!R170 -> 461 | L5: =TORNEI!T170 -> 469 | M5: =TORNEI!V170 -> 453.4 | N5: =TORNEI!X170 -> 488.3 | O5: =TORNEI!Z170 -> 368.6 | P5: =TORNEI!AB170 -> 355.4 | Q5: =TORNEI!AD170 -> 377 | R5: =TORNEI!AF170 -> 504.7 | S5: =TORNEI!AH170 -> 575.6 | T5: =TORNEI!AJ170 -> 255.6 | U5: =TORNEI!AL170 -> 461.4 | V5: =TORNEI!AN170 -> 438.2 | W5: =TORNEI!AP170 -> 394.9 | X5: =TORNEI!AR170 -> 453.3 | Y5: =TORNEI!AT170 -> 414.2
A6: 46069 | B6: 500 | C6: RIO | E6: =TORNEI!F205 -> 275.5 | F6: =TORNEI!H205 -> 310.6 | G6: =TORNEI!J205 -> 296.4 | H6: =TORNEI!L205 -> 227.1 | I6: =TORNEI!N205 -> 266.9 | J6: =TORNEI!P205 -> 437.8 | K6: =TORNEI!R205 -> 203.7 | L6: =TORNEI!T205 -> 244 | M6: =TORNEI!V205 -> 257.9 | N6: =TORNEI!X205 -> 282 | O6: =TORNEI!Z205 -> 277.6 | P6: =TORNEI!AB205 -> 345.5 | Q6: =TORNEI!AD205 -> 268 | R6: =TORNEI!AF205 -> 398.6 | S6: =TORNEI!AH205 -> 254.9 | T6: =TORNEI!AJ205 -> 87.2 | U6: =TORNEI!AL205 -> 241.3 | V6: =TORNEI!AN205 -> 413.1 | W6: =TORNEI!AP205 -> 227.1 | X6: =TORNEI!AR205 -> 227.1 | Y6: =TORNEI!AT205 -> 251.9
A7: 46076 | B7: 500 | C7: ACAPULCO | E7: =TORNEI!F241 -> 208.6 | F7: =TORNEI!H241 -> 275.8 | G7: =TORNEI!J241 -> 334.5 | H7: =TORNEI!L241 -> 364.1 | I7: =TORNEI!N241 -> 282.5 | J7: =TORNEI!P241 -> 113 | K7: =TORNEI!R241 -> 237.1 | L7: =TORNEI!T241 -> 186.2 | M7: =TORNEI!V241 -> 308 | N7: =TORNEI!X241 -> 241.8 | O7: =TORNEI!Z241 -> 51.4 | P7: =TORNEI!AB241 -> 455.2 | Q7: =TORNEI!AD241 -> 455.9 | R7: =TORNEI!AF241 -> 317.8 | S7: =TORNEI!AH241 -> 236.3 | T7: =TORNEI!AJ241 -> 409.7 | U7: =TORNEI!AL241 -> 333.4 | V7: =TORNEI!AN241 -> 104.2 | W7: =TORNEI!AP241 -> 280.3 | X7: =TORNEI!AR241 -> 276 | Y7: =TORNEI!AT241 -> 77.5
A8: 46076 | B8: 500 | C8: DUBAI | E8: =TORNEI!F279 -> 328.2 | F8: =TORNEI!H279 -> 323 | G8: =TORNEI!J279 -> 252.6 | H8: =TORNEI!L279 -> 215.2 | I8: =TORNEI!N279 -> 388.2 | J8: =TORNEI!P279 -> 264.2 | K8: =TORNEI!R279 -> 261.9 | L8: =TORNEI!T279 -> 372.3 | M8: =TORNEI!V279 -> 327.1 | N8: =TORNEI!X279 -> 287.9 | O8: =TORNEI!Z279 -> 204.9 | P8: =TORNEI!AB279 -> 486.3 | Q8: =TORNEI!AD279 -> 167.6 | R8: =TORNEI!AF279 -> 270.9 | S8: =TORNEI!AH279 -> 374.5 | T8: =TORNEI!AJ279 -> 425.8 | U8: =TORNEI!AL279 -> 386 | V8: =TORNEI!AN279 -> 405.9 | W8: =TORNEI!AP279 -> 239.9 | X8: =TORNEI!AR279 -> 324.7 | Y8: =TORNEI!AT279 -> 276.3
A9: 46085 | B9: 1000 | C9: INDIAN WELLS | E9: =TORNEI!F337 -> 593.6 | F9: =TORNEI!H337 -> 488.4 | G9: =TORNEI!J337 -> 313.9 | H9: =TORNEI!L337 -> 545.6 | I9: =TORNEI!N337 -> 548.4 | J9: =TORNEI!P337 -> 665.1 | K9: =TORNEI!R337 -> 463 | L9: =TORNEI!T337 -> 432.1 | M9: =TORNEI!V337 -> 263.8 | N9: =TORNEI!X337 -> 504.4 | O9: =TORNEI!Z337 -> 664.8 | P9: =TORNEI!AB337 -> 332.7 | Q9: =TORNEI!AD337 -> 432.9 | R9: =TORNEI!AF337 -> 574.7 | S9: =TORNEI!AH337 -> 667.3 | T9: =TORNEI!AJ337 -> 617 | U9: =TORNEI!AL337 -> 718.1 | V9: =TORNEI!AN337 -> 340.4 | W9: =TORNEI!AP337 -> 568.8 | X9: =TORNEI!AR337 -> 606.9 | Y9: =TORNEI!AT337 -> 260.5
A10: 46099 | B10: 1000 | C10: MIAMI | E10: =TORNEI!F395 -> 438.4 | F10: =TORNEI!H395 -> 556.2 | G10: =TORNEI!J395 -> 190.7 | H10: =TORNEI!L395 -> 437.8 | I10: =TORNEI!N395 -> 825.8 | J10: =TORNEI!P395 -> 488.9 | K10: =TORNEI!R395 -> 414.5 | L10: =TORNEI!T395 -> 520.4 | M10: =TORNEI!V395 -> 537.9 | N10: =TORNEI!X395 -> 416.4 | O10: =TORNEI!Z395 -> 424.1 | P10: =TORNEI!AB395 -> 483.8 | Q10: =TORNEI!AD395 -> 496.1 | R10: =TORNEI!AF395 -> 394.5 | S10: =TORNEI!AH395 -> 436.4 | T10: =TORNEI!AJ395 -> 545.7 | U10: =TORNEI!AL395 -> 543.8 | V10: =TORNEI!AN395 -> 520 | W10: =TORNEI!AP395 -> 630 | X10: =TORNEI!AR395 -> 591.6 | Y10: =TORNEI!AT395 -> 84.5
A11: 46117 | B11: 1000 | C11: MONTECARLO | E11: =TORNEI!F447 -> 442.8 | F11: =TORNEI!H447 -> 559.6 | G11: =TORNEI!J447 -> 521.8 | H11: =TORNEI!L447 -> 705.4 | I11: =TORNEI!N447 -> 711.7 | J11: =TORNEI!P447 -> 635.4 | K11: =TORNEI!R447 -> 498.8 | L11: =TORNEI!T447 -> 358.5 | M11: =TORNEI!V447 -> 635.4 | N11: =TORNEI!X447 -> 529.7 | O11: =TORNEI!Z447 -> 567 | P11: =TORNEI!AB447 -> 525.8 | Q11: =TORNEI!AD447 -> 636.4 | R11: =TORNEI!AF447 -> 551 | S11: =TORNEI!AH447 -> 687.6 | T11: =TORNEI!AJ447 -> 743.6 | U11: =TORNEI!AL447 -> 614 | V11: =TORNEI!AN447 -> 408.7 | W11: =TORNEI!AP447 -> 438.1 | X11: =TORNEI!AR447 -> 808.6 | Y11: =TORNEI!AT447 -> 438.1
A12: 46125 | B12: 500 | C12: BARCELLONA
A13: 46125 | B13: 500 | C13: MONACO
A14: 46134 | B14: 1000 | C14: MADRID
A15: 46148 | B15: 1000 | C15: ROMA
A16: 46159 | B16: 500 | C16: AMBURGO
A17: 46166 | B17: GS | C17: ROLAND GARROS
A18: 46188 | B18: 500 | C18: HALLE
A19: 46188 | B19: 500 | C19: LONDRA
A20: 46202 | B20: GS | C20: WIMBLEDON
A21: 46230 | B21: 500 | C21: WASHINGTON
A22: 46236 | B22: 1000 | C22: CANADA
A23: 46247 | B23: 1000 | C23: CINCINNATI
A24: 46265 | B24: GS | C24: US OPEN
A25: 46295 | B25: 500 | C25: TOKYO
A26: 46295 | B26: 500 | C26: PECHINO
A27: 46302 | B27: 1000 | C27: SHANGHAI
A28: 46321 | B28: 500 | C28: BASILEA
A29: 46321 | B29: 500 | C29: VIENNA
A30: 46328 | B30: 1000 | C30: PARIGI
C32: TOTALE | E32: =SUM(E2:E30) -> 3423.5 | F32: =SUM(F2:F30) -> 4235.5 | G32: =SUM(G2:G30) -> 3728.2 | H32: =SUM(H2:H30) -> 4410.9 | I32: =SUM(I2:I30) -> 4613.1 | J32: =SUM(J2:J30) -> 4055.2 | K32: =SUM(K2:K30) -> 4101.6 | L32: =SUM(L2:L30) -> 3678.1 | ... Y32: =SUM(Y2:Y30) -> 3014

Sheet €URO
A1: DATA | C1: SEDE | E1: MONTEPREMI | G1: ALBE08 | H1: BIG BULL | I1: CALIX | J1: DIAVORIK | K1: FICHINS | L1: FOGLIA70 | M1: GIANGI POLI64 | N1: GUIDODENO | O1: JERRY | P1: KOLLER22 | Q1: LUDOPIPPO | R1: LUPO1976 | S1: NICOGIU79 | T1: POTTI POTTI | U1: PRE86 | V1: RAFA66 | W1: RF FOREVER | X1: TADDEUS TADDEI | Y1: THE QUEER | Z1: UOLLANO | AA1: VAMOS4LA
A2: 46040 | B2: GS | C2: AUSTRALIAN OPEN | E2: 75 | P2: 25 | S2: 50 | AB2: 15 | AD2: =(E2*AB2) -> 1125
A3: 46062 | B3: 500 | C3: DALLAS | E3: 15 | H3: 5 | U3: 10 | AB3: 15 | AD3: =E3*AB3 -> 225
A4: 46062 | B4: 500 | C4: ROTTERDAM | E4: 15 | M4: 5 | W4: 10 | AB4: 15 | AD4: =E4*AB4 -> 225
A5: 46069 | B5: 500 | C5: DOHA | E5: 15 | I5: 5 | U5: 10 | AB5: 15 | AD5: =E5*AB5 -> 225
A6: 46069 | B6: 500 | C6: RIO | E6: 15 | L6: 10 | X6: 5 | AB6: 15 | AD6: =E6*AB6 -> 225
A7: 46076 | B7: 500 | C7: ACAPULCO | E7: 15 | R7: 5 | S7: 10 | AB7: 15 | AD7: =E7*AB7 -> 225
A8: 46076 | B8: 500 | C8: DUBAI | E8: 15 | R8: 10 | V8: 5 | AB8: 15 | AD8: =E8*AB8 -> 225
A9: 46085 | B9: 1000 | C9: INDIAN WELLS | E9: 30 | U9: 10 | W9: 20 | AB9: 15 | AD9: =E9*AB9 -> 450
A10: 46099 | B10: 1000 | C10: MIAMI | E10: 30 | K10: 20 | Y10: 10 | AB10: 15 | AD10: =E10*AB10 -> 450
A11: 46117 | B11: 1000 | C11: MONTECARLO | E11: 30 | V11: 10 | Z11: 20 | AB11: 15 | AD11: =E11*AB11 -> 450
A12: 46125 | B12: 500 | C12: BARCELLONA | E12: 15 | AB12: 15 | AD12: =E12*AB12 -> 225
A13: 46125 | B13: 500 | C13: MONACO | E13: 15 | AB13: 15 | AD13: =E13*AB13 -> 225
A14: 46134 | B14: 1000 | C14: MADRID | E14: 30 | AB14: 15 | AD14: =E14*AB14 -> 450
A15: 46148 | B15: 1000 | C15: ROMA | E15: 30 | AB15: 15 | AD15: =E15*AB15 -> 450
A16: 46159 | B16: 500 | C16: AMBURGO | E16: 15 | AB16: 15 | AD16: =E16*AB16 -> 225
A17: 46166 | B17: GS | C17: ROLAND GARROS | E17: 75 | AB17: 15 | AD17: =E17*AB17 -> 1125
A18: 46188 | B18: 500 | C18: HALLE | E18: 15 | AB18: 15 | AD18: =E18*AB18 -> 225
A19: 46188 | B19: 500 | C19: LONDRA | E19: 15 | AB19: 15 | AD19: =E19*AB19 -> 225
A20: 46202 | B20: GS | C20: WIMBLEDON | E20: 75 | AB20: 15 | AD20: =E20*AB20 -> 1125
A21: 46230 | B21: 500 | C21: WASHINGTON | E21: 15 | AB21: 15 | AD21: =E21*AB21 -> 225
A22: 46236 | B22: 1000 | C22: CANADA | E22: 30 | AB22: 15 | AD22: =E22*AB22 -> 450
A23: 46247 | B23: 1000 | C23: CINCINNATI | E23: 30 | AB23: 15 | AD23: =E23*AB23 -> 450
A24: 46265 | B24: GS | C24: US OPEN | E24: 75 | AB24: 15 | AD24: =E24*AB24 -> 1125
A25: 46295 | B25: 500 | C25: TOKYO | E25: 15 | AB25: 15 | AD25: =E25*AB25 -> 225
A26: 46295 | B26: 500 | C26: PECHINO | E26: 15 | AB26: 15 | AD26: =E26*AB26 -> 225
A27: 46302 | B27: 1000 | C27: SHANGHAI | E27: 30 | AB27: 15 | AD27: =E27*AB27 -> 450
A28: 46321 | B28: 500 | C28: BASILEA | E28: 15 | AB28: 15 | AD28: =E28*AB28 -> 225
A29: 46321 | B29: 500 | C29: VIENNA | E29: 15 | AB29: 15 | AD29: =E29*AB29 -> 225
A30: 46328 | B30: 1000 | C30: PARIGI | E30: 30 | AB30: 15 | AD30: =E30*AB30 -> 450
A31: 46341 | C31: ATP FINALS | E31: 50
A32: CLASSIFICA FINALE | AB32: 15 | AD32: 270
E34: TOTALE | G34: =SUM(G2:G32)-60 -> -60 | H34: =SUM(H2:H32)-60 -> -55 | I34: =SUM(I2:I32)-60 -> -55 | J34: =SUM(J2:J32)-60 -> -60 | K34: =SUM(K2:K32)-60 -> -40 | L34: =SUM(L2:L32)-60 -> -50 | M34: =SUM(M2:M32)-60 -> -55 | N34: =SUM(N2:N32)-60 -> -60 | ... AB34: =SUM(AB2:AB32)-60 -> 390 | AD34: =SUM(AD2:AD33) -> 12420

Sheet TORNEI
A1: DATA | C1: SEDE | E1: ALBE08 | G1: BIG BULL | I1: CALIX | K1: DIAVORIK | M1: FICHINS | O1: FOGLIA70 | Q1: GIANGIPOLI64 | S1: GUIDODENO | U1: JERRY | W1: KOLLER22 | Y1: LUDOPIPPO | AA1: LUPO1976 | AC1: NICOGIU79 | AE1: POTTI POTTI | AG1: PRE86 | AI1: RAFA66 | AK1: RF FOREVER | AM1: TADDEUS TADDEI | AO1: THE QUEER | AQ1: UOLLANO | AS1: VAMOS4LA
A2: 46039 | B2: GS | C2: AUSTRALIAN OPEN | E2: BAEZ | F2: 27.8 | G2: ALCARAZ | H2: 28.5 | I2: ALCARAZ | J2: 28.5 | K2: ALCARAZ | L2: 28.5 | M2: ARNALDI | N2: 4.1 | O2: BUBLIK | P2: 29 | Q2: ALCARAZ | R2: 28.5 | S2: BUBLIK | T2: 29 | U2: BUBLIK | V2: 29 | W2: ALCARAZ | X2: 28.5 | Y2: AUGER-ALI. | Z2: 5 | AA2: ALCARAZ | AB2: 28.5 | AC2: ALCARAZ | AD2: 28.5 | AE2: BUBLIK | AF2: 29 | AG2: FUCSOVICS | AH2: 31.3 | AI2: ARNALDI | AJ2: 4.1 | AK2: BUBLIK | AL2: 29 | AM2: ARNALDI | AN2: 4.1 | AO2: ALCARAZ | AP2: 28.5 | AQ2: ALCARAZ | AR2: 28.5 | AS2: BUDKOV-KJAER | AT2: 5.7
E3: BUBLIK | F3: 29 | G3: DIMITROV | H3: 4.9 | I3: BAUTISTA-A. | J3: 6.1 | K3: COBOLLI | L3: 3 | M3: BUBLIK | N3: 29 | O3: HUMBERT | P3: 8.2 | Q3: BUBLIK | R3: 29 | S3: GIRON | T3: 11.5 | U3: DRAXL | V3: 2.8 | W3: DARDERI | X3: 27.6 | Y3: DE MINAUR | Z3: 32.7 | AA3: MACHAC | AB3: 32.3 | AC3: JACQUET | AD3: 9.7 | AE3: DE MINAUR | AF3: 32.7 | AG3: LEHECKA | AH3: 4.2 | AI3: BAEZ | AJ3: 27.8 | AK3: CILIC | AL3: 36.1 | AM3: BONZI | AN3: 7.9 | AO3: AUGER-ALI. | AP3: 5 | AQ3: BUBLIK | AR3: 29 | AS3: GIRON | AT3: 11.5
E4: DIMITROV | F4: 4.9 | G4: HURKACZ | H4: 26 | I4: KORDA | J4: 5.4 | K4: HIJIKATA | L4: 35.3 | M4: COBOLLI | N4: 3 | O4: LEHECKA | P4: 4.2 | Q4: CILIC | R4: 36.1 | S4: LEHECKA | T4: 4.2 | U4: MUSETTI | V4: 25 | W4: DZUMHUR | X4: 34.4 | Y4: DJERE | Z4: 9 | AA4: MAROZSAN | AB4: 28.1 | AC4: MUSETTI | AD4: 25 | AE4: FONSECA | AF4: 4.7 | AG4: MAROZSAN | AH4: 28.1 | AI4: DE MINAUR | AJ4: 32.7 | AK4: MEDVEDEV | AL4: 27.9 | AM4: BUBLIK | AN4: 29 | AO4: HIJIKATA | AP4: 35.3 | AQ4: NAKASHIMA | AR4: 6.6 | AS4: HURCKACZ | AT4: 26
E5: MENSIK | F5: 21.4 | G5: KORDA | H5: 5.4 | I5: NAKASHIMA | J5: 6.6 | K5: MEDVEDEV | L5: 27.9 | M5: MUSETTI | N5: 25 | O5: MEDVEDEV | P5: 27.9 | Q5: GRIEKSPOOR | R5: 0.8 | S5: MENSIK | T5: 21.4 | U5: OPELKA | V5: 30.9 | W5: MAJCHRAZAK | X5: 22.6 | Y5: DZUMHUR | Z5: 34.4 | AA5: MOUTET | AB5: 28.6 | AC5: PERRICARD | AD5: 9.1 | AE5: HUMBERT | AF5: 8.2 | AG5: MENSIK | AH5: 21.4 | AI5: HUMBERT | AJ5: 8.2 | AK5: MICHELSEN | AL5: 9.5 | AM5: MEDVEDEV | AN5: 27.9 | AO5: HURKACZ | AP5: 26 | AQ5: NAVA | AR5: 25.1 | AS5: MEDVEDEV | AT5: 27.9
E6: RUBLEV | F6: 31.6 | G6: MANNARINO | H6: 1.7 | I6: PAUL | J6: 30.1 | K6: PERRICARD | L6: 9.1 | M6: OPELKA | N6: 30.9 | O6: MENSIK | P6: 21.4 | Q6: NORRIE | R6: 26 | S6: MUNAR | T6: 23.7 | U6: SHANG | V6: 27.8 | W6: MEDJEDOVIC | X6: 28.1 | Y6: FONSECA | Z6: 4.7 | AA6: MUNAR | AB6: 23.7 | AC6: SHANG | AD6: 27.8 | AE6: MUNAR | AF6: 23.7 | AG6: MUSETTI | AH6: 25 | AI6: MACHAC | AJ6: 32.3 | AK6: MUSETTI | AL6: 25 | AM6: MENSIK | AN6: 21.4 | AO6: MEDVEDEV | AP6: 27.9 | AQ6: SINNER | AR6: 25 | AS6: MUSETTI | AT6: 25
E7: SINNER | F7: 25 | G7: MENSIK | H7: 21.4 | I7: SINNER | J7: 25 | K7: SHANG | L7: 27.8 | M7: SINNER | N7: 25 | O7: PERRICARD | P7: 9.1 | Q7: RINDERKNECH | R7: 7.3 | S7: NAKASHIMA | T7: 6.6 | U7: SHELTON | V7: 28.6 | W7: MENSIK | X7: 21.4 | Y7: KORDA | Z7: 5.4 | AA7: POPYRIN | AB7: 9.9 | AC7: SINNER | AD7: 25 | AE7: RINDERKNECH | AF7: 7.3 | AG7: NORRIE | AH7: 26 | AI7: MEDVEDEV | AJ7: 27.9 | AK7: PERRICARD | AL7: 9.1 | AM7: PAUL | AN7: 30.1 | AO7: MENSIK | AP7: 21.4 | AQ7: STRUFF | AR7: 5.3 | AS7: PAUL | AT7: 30.1
E8: TIEN | F8: 23 | G8: SHEVCHENKO | H8: 26.6 | I8: TSITSIPAS | J8: 26.8 | K8: SINNER | L8: 25 | M8: SONEGO | N8: 32.9 | O8: SINNER | P8: 25 | Q8: RUUD | R8: 32.8 | S8: PAUL | T8: 30.1 | U8: SHEVCHENKO | V8: 26.6 | W8: SINNER | X8: 25 | Y8: PERRICARD | Z8: 9.1 | AA8: SINNER | AB8: 25 | AC8: TIEN | AD8: 23 | AE8: SINNER | AF8: 25 | AG8: SINNER | AH8: 25 | AI8: MUNAR | AJ8: 23.7 | AK8: SINNER | AL8: 25 | AM8: SINNER | AN8: 25 | AO8: PERRICARD | AP8: 9.1 | AQ8: THOMPSON | AR8: 29.7 | AS8: SINNER | AT8: 25
E9: VACHEROT | F9: 29.8 | G9: SINNER | H9: 25 | I9: ZHANG | J9: 6.8 | K9: THOMPSON | L9: 29.7 | M9: TIAFOE | N9: 29.9 | O9: VUKIC | P9: 0.7 | Q9: TSITSIPAS | R9: 26.8 | S9: SINNER | T9: 25 | U9: SINNER | V9: 25 | W9: VACHEROT | X9: 29.8 | Y9: SINNER | Z9: 25 | AA9: TIAFOE | AB9: 29.9 | AC9: ZHENG | AD9: 35.1 | AE9: WAWRINKA | AF9: 26.4 | AG9: TIAFOE | AH9: 29.9 | AI9: SINNER | AJ9: 25 | AK9: WAWRINKA | AL9: 26.4 | AM9: THOMPSON | AN9: 29.7 | AO9: SHANG | AP9: 27.8 | AQ9: VACHEROT | AR9: 29.8 | AS9: VACHEROT | AT9: 29.8
F11: =SUM(F2:F9) -> 192.5 | H11: =SUM(H2:H9) -> 139.5 | J11: =SUM(J2:J9) -> 135.3 | L11: =SUM(L2:L9) -> 186.3 | N11: =SUM(N2:N9) -> 179.8 | P11: =SUM(P2:P9) -> 125.5 | R11: =SUM(R2:R9) -> 187.3 | T11: =SUM(T2:T9) -> 151.5 | V11: =SUM(V2:V9) -> 195.7 | X11: =SUM(X2:X9) -> 217.4 | Z11: =SUM(Z2:Z9) -> 125.3 | AB11: =SUM(AB2:AB9) -> 206 | AD11: =SUM(AD2:AD9) -> 183.2 | AF11: =SUM(AF2:AF9) -> 157 | AH11: =SUM(AH2:AH9) -> 190.9 | AJ11: =SUM(AJ2:AJ9) -> 181.7 | AL11: =SUM(AL2:AL9) -> 188 | AN11: =SUM(AN2:AN9) -> 175.1 | AP11: =SUM(AP2:AP9) -> 181 | AR11: =SUM(AR2:AR9) -> 179 | AT11: =SUM(AT2:AT9) -> 181
E13: BAEZ | F13: 7.6 | G13: ALCARAZ | H13: 28.5 | I13: ALCARAZ | J13: 28.5 | K13: ALCARAZ | L13: 28.5 | M13: BUBLIK | N13: 28.1 | O13: BUBLIK | P13: 28.1 | Q13: ALCARAZ | R13: 28.5 | S13: BUBLIK | T13: 28.1 | U13: BUBLIK | V13: 28.1 | W13: ALCARAZ | X13: 28.5 | Y13: DE MINAUR | Z13: 28.8 | AA13: ALCARAZ | AB13: 28.5 | AC13: ALCARAZ | AD13: 28.5 | AE13: BUBLIK | AF13: 28.1 | AG13: FUCSOVICS | AH13: 7.5 | AI13: BAEZ | AJ13: 7.6 | AK13: BUBLIK | AL13: 28.1 | AM13: BUBLIK | AN13: 28.1 | AO13: ALCARAZ | AP13: 28.5 | AQ13: ALCARAZ | AR13: 28.5 | AS13: HURCKACZ | AT13: 0.5
E14: BUBLIK | F14: 28.1 | G14: HURCKACZ | H14: 0.5 | I14: PAUL | J14: 30.4 | K14: HIJIKATA | L14: 4.8 | M14: MUSETTI | N14: 31.1 | O14: MEDVEDEV | P14: 25.9 | Q14: BUBLIK | R14: 28.1 | S14: MENSIK | T14: 31.5 | U14: MUSETTI | V14: 31.1 | W14: DARDERI | X14: 29.9 | Y14: DZUMHUR | Z14: 1.3 | AA14: MACHAC | AB14: 23.4 | AC14: MUSETTI | AD14: 31.1 | AE14: DE MINAUR | AF14: 28.8 | AG14: MAROZSAN | AH14: 29.8 | AI14: DE MINAUR | AJ14: 28.8 | AK14: CILIC | AL14: 36 | AM14: MEDVEDEV | AN14: 25.9 | AO14: HIJIKATA | AP14: 4.8 | AQ14: BUBLIK | AR14: 28.1 | AS14: MEDVEDEV | AT14: 25.9
E15: MENSIK | F15: 31.5 | G15: MENSIK | H15: 31.5 | I15: SINNER | J15: 32 | K15: MEDVEDEV | L15: 25.9 | M15: OPELKA | N15: 11.4 | O15: MENSIK | P15: 31.5 | Q15: CILIC | R15: 36 | S15: MUNAR | T15: 6.3 | U15: OPELKA | V15: 11.4 | W15: DZUMHUR | X15: 1.3 | Y15: SINNER | Z15: 32 | AA15: MAROZSAN | AB15: 29.8 | AC15: SHANG | AD15: 3.4 | AE15: MUNAR | AF15: 6.3 | AG15: MENSIK | AH15: 31.5 | AI15: MACHAC | AJ15: 23.4 | AK15: MEDVEDEV | AL15: 25.9 | AM15: MENSIK | AN15: 31.5 | AO15: HURCKACZ | AP15: 0.5 | AQ15: NAVA | AR15: 9.5 | AS15: MUSETTI | AT15: 31.1
E16: RUBLEV | F16: 24.3 | G16: SHEVCHENKO | H16: 3.1 | I16: TSITSIPAS | J16: 11.1 | K16: SHANG | L16: 3.4 | M16: SINNER | N16: 32 | O16: SINNER | P16: 32 | Q16: NORRIE | R16: 24.7 | S16: PAUL | T16: 30.4 | U16: SHANG | V16: 3.4 | W16: MAJCHRAZAK | X16: 7 | AA16: MOUTET | AB16: 25 | AC16: SINNER | AD16: 32 | AE16: SINNER | AF16: 32 | AG16: MUSETTI | AH16: 31.1 | AI16: MEDVEDEV | AJ16: 25.9 | AK16: MUSETTI | AL16: 31.1 | AM16: PAUL | AN16: 30.4 | AO16: MEDVEDEV | AP16: 25.9 | AQ16: SINNER | AR16: 32 | AS16: PAUL | AT16: 30.4
E17: SINNER | F17: 32 | G17: SINNER | H17: 32 | K17: SINNER | L17: 32 | M17: SONEGO | N17: 5 | Q17: RUUD | R17: 29.9 | S17: SINNER | T17: 32 | U17: SHELTON | V17: 32.4 | W17: MEDJEDOVIC | X17: 4.6 | AA17: MUNAR | AB17: 6.3 | AC17: TIEN | AD17: 30.4 | AE17: WAWRINKA | AF17: 28 | AG17: NORRIE | AH17: 24.7 | AI17: MUNAR | AJ17: 6.3 | AK17: SINNER | AL17: 32 | AM17: SINNER | AN17: 32 | AO17: MENSIK | AP17: 31.5 | AQ17: THOMPSON | AR17: 6.5 | AS17: SINNER | AT17: 32
E18: TIEN | F18: 30.4 | K18: THOMPSON | L18: 6.5 | M18: TIAFOE | N18: 27.3 | Q18: TSITSIPAS | R18: 11.1 | U18: SHEVCHENKO | V18: 3.1 | W18: MENSIK | X18: 31.5 | AA18: SINNER | AB18: 32 | AC18: ZHENG | AD18: 5 | AG18: SINNER | AH18: 56 | AI18: SINNER | AJ18: 32 | AK18: WAWRINKA | AL18: 28 | AM18: THOMPSON | AN18: 6.5 | AO18: SHANG | AP18: 3.4 | AQ18: VACHEROT | AR18: 29.7 | AS18: VACHEROT | AT18: 29.7
E19: VACHEROT | F19: 29.7 | U19: SINNER | V19: 32 | W19: SINNER | X19: 32 | AA19: TIAFOE | AB19: 27.3 | AG19: TIAFOE | AH19: 27.3
W20: VACHEROT | X20: 29.7
F22: =SUM(F11:F21) -> 376.1 | H22: =SUM(H11:H21) -> 235.1 | J22: =SUM(J11:J21) -> 237.3 | L22: =SUM(L11:L21) -> 287.4 | N22: =SUM(N11:N21) -> 314.7 | P22: =SUM(P11:P21) -> 243 | R22: =SUM(R11:R21) -> 345.6 | T22: =SUM(T11:T21) -> 279.8 | V22: =SUM(V11:V21) -> 337.2 | X22: =SUM(X11:X21) -> 381.9 | Z22: =SUM(Z11:Z21) -> 187.4 | AB22: =SUM(AB11:AB21) -> 378.3 | AD22: =SUM(AD11:AD21) -> 313.6 | AF22: =SUM(AF11:AF21) -> 280.2 | AH22: =SUM(AH11:AH21) -> 398.8 | AJ22: =SUM(AJ11:AJ21) -> 305.7 | AL22: =SUM(AL11:AL21) -> 369.1 | AN22: =SUM(AN11:AN21) -> 329.5 | AP22: =SUM(AP11:AP21) -> 275.6 | AR22: =SUM(AR11:AR21) -> 313.3 | AT22: =SUM(AT11:AT21) -> 330.6
E24: BUBLIK | F24: 26.3 | G24: ALCARAZ | H24: 32.5 | I24: ALCARAZ | J24: 32.5 | K24: ALCARAZ | L24: 32.5 | M24: BUBLIK | N24: 26.3 | O24: BUBLIK | P24: 26.3 | Q24: ALCARAZ | R24: 32.5 | S24: BUBLIK | T24: 26.3 | U24: BUBLIK | V24: 26.3 | W24: ALCARAZ | X24: 32.5 | Y24: DE MINAUR | Z24: 28.7 | AA24: ALCARAZ | AB24: 32.5 | AC24: ALCARAZ | AD24: 32.5 | AE24: BUBLIK | AF24: 26.3 | AG24: MAROZSAN | AH24: 8.2 | AI24: DE MINAUR | AJ24: 28.7 | AK24: BUBLIK | AL24: 26.3 | AM24: BUBLIK | AN24: 26.3 | AO24: ALCARAZ | AP24: 32.5 | AQ24: ALCARAZ | AR24: 32.5 | AS24: MEDVEDEV | AT24: 25.3
E25: MENSIK | F25: 28.6 | G25: MENSIK | H25: 28.6 | I25: PAUL | J25: 25 | K25: MEDVEDEV | L25: 25.3 | M25: MUSETTI | N25: 26.5 | O25: MEDVEDEV | P25: 25.3 | Q25: BUBLIK | R25: 26.3 | S25: MENSIK | T25: 28.6 | U25: MUSETTI | V25: 26.5 | W25: DARDERI | X25: 39.7 | Y25: SINNER | Z25: 23.4 | AA25: MACHAC | AB25: 8.4 | AC25: MUSETTI | AD25: 26.5 | AE25: DE MINAUR | AF25: 28.7 | AG25: MENSIK | AH25: 28.6 | AI25: MACHAC | AJ25: 8.4 | AK25: CILIC | AL25: 9.6 | AM25: MEDVEDEV | AN25: 25.3 | AO25: MEDVEDEV | AP25: 25.3 | AQ25: BUBLIK | AR25: 26.3 | AS25: MUSETTI | AT25: 26.5
E26: RUBLEV | F26: 5.6 | G26: SINNER | H26: 23.4 | I26: SINNER | J26: 23.4 | K26: SINNER | L26: 23.4 | M26: SINNER | N26: 23.4 | O26: MENSIK | P26: 28.6 | Q26: CILIC | R26: 9.6 | S26: PAUL | T26: 25 | U26: SHELTON | V26: 27.4 | W26: MENSIK | X26: 28.6 | AA26: MAROZSAN | AB26: 8.2 | AC26: SINNER | AD26: 23.4 | AE26: SINNER | AF26: 23.4 | AG26: MUSETTI | AH26: 26.5 | AI26: MEDVEDEV | AJ26: 25.3 | AK26: MEDVEDEV | AL26: 25.3 | AM26: MENSIK | AN26: 28.6 | AO26: MENSIK | AP26: 28.6 | AQ26: SINNER | AR26: 23.4 | AS26: PAUL | AT26: 25
E27: SINNER | F27: 23.4 | M27: TIAFOE | N27: 6.8 | O27: SINNER | P27: 23.4 | Q27: NORRIE | R27: 7 | S27: SINNER | T27: 23.4 | U27: SINNER | V27: 23.4 | W27: SINNER | X27: 23.4 | AA27: MOUTET | AB27: 2.5 | AC27: TIEN | AD27: 30.1 | AE27: WAWRINKA | AF27: 11.8 | AG27: NORRIE | AH27: 7 | AI27: SINNER | AJ27: 23.4 | AK27: MUSETTI | AL27: 26.5 | AM27: PAUL | AN27: 25 | AQ27: VACHEROT | AR27: 8.3 | AS27: SINNER | AT27: 23.4
E28: TIEN | F28: 30.1 | Q28: RUUD | R28: 24.5 | W28: VACHEROT | X28: 8.3 | AA28: SINNER | AB28: 23.4 | AG28: SINNER | AH28: 23.4 | AK28: SINNER | AL28: 23.4 | AM28: SINNER | AN28: 23.4 | AS28: VACHEROT | AT28: 8.3
E29: VACHEROT | F29: 8.3 | AA29: TIAFOE | AB29: 6.8 | AG29: TIAFOE | AH29: 6.8 | AK29: WAWRINKA | AL29: 11.8
F31: =SUM(F22:F30) -> 498.4 | H31: =SUM(H22:H30) -> 319.6 | J31: =SUM(J22:J30) -> 318.2 | L31: =SUM(L22:L30) -> 368.6 | N31: =SUM(N22:N30) -> 397.7 | P31: =SUM(P22:P30) -> 346.6 | R31: =SUM(R22:R30) -> 445.5 | T31: =SUM(T22:T30) -> 383.1 | V31: =SUM(V22:V30) -> 440.8 | X31: =SUM(X22:X30) -> 514.4 | Z31: =SUM(Z22:Z30) -> 239.5 | AB31: =SUM(AB22:AB30) -> 460.1 | AD31: =SUM(AD22:AD30) -> 426.1 | AF31: =SUM(AF22:AF30) -> 370.4 | AH31: =SUM(AH22:AH30) -> 499.3 | AJ31: =SUM(AJ22:AJ30) -> 391.5 | AL31: =SUM(AL22:AL30) -> 492 | AN31: =SUM(AN22:AN30) -> 458.1 | AP31: =SUM(AP22:AP30) -> 362 | AR31: =SUM(AR22:AR30) -> 403.8 | AT31: =SUM(AT22:AT30) -> 439.1
E33: BUBLIK | F33: 0.6 | G33: ALCARAZ | H33: 26.6 | I33: ALCARAZ | J33: 26.6 | K33: ALCARAZ | L33: 26.6 | M33: BUBLIK | N33: 0.6 | O33: BUBLIK | P33: 0.6 | Q33: ALCARAZ | R33: 26.6 | S33: BUBLIK | T33: 0.6 | U33: BUBLIK | V33: 0.6 | W33: ALCARAZ | X33: 26.6 | Y33: DE MINAUR | Z33: 36.2 | AA33: ALCARAZ | AB33: 26.6 | AC33: ALCARAZ | AD33: 26.6 | AE33: BUBLIK | AF33: 0.6 | AG33: MENSIK | AH33: 5 | AI33: DE MINAUR | AJ33: 36.2 | AK33: BUBLIK | AL33: 0.6 | AM33: BUBLIK | AN33: 0.6 | AO33: ALCARAZ | AP33: 26.6 | AQ33: ALCARAZ | AR33: 26.6 | AS33: MEDVEDEV | AT33: -1
E34: MENSIK | F34: 5 | G34: MENSIK | H34: 5 | I34: PAUL | J34: 8.6 | K34: MEDVEDEV | L34: -1 | M34: MUSETTI | N34: 34.5 | O34: MEDVEDEV | P34: -1 | Q34: BUBLIK | R34: 0.6 | S34: MENSIK | T34: 5 | U34: MUSETTI | V34: 34.5 | W34: DARDERI | X34: 5.4 | Y34: SINNER | Z34: 29.6 | AA34: SINNER | AB34: 29.6 | AC34: MUSETTI | AD34: 34.5 | AE34: DE MINAUR | AF34: 36.2 | AG34: MUSETTI | AH34: 34.5 | AI34: MEDVEDEV | AJ34: -1 | AK34: MEDVEDEV | AL34: -1 | AM34: MEDVEDEV | AN34: -1 | AO34: MEDVEDEV | AP34: -1 | AQ34: BUBLIK | AR34: 0.6 | AS34: MUSETTI | AT34: 34.5
E35: SINNER | F35: 29.6 | G35: SINNER | H35: 29.6 | I35: SINNER | J35: 29.6 | K35: SINNER | L35: 29.6 | M35: SINNER | N35: 29.6 | O35: MENSIK | P35: 5 | Q35: RUUD | R35: 8.8 | S35: PAUL | T35: 8.6 | U35: SHELTON | V35: 25.8 | W35: MENSIK | X35: 5 | AC35: SINNER | AD35: 29.6 | AE35: SINNER | AF35: 66.6 | AG35: SINNER | AH35: 29.6 | AI35: SINNER | AJ35: 29.6 | AK35: MUSETTI | AL35: 34.5 | AM35: MENSIK | AN35: 5 | AO35: MENSIK | AP35: 5 | AQ35: SINNER | AR35: 29.6 | AS35: PAUL | AT35: 8.6
E36: TIEN | F36: 41.3 | O36: SINNER | P36: 29.6 | S36: SINNER | T36: 29.6 | U36: SINNER | V36: 29.6 | W36: SINNER | X36: 29.6 | AC36: TIEN | AD36: 41.3 | AK36: SINNER | AL36: 29.6 | AM36: PAUL | AN36: 8.6 | AS36: SINNER | AT36: 29.6
AM37: SINNER | AN37: 29.6
F38: =SUM(F31:F37) -> 574.9 | H38: =SUM(H31:H37) -> 380.8 | J38: =SUM(J31:J37) -> 383 | L38: =SUM(L31:L37) -> 423.8 | N38: =SUM(N31:N37) -> 462.4 | P38: =SUM(P31:P37) -> 380.8 | R38: =SUM(R31:R37) -> 481.5 | T38: =SUM(T31:T37) -> 426.9 | V38: =SUM(V31:V37) -> 531.3 | X38: =SUM(X31:X37) -> 581 | Z38: =SUM(Z31:Z37) -> 305.3 | AB38: =SUM(AB31:AB37) -> 516.3 | AD38: =SUM(AD31:AD37) -> 558.1 | AF38: =SUM(AF31:AF37) -> 473.8 | AH38: =SUM(AH31:AH37) -> 568.4 | AJ38: =SUM(AJ31:AJ37) -> 456.3 | AL38: =SUM(AL31:AL37) -> 555.7 | AN38: =SUM(AN31:AN37) -> 500.9 | AP38: =SUM(AP31:AP37) -> 392.6 | AR38: =SUM(AR31:AR37) -> 460.6 | AT38: =SUM(AT31:AT37) -> 510.8
E40: SINNER | F40: 28.6 | G40: ALCARAZ | H40: 32.2 | I40: ALCARAZ | J40: 32.2 | K40: ALCARAZ | L40: 80.5 | M40: MUSETTI | N40: 5 | O40: SINNER | P40: 28.6 | Q40: ALCARAZ | R40: 80.5 | S40: SINNER | T40: 28.6 | U40: MUSETTI | V40: 5 | W40: ALCARAZ | X40: 32.2 | Y40: DE MINAUR | Z40: 3.2 | AA40: ALCARAZ | AB40: 32.2 | AC40: ALCARAZ | AD40: 32.2 | AE40: DE MINAUR | AF40: 3.2 | AG40: MUSETTI | AH40: 5 | AI40: DE MINAUR | AJ40: 3.2 | AK40: MUSETTI | AL40: 12.5 | AM40: SINNER | AN40: 28.6 | AO40: ALCARAZ | AP40: 32.2 | AQ40: ALCARAZ | AR40: 32.2 | AS40: MUSETTI | AT40: 5
E41: TIEN | F41: 7.3 | G41: SINNER | H41: 71.5 | I41: SINNER | J41: 28.6 | K41: SINNER | L41: 28.6 | M41: SINNER | N41: 28.6 | U41: SHELTON | V41: 6.6 | W41: SINNER | X41: 28.6 | Y41: SINNER | Z41: 28.6 | AA41: SINNER | AB41: 28.6 | AC41: MUSETTI | AD41: 5 | AE41: SINNER | AF41: 28.6 | AG41: SINNER | AH41: 28.6 | AI41: SINNER | AJ41: 28.6 | AK41: SINNER | AL41: 28.6 | AQ41: SINNER | AR41: 28.6 | AS41: SINNER | AT41: 71.5
U42: SINNER | V42: 28.6 | AC42: SINNER | AD42: 28.6
AC43: TIEN | AD43: 7.3
F45: =SUM(F38:F44) -> 610.8 | H45: =SUM(H38:H44) -> 484.5 | J45: =SUM(J38:J44) -> 443.8 | L45: =SUM(L38:L44) -> 532.9 | N45: =SUM(N38:N44) -> 496 | P45: =SUM(P38:P44) -> 409.4 | R45: =SUM(R38:R44) -> 562 | T45: =SUM(T38:T44) -> 455.5 | V45: =SUM(V38:V44) -> 571.5 | X45: =SUM(X38:X44) -> 641.8 | Z45: =SUM(Z38:Z44) -> 337.1 | AB45: =SUM(AB38:AB44) -> 577.1 | AD45: =SUM(AD38:AD44) -> 631.2 | AF45: =SUM(AF38:AF44) -> 505.6 | AH45: =SUM(AH38:AH44) -> 602 | AJ45: =SUM(AJ38:AJ44) -> 488.1 | AL45: =SUM(AL38:AL44) -> 596.8 | AN45: =SUM(AN38:AN44) -> 529.5 | AP45: =SUM(AP38:AP44) -> 424.8 | AR45: =SUM(AR38:AR44) -> 521.4 | AT45: =SUM(AT38:AT44) -> 587.3
E47: SINNER | F47: -11.8 | G47: ALCARAZ | H47: 22.6 | I47: ALCARAZ | J47: 62.2 | K47: ALCARAZ | L47: 22.6 | O47: SINNER | P47: -11.8 | Q47: ALCARAZ | R47: 22.6 | S47: SINNER | T47: -11.8 | U47: SINNER | V47: -11.8 | W47: ALCARAZ | X47: 22.6 | AA47: ALCARAZ | AB47: 62.2 | AC47: ALCARAZ | AD47: 62.2 | AM47: SINNER | AN47: -4.3 | AO47: ALCARAZ | AP47: 22.6 | AQ47: ALCARAZ | AR47: 22.6
G48: SINNER | H48: -4.3 | I48: SINNER | J48: -4.3 | K48: SINNER | L48: -4.3 | M48: SINNER | N48: -4.3 | W48: SINNER | X48: -11.8 | Y48: SINNER | Z48: -11.8 | AA48: SINNER | AB48: -4.3 | AC48: SINNER | AD48: -4.3 | AE48: SINNER | AF48: -4.3 | AG48: SINNER | AH48: -4.3 | AI48: SINNER | AJ48: -4.3 | AK48: SINNER | AL48: -4.3 | AQ48: SINNER | AR48: -11.8 | AS48: SINNER | AT48: -4.3
F52: =SUM(F45:F51) -> 599 | H52: =SUM(H45:H51) -> 502.8 | J52: =SUM(J45:J51) -> 501.7 | L52: =SUM(L45:L51) -> 551.2 | N52: =SUM(N45:N51) -> 491.7 | P52: =SUM(P45:P51) -> 397.6 | R52: =SUM(R45:R51) -> 584.6 | T52: =SUM(T45:T51) -> 443.7 | V52: =SUM(V45:V51) -> 559.7 | X52: =SUM(X45:X51) -> 652.6 | Z52: =SUM(Z45:Z51) -> 325.3 | AB52: =SUM(AB45:AB51) -> 635 | AD52: =SUM(AD45:AD51) -> 689.1 | AF52: =SUM(AF45:AF51) -> 501.3 | AH52: =SUM(AH45:AH51) -> 597.7 | AJ52: =SUM(AJ45:AJ51) -> 483.8 | AL52: =SUM(AL45:AL51) -> 592.5 | AN52: =SUM(AN45:AN51) -> 525.2 | AP52: =SUM(AP45:AP51) -> 447.4 | AR52: =SUM(AR45:AR51) -> 532.2 | AT52: =SUM(AT45:AT51) -> 583
G54: ALCARAZ | H54: 45.6 | I54: ALCARAZ | J54: 45.6 | K54: ALCARAZ | L54: 45.6 | Q54: ALCARAZ | R54: 45.6 | W54: ALCARAZ | X54: 45.6 | AA54: ALCARAZ | AB54: 45.6 | AC54: ALCARAZ | AD54: 45.6 | AO54: ALCARAZ | AP54: 96.8 | AQ54: ALCARAZ | AR54: 45.6
C57: TOTALE | F57: =SUM(F52:F56) -> 599 | H57: =SUM(H52:H56) -> 548.4 | J57: =SUM(J52:J56) -> 547.3 | L57: =SUM(L52:L56) -> 596.8 | N57: =SUM(N52:N56) -> 491.7 | P57: =SUM(P52:P56) -> 397.6 | R57: =SUM(R52:R56) -> 630.2 | T57: =SUM(T52:T56) -> 443.7 | V57: =SUM(V52:V56) -> 559.7 | X57: =SUM(X52:X56) -> 698.2 | Z57: =SUM(Z52:Z56) -> 325.3 | AB57: =SUM(AB52:AB56) -> 680.6 | AD57: =SUM(AD52:AD56) -> 734.7 | AF57: =SUM(AF52:AF56) -> 501.3 | AH57: =SUM(AH52:AH56) -> 597.7 | AJ57: =SUM(AJ52:AJ56) -> 483.8 | AL57: =SUM(AL52:AL56) -> 592.5 | AN57: =SUM(AN52:AN56) -> 525.2 | AP57: =SUM(AP52:AP56) -> 544.2 | AR57: =SUM(AR52:AR56) -> 577.8 | AT57: =SUM(AT52:AT56) -> 583
A60: 46062 | B60: 500 | C60: DALLAS | E60: MICHELSEN | F60: 26.3 | G60: BROOKSBY | H60: 11.5 | I60: DUCKWORTH | J60: 4.9 | K60: FOKINA | L60: 27.7 | M60: CILIC | N60: 34.1 | O60: NAKASHIMA | P60: 30 | Q60: BROOKSBY | R60: 11.5 | S60: DIMITROV | T60: 9.4 | U60: BROOKSBY | V60: 11.5 | W60: COBOLLI | X60: -0.3 | Y60: BROOKSBY | Z60: 11.5 | AA60: DIALLO | AB60: 7.5 | AC60: COBOLLI | AD60: -0.3 | AE60: BELLUCCI | AF60: 6.2 | AG60: CILIC | AH60: 34.1 | AI60: BROOKSBY | AJ60: 11.5 | AK60: FRITZ | AL60: 22.8 | AM60: COBOLLI | AN60: -0.3 | AO60: MICHELSEN | AP60: 26.3 | AQ60: FRITZ | AR60: 22.8 | AS60: COBOLLI | AT60: -0.3
E61: NAKASHIMA | F61: 30 | G61: CILIC | H61: 34.1 | I61: FRITZ | J61: 22.8 | K61: KORDA | L61: 29.8 | M61: COBOLLI | N61: -0.3 | O61: PAUL | P61: 22.5 | Q61: COBOLLI | R61: -0.3 | S61: FOKINA | T61: 27.7 | U61: COBOLLI | V61: -0.3 | W61: FOKINA | X61: 27.7 | Y61: CILIC | Z61: 34.1 | AA61: DIMITROV | AB61: 9.4 | AC61: FRITZ | AD61: 22.8 | AE61: DIMITROV | AF61: 9.4 | AG61: FRITZ | AH61: 22.8 | AI61: COBOLLI | AJ61: -0.3 | AK61: PAUL | AL61: 22.5 | AM61: MICHELSEN | AN61: 26.3 | AO61: PAUL | AP61: 22.5 | AQ61: JODAR | AR61: -0.8 | AS61: MICHELSEN | AT61: 26.3
E62: PAUL | F62: 22.5 | G62: FRITZ | H62: 22.8 | I62: KOVACEVIC | J62: 28.7 | K62: PAUL | L62: 22.5 | M62: FOKINA | N62: 27.7 | O62: SHELTON | P62: 28.1 | Q62: FRITZ | R62: 22.8 | S62: SHELTON | T62: 28.1 | U62: PAUL | V62: 22.5 | W62: KECMANOVIC | X62: 25 | Y62: FOKINA | Z62: 27.7 | AA62: FRITZ | AB62: 22.8 | AC62: KOVACEVIC | AD62: 28.7 | AE62: FRITZ | AF62: 22.8 | AG62: KECMANOVIC | AH62: 25 | AI62: DIMITROV | AJ62: 9.4 | AK62: SHAPOVALOV | AL62: 38.2 | AM62: PAUL | AN62: 22.5 | AO62: SHAPOVALOV | AP62: 38.2 | AQ62: KORDA | AR62: 29.8 | AS62: PAUL | AT62: 22.5
E63: SHELTON | F63: 28.1 | G63: MANNARINO | H63: 33.1 | I63: PAUL | J63: 22.5 | K63: SHELTON | L63: 28.1 | M63: FRITZ | N63: 22.8 | O63: SPIZZIRRI | P63: 31 | Q63: MANNARINO | R63: 33.1 | S63: SPIZZIRRI | T63: 31 | U63: SHELTON | V63: 28.1 | W63: SHELTON | X63: 28.1 | Y63: FRITZ | Z63: 22.8 | AA63: MICHELSEN | AB63: 26.3 | AC63: SHELTON | AD63: 28.1 | AE63: SHELTON | AF63: 28.1 | AG63: MANNARINO | AH63: 33.1 | AI63: FRITZ | AJ63: 22.8 | AK63: SPIZZIRRI | AL63: 31 | AM63: SHELTON | AN63: 28.1 | AO63: SHELTON | AP63: 28.1 | AQ63: SHELTON | AR63: 28.1 | AS63: SHELTON | AT63: 28.1
E64: TIAFOE | F64: 26.3 | G64: SHELTON | H64: 28.1 | I64: QUINN | J64: 26.5 | K64: SPIZZIRRI | L64: 31 | M64: MANNARINO | N64: 33.1 | O64: TIAFOE | P64: 26.3 | Q64: QUINN | R64: 26.5 | S64: TIAFOE | T64: 26.3 | U64: TIAFOE | V64: 26.3 | W64: TIAFOE | X64: 26.3 | Y64: MICHELSEN | Z64: 26.3 | AA64: FOKINA | AB64: 27.7 | AC64: TIEN | AD64: 6.2 | AE64: TIEN | AF64: 6.2 | AG64: SHELTON | AH64: 28.1 | AI64: PAUL | AJ64: 22.5 | AK64: TIAFOE | AL64: 26.3 | AM64: TIAFOE | AN64: 26.3 | AO64: TIAFOE | AP64: 26.3 | AQ64: SPIZZIRRI | AR64: 31 | AS64: TIAFOE | AT64: 26.3
E65: TIEN | F65: 6.2 | G65: TIAFOE | H65: 26.3 | I65: SHELTON | J65: 28.1 | K65: TIEN | L65: 6.2 | M65: SHAPOVALOV | N65: 38.2 | O65: TIEN | P65: 6.2 | Q65: SHELTON | R65: 28.1 | S65: TIEN | T65: 6.2 | U65: TIEN | V65: 6.2 | W65: TIEN | X65: 6.2 | Y65: TIEN | Z65: 6.2 | AA65: TIAFOE | AB65: 26.3 | AC65: ZHENG | AD65: 6.3 | AE65: ZHENG | AF65: 6.3 | AG65: TIEN | AH65: 6.2 | AI65: TIAFOE | AJ65: 26.3 | AK65: TIEN | AL65: 6.2 | AM65: TIEN | AN65: 6.2 | AO65: TIEN | AP65: 6.2 | AQ65: TIEN | AR65: 6.2 | AS65: TIEN | AT65: 6.2
F67: =SUM(F60:F65) -> 139.4 | H67: =SUM(H60:H65) -> 155.9 | J67: =SUM(J60:J65) -> 133.5 | L67: =SUM(L60:L65) -> 145.3 | N67: =SUM(N60:N65) -> 155.6 | P67: =SUM(P60:P65) -> 144.1 | R67: =SUM(R60:R65) -> 121.7 | T67: =SUM(T60:T65) -> 128.7 | V67: =SUM(V60:V65) -> 94.3 | X67: =SUM(X60:X65) -> 113 | Z67: =SUM(Z60:Z65) -> 128.6 | AB67: =SUM(AB60:AB65) -> 120 | AD67: =SUM(AD60:AD65) -> 91.8 | AF67: =SUM(AF60:AF65) -> 79 | AH67: =SUM(AH60:AH65) -> 149.3 | AJ67: =SUM(AJ60:AJ65) -> 92.2 | AL67: =SUM(AL60:AL65) -> 147 | AN67: =SUM(AN60:AN65) -> 109.1 | AP67: =SUM(AP60:AP65) -> 147.6 | AR67: =SUM(AR60:AR65) -> 117.1 | AT67: =SUM(AT60:AT65) -> 109.1
E69: MICHELSEN | F69: 6.5 | G69: CILIC | H69: 29 | I69: FRITZ | J69: 30.9 | K69: FOKINA | L69: 30.7 | M69: CILIC | N69: 29 | O69: NAKASHIMA | P69: 5.9 | Q69: FRITZ | R69: 30.9 | S69: FOKINA | T69: 30.7 | U69: PAUL | V69: 4.5 | W69: FOKINA | X69: 30.7 | Y69: CILIC | Z69: 29 | AA69: FOKINA | AB69: 30.7 | AC69: FRITZ | AD69: 30.9 | AE69: FRITZ | AF69: 30.9 | AG69: CILIC | AH69: 29 | AI69: FRITZ | AJ69: 30.9 | AK69: FRITZ | AL69: 30.9 | AM69: MICHELSEN | AN69: 6.5 | AO69: MICHELSEN | AP69: 6.5 | AQ69: FRITZ | AR69: 30.9 | AS69: MICHELSEN | AT69: 6.5
E70: NAKASHIMA | F70: 5.9 | G70: FRITZ | H70: 30.9 | I70: KOVACEVIC | J70: 7.2 | K70: KORDA | L70: 33.5 | M70: FOKINA | N70: 30.7 | O70: PAUL | P70: 4.5 | Q70: MANNARINO | R70: 10.5 | S70: SHELTON | T70: 23.1 | U70: SHELTON | V70: 23.1 | W70: KECMANOVIC | X70: 38.4 | Y70: FOKINA | Z70: 30.7 | AA70: FRITZ | AB70: 30.9 | AC70: KOVACEVIC | AD70: 7.2 | AE70: SHELTON | AF70: 23.1 | AG70: FRITZ | AH70: 30.9 | AI70: PAUL | AJ70: 4.5 | AK70: PAUL | AL70: 4.5 | AM70: PAUL | AN70: 4.5 | AO70: PAUL | AP70: 4.5 | AQ70: KORDA | AR70: 33.5 | AS70: PAUL | AT70: 4.5
E71: PAUL | F71: 4.5 | G71: MANNARINO | H71: 10.5 | I71: PAUL | J71: 4.5 | K71: PAUL | L71: 4.5 | M71: FRITZ | N71: 30.9 | O71: SHELTON | P71: 23.1 | Q71: QUINN | R71: 7.6 | S71: SPIZZIRRI | T71: 9.9 | U71: TIAFOE | V71: 3.7 | W71: SHELTON | X71: 23.1 | Y71: FRITZ | Z71: 30.9 | AA71: MICHELSEN | AB71: 6.5 | AC71: SHELTON | AD71: 23.1 | AG71: KECMANOVIC | AH71: 38.4 | AI71: TIAFOE | AJ71: 3.7 | AK71: SHAPOVALOV | AL71: 28.8 | AM71: SHELTON | AN71: 23.1 | AO71: SHAPOVALOV | AP71: 28.8 | AQ71: SHELTON | AR71: 23.1 | AS71: SHELTON | AT71: 23.1
E72: SHELTON | F72: 23.1 | G72: SHELTON | H72: 40.4 | I72: QUINN | J72: 7.6 | K72: SHELTON | L72: 23.1 | M72: MANNARINO | N72: 10.5 | O72: SPIZZIRRI | P72: 9.9 | Q72: SHELTON | R72: 23.1 | S72: TIAFOE | T72: 3.7 | W72: TIAFOE | X72: 3.7 | Y72: MICHELSEN | Z72: 6.5 | AA72: TIAFOE | AB72: 3.7 | AG72: MANNARINO | AH72: 10.5 | AK72: SPIZZIRRI | AL72: 9.9 | AM72: TIAFOE | AN72: 3.7 | AO72: SHELTON | AP72: 23.1 | AQ72: SPIZZIRRI | AR72: 9.9 | AS72: TIAFOE | AT72: 3.7
E73: TIAFOE | F73: 3.7 | G73: TIAFOE | H73: 3.7 | I73: SHELTON | J73: 23.1 | K73: SPIZZIRRI | L73: 9.9 | M73: SHAPOVALOV | N73: 28.8 | O73: TIAFOE | P73: 3.7 | AG73: SHELTON | AH73: 23.1 | AK73: TIAFOE | AL73: 3.7 | AO73: TIAFOE | AP73: 3.7
F76: =SUM(F67:F75) -> 183.1 | H76: =SUM(H67:H75) -> 270.4 | J76: =SUM(J67:J75) -> 206.8 | L76: =SUM(L67:L75) -> 247 | N76: =SUM(N67:N75) -> 285.5 | P76: =SUM(P67:P75) -> 191.2 | R76: =SUM(R67:R75) -> 193.8 | T76: =SUM(T67:T75) -> 196.1 | V76: =SUM(V67:V75) -> 125.6 | X76: =SUM(X67:X75) -> 208.9 | Z76: =SUM(Z67:Z75) -> 225.7 | AB76: =SUM(AB67:AB75) -> 191.8 | AD76: =SUM(AD67:AD75) -> 153 | AF76: =SUM(AF67:AF75) -> 133 | AH76: =SUM(AH67:AH75) -> 281.2 | AJ76: =SUM(AJ67:AJ75) -> 131.3 | AL76: =SUM(AL67:AL75) -> 224.8 | AN76: =SUM(AN67:AN75) -> 146.9 | AP76: =SUM(AP67:AP75) -> 214.2 | AR76: =SUM(AR67:AR75) -> 214.5 | AT76: =SUM(AT67:AT75) -> 146.9
E78: SHELTON | F78: 23.3 | G78: CILIC | H78: 32 | I78: FRITZ | J78: 24.4 | K78: FOKINA | L78: 9.3 | M78: CILIC | N78: 32 | O78: SHELTON | P78: 46.6 | Q78: FRITZ | R78: 24.4 | S78: FOKINA | T78: 9.3 | U78: SHELTON | V78: 23.3 | W78: FOKINA | X78: 9.3 | Y78: CILIC | Z78: 32 | AA78: FOKINA | AB78: 9.3 | AC78: FRITZ | AD78: 24.4 | AE78: FRITZ | AF78: 24.4 | AG78: CILIC | AH78: 32 | AI78: FRITZ | AJ78: 24.4 | AK78: FRITZ | AL78: 24.4 | AM78: SHELTON | AN78: 23.3 | AO78: SHAPOVALOV | AP78: 25.9 | AQ78: FRITZ | AR78: 24.4 | AS78: SHELTON | AT78: 46.6
G79: FRITZ | H79: 24.4 | I79: SHELTON | J79: 23.3 | K79: KORDA | L79: 10.2 | M79: FOKINA | N79: 9.3 | Q79: SHELTON | R79: 23.3 | S79: SHELTON | T79: 23.3 | W79: KECMANOVIC | X79: 10.3 | Y79: FOKINA | Z79: 9.3 | AA79: FRITZ | AB79: 24.4 | AC79: SHELTON | AD79: 23.3 | AE79: SHELTON | AF79: 46.6 | AG79: FRITZ | AH79: 24.4 | AK79: SHAPOVALOV | AL79: 25.9 | AO79: SHELTON | AP79: 46.6 | AQ79: KORDA | AR79: 10.2
G80: SHELTON | H80: 23.3 | K80: SHELTON | L80: 23.3 | M80: FRITZ | N80: 24.4 | W80: SHELTON | X80: 23.3 | Y80: FRITZ | Z80: 48.8 | AG80: KECMANOVIC | AH80: 10.3 | AQ80: SHELTON | AR80: 23.3
M81: SHAPOVALOV | N81: 25.9 | AG81: SHELTON | AH81: 23.3
F83: =SUM(F76:F82) -> 206.4 | H83: =SUM(H76:H82) -> 350.1 | J83: =SUM(J76:J82) -> 254.5 | L83: =SUM(L76:L82) -> 289.8 | N83: =SUM(N76:N82) -> 377.1 | P83: =SUM(P76:P82) -> 237.8 | R83: =SUM(R76:R82) -> 241.5 | T83: =SUM(T76:T82) -> 228.7 | V83: =SUM(V76:V82) -> 148.9 | X83: =SUM(X76:X82) -> 251.8 | Z83: =SUM(Z76:Z82) -> 315.8 | AB83: =SUM(AB76:AB82) -> 225.5 | AD83: =SUM(AD76:AD82) -> 200.7 | AF83: =SUM(AF76:AF82) -> 204 | AH83: =SUM(AH76:AH82) -> 371.2 | AJ83: =SUM(AJ76:AJ82) -> 155.7 | AL83: =SUM(AL76:AL82) -> 275.1 | AN83: =SUM(AN76:AN82) -> 170.2 | AP83: =SUM(AP76:AP82) -> 286.7 | AR83: =SUM(AR76:AR82) -> 272.4 | AT83: =SUM(AT76:AT82) -> 193.5
E85: SHELTON | F85: 52.4 | G85: CILIC | H85: 9.8 | I85: FRITZ | J85: 26.8 | K85: SHELTON | L85: 52.4 | M85: CILIC | N85: 9.8 | O85: SHELTON | P85: 23.3 | Q85: FRITZ | R85: 26.8 | S85: SHELTON | T85: 52.4 | U85: SHELTON | V85: 23.3 | W85: SHELTON | X85: 52.4 | Y85: CILIC | Z85: 9.8 | AA85: FRITZ | AB85: 26.8 | AC85: FRITZ | AD85: 26.8 | AE85: FRITZ | AF85: 26.8 | AG85: CILIC | AH85: 9.8 | AI85: FRITZ | AJ85: 26.8 | AK85: FRITZ | AL85: 60.3 | AM85: SHELTON | AN85: 52.4 | AO85: SHAPOVALOV | AP85: 11.2 | AQ85: FRITZ | AR85: 60.3 | AS85: SHELTON | AT85: 23.3
G86: FRITZ | H86: 26.8 | I86: SHELTON | J86: 23.3 | M86: FRITZ | N86: 26.8 | Q86: SHELTON | R86: 52.4 | Y86: FRITZ | Z86: 26.8 | AC86: SHELTON | AD86: 52.4 | AE86: SHELTON | AF86: 23.3 | AG86: FRITZ | AH86: 60.3 | AK86: SHAPOVALOV | AL86: 11.2 | AO86: SHELTON | AP86: 23.3 | AQ86: SHELTON | AR86: 23.3
G87: SHELTON | H87: 23.3 | M87: SHAPOVALOV | N87: 11.2 | AG87: SHELTON | AH87: 23.3
F89: =SUM(F83:F88) -> 258.8 | H89: =SUM(H83:H88) -> 410 | J89: =SUM(J83:J88) -> 304.6 | L89: =SUM(L83:L88) -> 342.2 | N89: =SUM(N83:N88) -> 424.9 | P89: =SUM(P83:P88) -> 261.1 | R89: =SUM(R83:R88) -> 320.7 | T89: =SUM(T83:T88) -> 281.1 | V89: =SUM(V83:V88) -> 172.2 | X89: =SUM(X83:X88) -> 304.2 | Z89: =SUM(Z83:Z88) -> 352.4 | AB89: =SUM(AB83:AB88) -> 252.3 | AD89: =SUM(AD83:AD88) -> 279.9 | AF89: =SUM(AF83:AF88) -> 254.1 | AH89: =SUM(AH83:AH88) -> 464.6 | AJ89: =SUM(AJ83:AJ88) -> 182.5 | AL89: =SUM(AL83:AL88) -> 346.6 | AN89: =SUM(AN83:AN88) -> 222.6 | AP89: =SUM(AP83:AP88) -> 321.2 | AR89: =SUM(AR83:AR88) -> 356 | AT89: =SUM(AT83:AT88) -> 216.8
E91: SHELTON | F91: 47.4 | G91: FRITZ | H91: 8.9 | I91: FRITZ | J91: 8.9 | K91: SHELTON | L91: 47.4 | M91: FRITZ | N91: 8.9 | O91: SHELTON | P91: 47.4 | Q91: FRITZ | R91: 8.9 | S91: SHELTON | T91: 47.4 | U91: SHELTON | V91: 88.5 | W91: SHELTON | X91: 47.4 | Y91: FRITZ | Z91: 8.9 | AA91: FRITZ | AB91: 22.3 | AC91: FRITZ | AD91: 8.9 | AE91: FRITZ | AF91: 8.9 | AG91: FRITZ | AH91: 8.9 | AI91: FRITZ | AJ91: 22.3 | AK91: FRITZ | AL91: 8.9 | AM91: SHELTON | AN91: 47.4 | AO91: SHELTON | AP91: 47.4 | AQ91: FRITZ | AR91: 8.9 | AS91: SHELTON | AT91: 47.4
G92: SHELTON | H92: 47.4 | I92: SHELTON | J92: 47.4 | Q92: SHELTON | R92: 47.4 | AC92: SHELTON | AD92: 47.4 | AE92: SHELTON | AF92: 47.4 | AG92: SHELTON | AH92: 47.4 | AQ92: SHELTON | AR92: 47.4
C94: TOTALE | F94: =SUM(F88:F93) -> 306.2 | H94: =SUM(H88:H93) -> 466.3 | J94: =SUM(J88:J93) -> 360.9 | L94: =SUM(L88:L93) -> 389.6 | N94: =SUM(N88:N93) -> 433.8 | P94: =SUM(P88:P93) -> 308.5 | R94: =SUM(R88:R93) -> 377 | T94: =SUM(T88:T93) -> 328.5 | V94: =SUM(V88:V93) -> 260.7 | X94: =SUM(X88:X93) -> 351.6 | Z94: =SUM(Z88:Z93) -> 361.3 | AB94: =SUM(AB88:AB93) -> 274.6 | AD94: =SUM(AD88:AD93) -> 336.2 | AF94: =SUM(AF88:AF93) -> 310.4 | AH94: =SUM(AH88:AH93) -> 520.9 | AJ94: =SUM(AJ88:AJ93) -> 204.8 | AL94: =SUM(AL88:AL93) -> 355.5 | AN94: =SUM(AN88:AN93) -> 270 | AP94: =SUM(AP88:AP93) -> 368.6 | AR94: =SUM(AR88:AR93) -> 412.3 | AT94: =SUM(AT88:AT93) -> 264.2
A97: 46062 | B97: 500 | C97: ROTTERDAM | E97: AUGER-A. | F97: 28.7 | G97: AUGER-A. | H97: 28.7 | I97: BUBLIK | J97: 24.9 | K97: AUGER-A. | L97: 28.7 | M97: BUBLIK | N97: 24.9 | O97: BUBLIK | P97: 24.9 | Q97: AUGER-A. | R97: 28.7 | S97: BUBLIK | T97: 24.9 | U97: AUGER-A. | V97: 28.7 | W97: BUBLIK | X97: 24.9 | Y97: BERGS | Z97: 8.9 | AA97: BUBLIK | AB97: 24.9 | AC97: AUGER-A. | AD97: 28.7 | AE97: BUBLIK | AF97: 24.9 | AG97: BUBLIK | AH97: 24.9 | AI97: BUBLIK | AJ97: 24.9 | AK97: AUGER-A. | AL97: 28.7 | AM97: BUBLIK | AN97: 24.9 | AO97: BERGS | AP97: 9 | AQ97: AUGER-A. | AR97: 28.7 | AS97: BUBLIK | AT97: 24.9
E98: HURKACZ | F98: 10.1 | G98: BERGS | H98: 8.9 | I98: DE MINAUR | J98: 28.7 | K98: DE MINAUR | L98: 28.7 | M98: GRIEKSPOOR | N98: 32.1 | O98: DE MINAUR | P98: 28.7 | Q98: DE MINAUR | R98: 28.7 | S98: DE MINAUR | T98: 28.7 | U98: BUBLIK | V98: 24.9 | W98: DE MINAUR | X98: 28.7 | Y98: DE MINAUR | Z98: 28.7 | AA98: DE MINAUR | AB98: 28.7 | AC98: BAUTISTA-A. | AD98: 5.9 | AE98: DE MINAUR | AF98: 28.7 | AG98: DE MINAUR | AH98: 28.7 | AI98: DE MINAUR | AJ98: 28.7 | AK98: DE MINAUR | AL98: 28.7 | AM98: DE MINAUR | AN98: 28.7 | AO98: DE MINAUR | AP98: 28.7 | AQ98: HALYS | AR98: 27.2 | AS98: BUDKOV K. | AT98: 1.8
E99: KHACHANOV | F99: 22.6 | G99: DE MINAUR | H99: 28.7 | I99: HALYS | J99: 27.2 | K99: GRIEKSPOOR | L99: 32.1 | M99: KHACHANOV | N99: 22.6 | O99: FUCSOVICS | P99: 0.5 | Q99: GRIEKSPOOR | R99: 32.1 | S99: FUCSOVICS | T99: 0.5 | U99: DE MINAUR | V99: 28.7 | W99: GRIEKSPOOR | X99: 32.1 | Y99: KHACHANOV | Z99: 22.6 | AA99: KHACHANOV | AB99: 22.6 | AC99: DE MINAUR | AD99: 28.7 | AE99: HUMBERT | AF99: 29.7 | AG99: HALYS | AH99: 27.2 | AI99: FUCSOVICS | AJ99: 0.5 | AK99: GRIEKSPOOR | AL99: 32.1 | AM99: FUCSOVICS | AN99: 0.5 | AO99: GRIEKSPOOR | AP99: 32.1 | AQ99: KHACHANOV | AR99: 22.6 | AS99: DE MINAUR | AT99: 28.7
E100: MEDVEDEV | F100: 8.6 | G100: HURKACZ | H100: 10.1 | I100: KHACHANOV | J100: 22.6 | K100: MUNAR | L100: 34.5 | M100: MEDVEDEV | N100: 8.6 | O100: POPYRIN | P100: 7 | Q100: MUNAR | R100: 34.5 | S100: MEDVEDEV | T100: 8.6 | U100: HALYS | V100: 27.2 | W100: HALYS | X100: 27.2 | Y100: MEDVEDEV | Z100: 8.6 | AA100: FUCSOVICS | AB100: 0.5 | AC100: HALYS | AD100: 27.2 | AE100: FUCSOVICS | AF100: 0.5 | AG100: MEDVEDEV | AH100: 8.6 | AI100: GRIEKSPOOR | AJ100: 32.1 | AK100: MUNAR | AL100: 34.5 | AM100: MEDVEDEV | AN100: 8.6 | AO100: MEDVEDEV | AP100: 8.6 | AQ100: MEDVEDEV | AR100: 8.6 | AS100: FUCSOVICS | AT100: 0.5
E101: PERRICARD | F101: 5.9 | G101: NORRIE | H101: 29.9 | I101: NORRIE | J101: 29.9 | K101: NORRIE | L101: 29.9 | M101: TSITSIPAS | N101: 30.3 | O101: MUNAR | P101: 34.5 | Q101: NORRIE | R101: 29.9 | S101: PERRICARD | T101: 5.9 | U101: STRUFF | V101: 34.1 | W101: MEDVEDEV | X101: 8.6 | Y101: VAN DE ZAND. | Z101: 27.1 | AA101: NORRIE | AB101: 29.9 | AC101: MEDVEDEV | AD101: 8.6 | AE101: MUNAR | AF101: 34.5 | AG101: MUNAR | AH101: 34.5 | AI101: NORRIE | AJ101: 29.9 | AK101: NORRIE | AL101: 29.9 | AM101: PERRICARD | AN101: 5.9 | AO101: MUNAR | AP101: 34.5 | AQ101: NORRIE | AR101: 29.9 | AS101: MEDVEDEV | AT101: 8.6
E102: RINDERKNECH | F102: 6.3 | G102: WAWRINKA | H102: 28.7 | I102: RINDERKNECH | J102: 6.3 | K102: STRUFF | L102: 34.1 | M102: WAWRINKA | N102: 28.7 | O102: NORRIE | P102: 29.9 | Q102: STRUFF | R102: 34.1 | S102: ROYER | T102: 10.3 | U102: WAWRINKA | V102: 28.7 | W102: VAN DE ZAND. | X102: 27.1 | Y102: WAWRINKA | Z102: 28.7 | AA102: STRUFF | AB102: 34.1 | AC102: STRUFF | AD102: 34.1 | AE102: NORRIE | AF102: 29.9 | AG102: ROYER | AH102: 10.2 | AI102: RINDERKNECH | AJ102: 6.4 | AK102: VAN DE ZAND. | AL102: 27.1 | AM102: VAN DE ZAND. | AN102: 27.1 | AO102: NORRIE | AP102: 29.9 | AQ102: WAWRINKA | AR102: 28.7 | AS102: VAN DE ZAND. | AT102: 27.1
F104: =SUM(F97:F102) -> 82.2 | H104: =SUM(H97:H102) -> 135 | J104: =SUM(J97:J102) -> 139.6 | L104: =SUM(L97:L102) -> 188 | N104: =SUM(N97:N102) -> 147.2 | P104: =SUM(P97:P102) -> 125.5 | R104: =SUM(R97:R102) -> 188 | T104: =SUM(T97:T102) -> 78.9 | V104: =SUM(V97:V102) -> 172.3 | X104: =SUM(X97:X102) -> 148.6 | Z104: =SUM(Z97:Z102) -> 124.6 | AB104: =SUM(AB97:AB102) -> 140.7 | AD104: =SUM(AD97:AD102) -> 133.2 | AF104: =SUM(AF97:AF102) -> 148.2 | AH104: =SUM(AH97:AH102) -> 134.1 | AJ104: =SUM(AJ97:AJ102) -> 122.5 | AL104: =SUM(AL97:AL102) -> 181 | AN104: =SUM(AN97:AN102) -> 95.7 | AP104: =SUM(AP97:AP102) -> 142.8 | AR104: =SUM(AR97:AR102) -> 145.7 | AT104: =SUM(AT97:AT102) -> 91.6
E106: AUGER-A. | F106: 28.2 | G106: AUGER-A. | H106: 28.2 | I106: BUBLIK | J106: 23.1 | K106: AUGER-A. | L106: 28.2 | M106: BUBLIK | N106: 23.1 | O106: BUBLIK | P106: 23.1 | Q106: AUGER-A. | R106: 28.2 | S106: BUBLIK | T106: 23.1 | U106: AUGER-A. | V106: 28.2 | W106: BUBLIK | X106: 23.1 | Y106: DE MINAUR | Z106: 30.1 | AA106: BUBLIK | AB106: 23.1 | AC106: AUGER-A. | AD106: 28.2 | AE106: BUBLIK | AF106: 23.1 | AG106: BUBLIK | AH106: 23.1 | AI106: BUBLIK | AJ106: 23.1 | AK106: AUGER-A. | AL106: 28.2 | AM106: BUBLIK | AN106: 23.1 | AO106: DE MINAUR | AP106: 30.1 | AQ106: AUGER-A. | AR106: 28.2 | AS106: BUBLIK | AT106: 23.1
E107: KHACHANOV | F107: 9.5 | G107: DE MINAUR | H107: 52.7 | I107: DE MINAUR | J107: 30.1 | K107: DE MINAUR | L107: 30.1 | M107: GRIEKSPOOR | N107: 28.2 | O107: DE MINAUR | P107: 30.1 | Q107: DE MINAUR | R107: 30.1 | S107: DE MINAUR | T107: 30.1 | U107: BUBLIK | V107: 23.1 | W107: DE MINAUR | X107: 30.1 | Y107: KHACHANOV | Z107: 9.5 | AA107: DE MINAUR | AB107: 30.1 | AC107: DE MINAUR | AD107: 30.1 | AE107: DE MINAUR | AF107: 30.1 | AG107: DE MINAUR | AH107: 30.1 | AI107: DE MINAUR | AJ107: 30.1 | AK107: DE MINAUR | AL107: 30.1 | AM107: DE MINAUR | AN107: 30.1 | AO107: GRIEKSPOOR | AP107: 28.2 | AQ107: HALYS | AR107: 8.6 | AS107: DE MINAUR | AT107: 30.1
G108: NORRIE | H108: 3.5 | I108: HALYS | J108: 8.6 | K108: GRIEKSPOOR | L108: 28.2 | M108: KHACHANOV | N108: 9.5 | O108: MUNAR | P108: 27.4 | Q108: GRIEKSPOOR | R108: 28.2 | U108: DE MINAUR | V108: 30.1 | W108: GRIEKSPOOR | X108: 28.2 | Y108: VAN DE ZAND. | Z108: 34.3 | AA108: KHACHANOV | AB108: 9.5 | AC108: HALYS | AD108: 8.6 | AE108: HUMBERT | AF108: 28.5 | AG108: HALYS | AH108: 8.6 | AI108: GRIEKSPOOR | AJ108: 28.2 | AK108: GRIEKSPOOR | AL108: 28.2 | AM108: VAN DE ZAND. | AN108: 34.3 | AO108: MUNAR | AP108: 27.4 | AQ108: KHACHANOV | AR108: 9.5 | AS108: VAN DE ZAND. | AT108: 34.3
G109: WAWRINKA | H109: 5.3 | I109: KHACHANOV | J109: 9.5 | K109: MUNAR | L109: 27.4 | M109: TSITSIPAS | N109: 6 | O109: NORRIE | P109: 3.5 | Q109: MUNAR | R109: 27.4 | U109: HALYS | V109: 8.6 | W109: HALYS | X109: 8.6 | Y109: WAWRINKA | Z109: 5.3 | AA109: NORRIE | AB109: 3.5 | AC109: STRUFF | AD109: 11 | AE109: MUNAR | AF109: 27.4 | AG109: MUNAR | AH109: 27.4 | AI109: NORRIE | AJ109: 3.5 | AK109: MUNAR | AL109: 27.4 | AO109: NORRIE | AP109: 3.5 | AQ109: NORRIE | AR109: 3.5
I110: NORRIE | J110: 3.5 | K110: NORRIE | L110: 3.5 | M110: WAWRINKA | N110: 5.3 | Q110: NORRIE | R110: 3.5 | U110: STRUFF | V110: 11 | W110: VAN DE ZAND. | X110: 34.3 | AA110: STRUFF | AB110: 11 | AE110: NORRIE | AF110: 3.5 | AK110: NORRIE | AL110: 3.5 | AQ110: WAWRINKA | AR110: 5.3
K111: STRUFF | L111: 11 | Q111: STRUFF | R111: 11 | U111: WAWRINKA | V111: 5.3 | AK111: VAN DE ZAND. | AL111: 34.3
F113: =SUM(F104:F112) -> 119.9 | H113: =SUM(H104:H112) -> 224.7 | J113: =SUM(J104:J112) -> 214.4 | L113: =SUM(L104:L112) -> 316.4 | N113: =SUM(N104:N112) -> 219.3 | P113: =SUM(P104:P112) -> 209.6 | R113: =SUM(R104:R112) -> 316.4 | T113: =SUM(T104:T112) -> 132.1 | V113: =SUM(V104:V112) -> 278.6 | X113: =SUM(X104:X112) -> 272.9 | Z113: =SUM(Z104:Z112) -> 203.8 | AB113: =SUM(AB104:AB112) -> 217.9 | AD113: =SUM(AD104:AD112) -> 211.1 | AF113: =SUM(AF104:AF112) -> 260.8 | AH113: =SUM(AH104:AH112) -> 223.3 | AJ113: =SUM(AJ104:AJ112) -> 207.4 | AL113: =SUM(AL104:AL112) -> 332.7 | AN113: =SUM(AN104:AN112) -> 183.2 | AP113: =SUM(AP104:AP112) -> 232 | AR113: =SUM(AR104:AR112) -> 200.8 | AT113: =SUM(AT104:AT112) -> 179.1
E115: AUGER-A. | F115: 29.1 | G115: AUGER-A. | H115: 29.1 | I115: BUBLIK | J115: 24.2 | K115: AUGER-A. | L115: 29.1 | M115: BUBLIK | N115: 24.2 | O115: BUBLIK | P115: 24.2 | Q115: AUGER-A. | R115: 29.1 | S115: BUBLIK | T115: 24.2 | U115: AUGER-A. | V115: 29.1 | W115: BUBLIK | X115: 24.2 | Y115: DE MINAUR | Z115: 42 | AA115: BUBLIK | AB115: 24.2 | AC115: AUGER-A. | AD115: 29.1 | AE115: BUBLIK | AF115: 24.2 | AG115: BUBLIK | AH115: 24.2 | AI115: BUBLIK | AJ115: 24.2 | AK115: AUGER-A. | AL115: 29.1 | AM115: BUBLIK | AN115: 24.2 | AO115: DE MINAUR | AP115: 21 | AQ115: AUGER-A. | AR115: 58.2 | AS115: BUBLIK | AT115: 24.2
G116: DE MINAUR | H116: 21 | I116: DE MINAUR | J116: 21 | K116: DE MINAUR | L116: 21 | M116: GRIEKSPOOR | N116: 6.8 | O116: DE MINAUR | P116: 21 | Q116: DE MINAUR | R116: 21 | S116: DE MINAUR | T116: 21 | U116: BUBLIK | V116: 24.2 | W116: DE MINAUR | X116: 21 | Y116: VAN DE ZAND. | Z116: 12.4 | AA116: DE MINAUR | AB116: 21 | AC116: DE MINAUR | AD116: 21 | AE116: DE MINAUR | AF116: 42 | AG116: DE MINAUR | AH116: 21 | AI116: DE MINAUR | AJ116: 21 | AK116: DE MINAUR | AL116: 21 | AM116: DE MINAUR | AN116: 21 | AO116: GRIEKSPOOR | AP116: 6.8 | AS116: DE MINAUR | AT116: 21
K117: GRIEKSPOOR | L117: 6.8 | O117: MUNAR | P117: 10.3 | Q117: GRIEKSPOOR | R117: 6.8 | U117: DE MINAUR | V117: 21 | W117: GRIEKSPOOR | X117: 6.8 | AE117: HUMBERT | AF117: 31.6 | AG117: MUNAR | AH117: 10.3 | AI117: GRIEKSPOOR | AJ117: 6.8 | AK117: GRIEKSPOOR | AL117: 6.8 | AM117: VAN DE ZAND. | AN117: 12.4 | AO117: MUNAR | AP117: 10.3 | AS117: VAN DE ZAND. | AT117: 12.4
K118: MUNAR | L118: 10.3 | Q118: MUNAR | R118: 10.3 | W118: VAN DE ZAND. | X118: 12.4 | AE118: MUNAR | AF118: 10.3 | AK118: MUNAR | AL118: 10.3
AK119: VAN DE ZAND. | AL119: 12.4
F121: =SUM(F113:F120) -> 149 | H121: =SUM(H113:H120) -> 274.8 | J121: =SUM(J113:J120) -> 259.6 | L121: =SUM(L113:L120) -> 383.6 | N121: =SUM(N113:N120) -> 250.3 | P121: =SUM(P113:P120) -> 265.1 | R121: =SUM(R113:R120) -> 383.6 | T121: =SUM(T113:T120) -> 177.3 | V121: =SUM(V113:V120) -> 352.9 | X121: =SUM(X113:X120) -> 337.3 | Z121: =SUM(Z113:Z120) -> 258.2 | AB121: =SUM(AB113:AB120) -> 263.1 | AD121: =SUM(AD113:AD120) -> 261.2 | AF121: =SUM(AF113:AF120) -> 368.9 | AH121: =SUM(AH113:AH120) -> 278.8 | AJ121: =SUM(AJ113:AJ120) -> 259.4 | AL121: =SUM(AL113:AL120) -> 412.3 | AN121: =SUM(AN113:AN120) -> 240.8 | AP121: =SUM(AP113:AP120) -> 270.1 | AR121: =SUM(AR113:AR120) -> 259 | AT121: =SUM(AT113:AT120) -> 236.7
E123: AUGER-A. | F123: 80.8 | G123: AUGER-A. | H123: 35.9 | I123: BUBLIK | J123: 0.4 | K123: AUGER-A. | L123: 35.9 | M123: BUBLIK | N123: 0.4 | O123: BUBLIK | P123: 0.4 | Q123: AUGER-A. | R123: 80.8 | S123: BUBLIK | T123: 0.4 | U123: AUGER-A. | V123: 35.9 | W123: BUBLIK | X123: 0.4 | AA123: BUBLIK | AB123: 0.4 | AC123: AUGER-A. | AD123: 35.9 | AE123: BUBLIK | AF123: 0.4 | AG123: BUBLIK | AH123: 0.4 | AI123: BUBLIK | AJ123: 0.4 | AK123: AUGER-A. | AL123: 35.9 | AM123: BUBLIK | AN123: 0.9 | AO123: DE MINAUR | AP123: 30.5 | AQ123: AUGER-A. | AR123: 35.9 | AS123: BUBLIK | AT123: 0.4
G124: DE MINAUR | H124: 30.5 | I124: DE MINAUR | J124: 68.6 | K124: DE MINAUR | L124: 30.5 | O124: DE MINAUR | P124: 68.6 | Q124: DE MINAUR | R124: 30.5 | S124: DE MINAUR | T124: 30.5 | U124: BUBLIK | V124: 0.4 | W124: DE MINAUR | X124: 30.5 | Y124: DE MINAUR | Z124: 30.5 | AA124: DE MINAUR | AB124: 30.5 | AC124: DE MINAUR | AD124: 68.6 | AE124: DE MINAUR | AF124: 30.5 | AG124: DE MINAUR | AH124: 30.5 | AI124: DE MINAUR | AJ124: 30.5 | AK124: DE MINAUR | AL124: 68.6 | AM124: DE MINAUR | AN124: 30.5 | AS124: DE MINAUR | AT124: 68.6
U125: DE MINAUR | V125: 30.5 | AE125: HUMBERT | AF125: 5.7
F127: =SUM(F121:F126) -> 229.8 | H127: =SUM(H121:H126) -> 341.2 | J127: =SUM(J121:J126) -> 328.6 | L127: =SUM(L121:L126) -> 450 | N127: =SUM(N121:N126) -> 250.7 | P127: =SUM(P121:P126) -> 334.1 | R127: =SUM(R121:R126) -> 494.9 | T127: =SUM(T121:T126) -> 208.2 | V127: =SUM(V121:V126) -> 419.7 | X127: =SUM(X121:X126) -> 368.2 | Z127: =SUM(Z121:Z126) -> 288.7 | AB127: =SUM(AB121:AB126) -> 294 | AD127: =SUM(AD121:AD126) -> 365.7 | AF127: =SUM(AF121:AF126) -> 405.5 | AH127: =SUM(AH121:AH126) -> 309.7 | AJ127: =SUM(AJ121:AJ126) -> 290.3 | AL127: =SUM(AL121:AL126) -> 516.8 | AN127: =SUM(AN121:AN126) -> 272.2 | AP127: =SUM(AP121:AP126) -> 300.6 | AR127: =SUM(AR121:AR126) -> 294.9 | AT127: =SUM(AT121:AT126) -> 305.7
E129: AUGER-A. | F129: 1.4 | G129: AUGER-A. | H129: 1.4 | I129: DE MINAUR | J129: 58.1 | K129: AUGER-A. | L129: 3.5 | O129: DE MINAUR | P129: 58.1 | Q129: AUGER-A. | R129: 1.4 | S129: DE MINAUR | T129: 115.2 | U129: AUGER-A. | V129: 1.4 | W129: DE MINAUR | X129: 115.2 | Y129: DE MINAUR | Z129: 58.1 | AA129: DE MINAUR | AB129: 115.2 | AC129: AUGER-A. | AD129: 1.4 | AE129: DE MINAUR | AF129: 58.1 | AG129: DE MINAUR | AH129: 58.1 | AI129: DE MINAUR | AJ129: 115.2 | AK129: AUGER-A. | AL129: 1.4 | AM129: DE MINAUR | AN129: 58.1 | AO129: DE MINAUR | AP129: 115.2 | AQ129: AUGER-A. | AR129: 1.4 | AS129: DE MINAUR | AT129: 58.1
G130: DE MINAUR | H130: 58.1 | K130: DE MINAUR | L130: 58.1 | Q130: DE MINAUR | R130: 58.1 | U130: DE MINAUR | V130: 115.2 | AC130: DE MINAUR | AD130: 58.1 | AK130: DE MINAUR | AL130: 58.1
C132: TOTALE | F132: =SUM(F126:F131) -> 231.2 | H132: =SUM(H126:H131) -> 400.7 | J132: =SUM(J126:J131) -> 386.7 | L132: =SUM(L126:L131) -> 511.6 | N132: =SUM(N126:N131) -> 250.7 | P132: =SUM(P126:P131) -> 392.2 | R132: =SUM(R126:R131) -> 554.4 | T132: =SUM(T126:T131) -> 323.4 | V132: =SUM(V126:V131) -> 536.3 | X132: =SUM(X126:X131) -> 483.4 | Z132: =SUM(Z126:Z131) -> 346.8 | AB132: =SUM(AB126:AB131) -> 409.2 | AD132: =SUM(AD126:AD131) -> 425.2 | AF132: =SUM(AF126:AF131) -> 463.6 | AH132: =SUM(AH126:AH131) -> 367.8 | AJ132: =SUM(AJ126:AJ131) -> 405.5 | AL132: =SUM(AL126:AL131) -> 576.3 | AN132: =SUM(AN126:AN131) -> 330.3 | AP132: =SUM(AP126:AP131) -> 415.8 | AR132: =SUM(AR126:AR131) -> 296.3 | AT132: =SUM(AT126:AT131) -> 363.8
A135: 46069 | B135: 500 | C135: DOHA | G135: BERGS | H135: 26.4 | I135: ALCARAZ | J135: 25.6 | K135: FILS | L135: 25.1 | M135: ALCARAZ | N135: 25.6 | O135: MENSIK | P135: 24.8 | Q135: ALCARAZ | R135: 25.6 | S135: FILS | T135: 25.1 | U135: FILS | V135: 25.1 | W135: ALCARAZ | X135: 25.6 | Y135: ALCARAZ | Z135: 25.6 | AA135: ALCARAZ | AB135: 25.6 | AC135: LEHECKA | AD135: 32 | AE135: ALCARAZ | AF135: 25.6 | AG135: ALCARAZ | AH135: 25.6 | AI135: BROOKSBY | AJ135: 4.5 | AK135: ALCARAZ | AL135: 25.6 | AM135: ALCARAZ | AN135: 25.6 | AO135: FILS | AP135: 25.1 | AQ135: ALCARAZ | AR135: 25.6 | AS135: ALCARAZ | AT135: 25.6
G136: FUCSOVICS | H136: 30.3 | I136: FILS | J136: 25.1 | K136: FUCSOVICS | L136: 30.3 | M136: FUCSOVICS | N136: 30.3 | O136: PERRICARD | P136: 8.6 | Q136: ECHARGUI | R136: 7.7 | S136: FUCSOVICS | T136: 30.3 | U136: KHACHANOV | V136: 23.7 | W136: KHACHANOV | X136: 23.7 | Y136: FILS | Z136: 25.1 | AA136: HABIB | AB136: 5.2 | AC136: MAJCHRZAK | AD136: 9.1 | AE136: CARRENO-B. | AF136: 10.5 | AG136: FILS | AH136: 25.1 | AI136: FILS | AJ136: 25.1 | AK136: BROOKSBY | AL136: 4.5 | AM136: RUBLEV | AN136: 29.2 | AO136: HUMBERT | AP136: 0 | AQ136: FUCSOVICS | AR136: 30.3 | AS136: KHACHANOV | AT136: 23.7
G137: KHACHANOV | H137: 23.7 | I137: FUCSOVICS | J137: 30.3 | K137: HUMBERT | L137: 0 | M137: HUMBERT | N137: 0 | O137: RINDERKNECH | P137: 9.5 | Q137: FUCSOVICS | R137: 30.3 | S137: LEHECKA | T137: 32 | U137: LEHECKA | V137: 32 | W137: LEHECKA | X137: 32 | Y137: HUMBERT | Z137: 0 | AA137: PERRICARD | AB137: 8.6 | AC137: MENSIK | AD137: 24.8 | AE137: LEHECKA | AF137: 32 | AG137: FUCSOVICS | AH137: 30.3 | AI137: FUCSOVICS | AJ137: 30.3 | AK137: RUBLEV | AL137: 29.2 | AM137: HUMBERT | AN137: 0 | AO137: LEHECKA | AP137: 32 | AQ137: KHACHANOV | AR137: 23.7 | AS137: HUMBERT | AT137: 0
G138: MENSIK | H138: 24.8 | I138: HUMBERT | J138: 0 | K138: LEHECKA | L138: 32 | M138: LEHECKA | N138: 32 | O138: ROYER | P138: 36.2 | Q138: HUMBERT | R138: 0 | S138: MAROZSAN | T138: 39.2 | U138: SINNER | V138: 30.8 | W138: MAJCHRZAK | X138: 9.1 | Y138: MEDVEDEV | Z138: 30.7 | AA138: ROYER | AB138: 36.2 | AC138: RUBLEV | AD138: 29.2 | AE138: MENSIK | AF138: 24.8 | AG138: HUMBERT | AH138: 0 | AI138: HUMBERT | AJ138: 0 | AK138: MENSIK | AL138: 24.8 | AM138: MENSIK | AN138: 24.8 | AO138: RUBLEV | AP138: 29.2 | AQ138: PERRICARD | AR138: 8.6 | AS138: PERRICARD | AT138: 8.6
G139: SHANG | H139: 5 | I139: LEHECKA | J139: 32 | K139: MENSIK | L139: 24.8 | M139: POPYRIN | N139: 35.7 | O139: RUBLEV | P139: 29.2 | Q139: MENSIK | R139: 24.8 | S139: MENSIK | T139: 24.8 | U139: TSITSIPAS | V139: 27.6 | W139: MENSIK | X139: 24.8 | Y139: RINDERKNECH | Z139: 9.5 | AA139: SINNER | AB139: 30.8 | AC139: SHANG | AD139: 5 | AE139: RINDERKNECH | AF139: 9.5 | AG139: LEHECKA | AH139: 32 | AI139: MEDVEDEV | AJ139: 30.7 | AK139: RINDERKNECH | AL139: 9.5 | AM139: POPYRIN | AN139: 35.7 | AO139: SINNER | AP139: 30.8 | AQ139: RUBLEV | AR139: 29.2 | AS139: RUBLEV | AT139: 29.2
G140: SINNER | H140: 30.8 | I140: MENSIK | J140: 24.8 | K140: SINNER | L140: 30.8 | M140: RUBLEV | N140: 29.2 | O140: SINNER | P140: 30.8 | Q140: RUBLEV | R140: 29.2 | S140: SINNER | T140: 30.8 | U140: ZHANG | V140: 30.7 | W140: PERRICARD | X140: 8.6 | Y140: PERRICARD | Z140: 8.6 | AA140: ZHANG | AB140: 30.7 | AC140: SINNER | AD140: 30.8 | AE140: TSITSIPAS | AF140: 27.6 | AG140: MENSIK | AH140: 24.8 | AI140: SINNER | AJ140: 30.8 | AK140: SHANG | AL140: 5 | AM140: SHANG | AN140: 5 | AO140: ZHANG | AP140: 30.7 | AQ140: ZHANG | AR140: 30.7 | AS140: ZHANG | AT140: 30.7
...

Sheet ALBO D'ORO
B1: SEDE | D1: VINCITORE 2023 | F1: VINCITORE 2024 | H1: VINCITORE 2025 | J1: VINCITORE 2026
A2: GS | B2: AUSTRALIAN OPEN | D2: CALIX | F2: UOLLANO | H2: CALIX | J2: NICOGIU79
A3: 500 | B3: DALLAS | H3: LUDOPIPPO | J3: PRE86
A4: 500 | B4: ROTTERDAM | D4: ALBE | F4: KOLLER22 | H4: THE QUEER | J4: RF FOREVER
A5: 500 | B5: DOHA | H5: LUPO1976 | J5: PRE86
A6: 500 | B6: RIO | D6: VAMOS4LA | F6: DIAVORIK | H6: KOLLER22 | J6: FOGLIA70
A7: 500 | B7: ACAPULCO | D7: VAMOS4LA | F7: KOLLER22 | H7: UOLLANO | J7: NICOGIU79
A8: 500 | B8: DUBAI | D8: RAFA66 | F8: THE QUEER | H8: GIANGIPOLI64 | J8: LUPO1976
A9: 1000 | B9: INDIAN WELLS | D9: VAMOS4LA | F9: UOLLANO | H9: JERRY | J9: RF FOREVER
A10: 1000 | B10: MIAMI | D10: CALIX | F10: FOGLIA70 | H10: MERIUS | J10: FICHINS
A11: 1000 | B11: MONTECARLO | D11: CALIX | F11: CALIX | H11: BIG BULL | J11: UOLLANO
A12: 500 | B12: BARCELLONA | D12: CALIX | F12: LUPO1976 | H12: MERIUS
A13: 500 | B13: MONACO | H13: MERIUS
A14: 1000 | B14: MADRID | D14: JERRY | F14: MARCOCICCIUS | H14: LUDOPIPPO
A15: 1000 | B15: ROMA | D15: TADDEUSTADDEI | F15: FOGLIA70 | H15: JERRY
A16: 500 | B16: AMBURGO | D16: RAFA66 | F16: FOGLIA70/UOLLY | H16: RF FOREVER
A17: GS | B17: ROLAND GARROS | D17: LUPO1976 | F17: DIAVORIK | H17: UOLLANO
A18: 500 | B18: HALLE | D18: TADDEUSTADDEI | F18: THE QUEER | H18: TADDEUSTADDEI
A19: 500 | B19: LONDRA | D19: JERRY | F19: DIAVORIK | H19: KOLLER22
A20: GS | B20: WIMBLEDON | D20: VAMOS4LA | F20: DIAVORIK | H20: UOLLANO
B21: OLIMPIADI | F21: LUPO1976
A22: 500 | B22: WASHINGTON | D22: CALIX | F22: DIAVORIK | H22: RF FOREVER
A23: 1000 | B23: CANADA | D23: JERRY | F23: ALBE | H23: NICOGIU79
A24: 1000 | B24: CINCINNATI | D24: DIAVORIK | F24: LUPO1976 | H24: RAFA66
A25: GS | B25: US OPEN | D25: DIAVORIK | F25: DIAVORIK | H25: GIANGIPOLI64
A26: 500 | B26: TOKYO | D26: LUPO1976 | F26: DIAVORIK | H26: KOLLER22
A27: 500 | B27: PECHINO | D27: ALBE | F27: DIAVORIK | H27: KOLLER22
A28: 1000 | B28: SHANGHAI | D28: UOLLANO | F28: JERRY | H28: UOLLANO
A29: 500 | B29: BASILEA | D29: MERIUS | F29: UOLLANO | H29: THE QUEER
A30: 500 | B30: VIENNA | D30: UOLLANO | F30: TADDEUSTADDEI | H30: DIAVORIK
A31: 1000 | B31: PARIGI | D31: DIAVORIK | F31: LUPO1976 | H31: PRE86
B32: ATP FINALS | H32: RF FOREVER
A33: CLASSIFICA FINALE | D33: VAMOS4LA | F33: DIAVORIK | H33: DIAVORIK

Sheet PALMARES
B1: PALMARES
A5: ALBE08
B6: #VALUE! | C6: #VALUE! | D6: #VALUE! | E6: #VALUE! | F6: #VALUE! | G6: #VALUE! | H6: #VALUE! | I6: #VALUE!
B7: - | C7: - | D7: - | E7: - | F7: 1 | G7: 2 | H7: - | I7: -
F8: CANADA 24 | G8: ROTTERDAM 23 PECHINO 23
A9: BIGBULL
B10: #VALUE! | C10: #VALUE! | D10: #VALUE! | E10: #VALUE! | F10: #VALUE! | G10: #VALUE! | H10: #VALUE! | I10: #VALUE!
B11: - | C11: - | D11: - | E11: - | F11: 1 | G11: - | H11: - | I11: -
F12: MONTECARLO 25
A13: CALIX
B14: #VALUE! | C14: #VALUE! | D14: #VALUE! | E14: #VALUE! | F14: #VALUE! | G14: #VALUE! | H14: #VALUE! | I14: #VALUE!
B15: 2 | C15: - | D15: - | E15: - | F15: 3 | G15: 2 | H15: - | I15: -
B16: 2023 2025 | F16: MIAMI 23 MONTECARLO 23 MONTECARLO 24 | G16: BARCELLONA 23 WASHINGTON 23
A17: DIAVORIK
B18: #VALUE! | C18: #VALUE! | D18: #VALUE! | E18: #VALUE! | F18: #VALUE! | G18: #VALUE! | H18: #VALUE! | I18: #VALUE!
B19: - | C19: 1 | D19: 1 | E19: 2 | F19: 2 | G19: 6 | H19: 2 | I19: -
C20: 2024 | D20: 2024 | E20: 2023 2024 | F20: CINCINNATI 23 PARIGI 23 | G20: RIO 24 LONDRA 24 WASHINGTON 24 TOKYO 24 PECHINO 24 VIENNA 25 | H20: BRISBANE 26 ADELAIDE 26
A21: FICHINS
B22: #VALUE! | C22: #VALUE! | D22: #VALUE! | E22: #VALUE! | F22: #VALUE! | G22: #VALUE! | H22: #VALUE! | I22: #VALUE!
B23: - | C23: - | D23: - | E23: - | F23: 1 | G23: - | H23: - | I23: -
F24: MIAMI 26
A25: FOGLIA70
B26: #VALUE! | C26: #VALUE! | D26: #VALUE! | E26: #VALUE! | F26: #VALUE! | G26: #VALUE! | H26: #VALUE! | I26: #VALUE!
B27: - | C27: - | D27: - | E27: - | F27: 2 | G27: 2 | H27: 3 | I27: -
F28: MIAMI 24 ROMA 24 | G28: AMBURGO 24 RIO 26 | H28: HONG KONG 26 AUCKLAND 26 B. AIRES 26
A29: GIANGIPOLI64
B30: #VALUE! | C30: #VALUE! | D30: #VALUE! | E30: #VALUE! | F30: #VALUE! | G30: #VALUE! | H30: #VALUE! | I30: #VALUE!
B31: - | C31: - | D31: - | E31: 1 | F31: - | G31: 1 | H31: - | I31: -
E32: 2025 | G32: DUBAI 25
A33: GUIDODENO
B34: #VALUE! | C34: #VALUE! | D34: #VALUE! | E34: #VALUE! | F34: #VALUE! | G34: #VALUE! | H34: #VALUE! | I34: #VALUE!
B35: - | C35: - | D35: - | E35: - | F35: - | G35: - | H35: - | I35: -
A37: JERRY
B38: #VALUE! | C38: #VALUE! | D38: #VALUE! | E38: #VALUE! | F38: #VALUE! | G38: #VALUE! | H38: #VALUE! | I38: #VALUE!
B39: - | C39: - | D39: - | E39: - | F39: 5 | G39: 1 | H39: 3 | I39: -
F40: MADRID 23 CANADA 23 SHANGAI 24 INDIAN WELLS 24 ROMA 25 | G40: LONDRA 23 | H40: MONTPELLIER 26 DELRAY B. 26 HOUSTON 26
A41: KOLLER22
B42: #VALUE! | C42: #VALUE! | D42: #VALUE! | E42: #VALUE! | F42: #VALUE! | G42: #VALUE! | H42: #VALUE! | I42: #VALUE!
B43: - | C43: - | D43: - | E43: - | F43: - | G43: 6 | H43: - | I43: -
G44: ROTTERDAM 24 ACAPULCO 24 RIO 25 LONDRA 25 TOKYO 25 PECHINO 25
A45: LUPO1976
B46: #VALUE! | C46: #VALUE! | D46: #VALUE! | E46: #VALUE! | F46: #VALUE! | G46: #VALUE! | H46: #VALUE! | I46: #VALUE! | J46: #VALUE!
B47: - | C47: 1 | D47: - | E47: - | F47: 2 | G47: 4 | H47: - | I47: - | J47: 1
C48: 2023 | F48: CINCINNATI 24 PARIGI 24 | G48: TOKYO 23 BARCELLONA 24 DOHA 25 DUBAI 26 | J48: 2024 PARIGI
A49: LUDOPIPPO
B50: #VALUE! | C50: #VALUE! | D50: #VALUE! | E50: #VALUE! | F50: #VALUE! | G50: #VALUE! | H50: #VALUE! | I50: #VALUE!
B51: - | C51: - | D51: - | E51: - | F51: 1 | G51: 1 | H51: 1 | I51: -
F52: MADRID 25 | G52: DALLAS 25 | H52: MARRAKECH 26
A53: NICOGIU79
B54: #VALUE! | C54: #VALUE! | D54: #VALUE! | E54: #VALUE! | F54: #VALUE! | G54: #VALUE! | H54: #VALUE! | I54: #VALUE!
B55: 1 | C55: - | D55: - | E55: - | F55: 1 | G55: 1 | H55: - | I55: -
B56: 2026 | F56: CANADA 25 | G56: ACAPULCO 26
A57: POTTI POTTI
B58: #VALUE! | C58: #VALUE! | D58: #VALUE! | E58: #VALUE! | F58: #VALUE! | G58: #VALUE! | H58: #VALUE! | I58: #VALUE!
B59: - | C59: - | D59: - | E59: - | F59: - | G59: - | H59: - | I59: -
A61: PRE86
B62: #VALUE! | C62: #VALUE! | D62: #VALUE! | E62: #VALUE! | F62: #VALUE! | G62: #VALUE! | H62: #VALUE! | I62: #VALUE!
B63: - | C63: - | D63: - | E63: - | F63: 1 | G63: 2 | H63: - | I63: -
F64: PARIGI 25 | G64: DALLAS 26 DOHA 26
A65: RAFA66
B66: #VALUE! | C66: #VALUE! | D66: #VALUE! | E66: #VALUE! | F66: #VALUE! | G66: #VALUE! | H66: #VALUE! | I66: #VALUE!
B67: - | C67: - | D67: - | E67: - | F67: 1 | G67: 2 | H67: - | I67: -
F68: CINCINNATI 25 | G68: DUBAI 23 AMBURGO 23
A69: RF FOREVER
B70: #VALUE! | C70: #VALUE! | D70: #VALUE! | E70: #VALUE! | F70: #VALUE! | G70: #VALUE! | H70: #VALUE! | I70: #VALUE!
B71: - | C71: - | D71: - | E71: - | F71: 1 | G71: 3 | H71: - | I71: 1
F72: INDIAN WELLS 26 | G72: AMBURGO 25 WASHINGTON 25 ROTTERDAM 26 | I72: 2025
A73: TADDEUSTADDEI
B74: #VALUE! | C74: #VALUE! | D74: #VALUE! | E74: #VALUE! | F74: #VALUE! | G74: #VALUE! | H74: #VALUE! | I74: #VALUE!
B75: - | C75: - | D75: - | E75: - | F75: 1 | G75: 3 | H75: - | I75: -
F76: ROMA 23 | G76: HALLE 23 VIENNA 24 HALLE 25
A77: THE QUEER
B78: #VALUE! | C78: #VALUE! | D78: #VALUE! | E78: #VALUE! | F78: #VALUE! | G78: #VALUE! | H78: #VALUE! | I78: #VALUE!
B79: - | C79: - | D79: - | E79: - | F79: - | G79: 4 | H79: 1 | I79: -
G80: DUBAI 24 HALLE 24 ROTTERDAM 25 BASILEA 25 | H80: SANTIAGO 26
A81: UOLLANO
B82: #VALUE! | C82: #VALUE! | D82: #VALUE! | E82: #VALUE! | F82: #VALUE! | G82: #VALUE! | H82: #VALUE! | I82: #VALUE!
B83: 1 | C83: 1 | D83: 1 | E83: - | F83: 4 | G83: 4 | H83: - | I83: -
B84: 2024 | C84: 2025 | D84: 2025 | F84: SHANGAI 23 INDIAN WELLS 24 SHANGAI 25 MONTECARLO 26 | G84: VIENNA 23 AMBURGO 24 BASILEA 24 ACAPULCO 25
A85: VAMOS4LA
B86: #VALUE! | C86: #VALUE! | D86: #VALUE! | E86: #VALUE! | F86: #VALUE! | G86: #VALUE! | H86: #VALUE! | I86: #VALUE!
B87: - | C87: - | D87: 1 | E87: - | F87: 1 | G87: 2 | H87: 1 | I87: -
D88: 2023 | F88: INDIAN WELLS 23 | G88: RIO 23 ACAPULCO 23 | H88: BUCAREST 26

Sheet ANAGRAFICA
A1: PARTECIPANTI | C1: MAIL | D1: TELEFONO | E1: NOME | F1: SODALE | G1: QUOTA | H1: VINCITE | I1: CREDITO
A3: ALBERTO | B3: CIAPERONI | C3: albeci66@gmail.com | D3: 3458915098 | E3: ALBE08 | F3: dalmy | G3: -60 | J3: =SUM(G3:I3) -> -60 | L3: CALIX
A4: FABIO | B4: CAFARO | C4: fabio.cafaro@gmail.com | D4: 3356515680 | E4: BIGBULL | G4: -60 | H4: 5 | J4: =SUM(G4:I4) -> -55
A5: DAVIDE | B5: DALMIGLIO | C5: dd_davide@yahoo.it | D5: 3358473054 | E5: CALIX | G5: -60 | H5: 5 | J5: =SUM(G5:I5) -> -55
A6: RICCARDO | B6: MERIGGIOLI | C6: mericcardo@gmail.com | D6: 3482653126 | E6: DIAVORIK | G6: -60 | J6: =SUM(G6:I6) -> -60
A7: EMILIANO | B7: FORESI | D7: 3737192309 | E7: FICHINS | F7: ricky | G7: -60 | H7: 20 | J7: =SUM(G7:I7) -> -40 | L7: RF FOREVER
A8: ANDREA | B8: FOGLIANI | C8: foglianiandrea70@gmail.com | D8: 3482951246 | E8: FOGLIA70 | F8: ricky | G8: -60 | H8: 10 | I8: 10 | J8: =SUM(G8:I8) -> -40
A9: GIANGI | B9: RANZINI | C9: gl.ranzini@gmail.com | D9: 3387891571 | E9: GIANGIPOLI64 | G9: -60 | H9: 5 | J9: =SUM(G9:I9) -> -55
A10: GUIDO | B10: DE NOVELLIS | D10: 3601082190 | E10: GUIDODENO | G10: -60 | J10: =SUM(G10:I10) -> -60 | L10: ALBE08
A11: GERMANO | B11: PIANEZZI | C11: germano.pianezzi@gmail.com | D11: 3925623554 | E11: JERRY | F11: dalmy | G11: -60 | I11: -5 | J11: =SUM(G11:I11) -> -65 | L11: ALBE08
A12: MARCO | B12: MONTAGNANI | C12: mmontagnanimarelli@gmail.com | D12: 3395237564 | E12: KOLLER22 | G12: -60 | H12: 25 | J12: =SUM(G12:I12) -> -35
A13: PAOLO | B13: VIMERCATI | C13: paivime@gmail.com | D13: 3356099479 | E13: LUDOPIPPO | F13: forly | G13: -60 | J13: =SUM(G13:I13) -> -60
A14: CHRISTIAN | B14: INVITTI | C14: chinvitti@gmail.com | D14: 3388330914 | E14: LUPO1976 | F14: forly | G14: -60 | H14: 15 | J14: =SUM(G14:I14) -> -45 | L14: FORLY
A15: GIUSEPPE | B15: NICOLOSI | D15: 3493703479 | E15: NICOGIU79 | G15: -60 | H15: 50 | J15: =SUM(G15:I15) -> -10 | L15: ALBE08
A16: MAURO | D16: 3356514644 | E16: POTTI POTTI | G16: -60 | J16: =SUM(G16:I16) -> -60
A17: ALESSANDRO | B17: PRESTI | D17: 3895752289 | E17: PRE86 | G17: -60 | H17: 30 | J17: =SUM(G17:I17) -> -30 | L17: ALBE08
A18: DOMENICO | B18: DE ANGELIS | C18: dome1566@gmail.com | D18: 3475840960 | E18: RAFA66 | G18: -60 | H18: 15 | J18: =SUM(G18:I18) -> -45
A19: GIAMPIERO | B19: PATRIZI | D19: 3483109274 | E19: RF FOREVER | F19: dalmy | G19: -60 | H19: 30 | J19: =SUM(G19:I19) -> -30 | L19: MC
A20: TADDEUS | B20: COSTARELLI | C20: mcostarelli@outlook.com | D20: 3395098877 | E20: TADDEUSTADDEI | G20: -60 | H20: 5 | J20: =SUM(G20:I20) -> -55 | L20: RICKY
A21: MAURO | B21: CRISTINA | C21: ideadilisa@gmail.com | D21: 3355305631 | E21: THE QUEER | G21: -60 | H21: 10 | J21: =SUM(G21:I21) -> -50
A22: PIERO | B22: GRANTALIANO | C22: uollano2@yahoo.com | D22: 3355356334 | E22: UOLLANO | G22: -60 | H22: 20 | J22: =SUM(G22:I22) -> -40
A23: STEFANO | B23: FORLANI | C23: stiv4lani@gmail.com | D23: 3357192264 | E23: VAMOS4LA | G23: -60 | J23: =SUM(G23:I23) -> -60
G25: =SUM(G3:G24) -> -1260 | H25: 860 | I25: =-(SUM(G25:H25)) -> 400 | J25: MONTEPREMI FINALE
A26: codice lega
I27: =I25*0.6 -> 240 | J27: 1° CLASSIFICATO
A28: 664626 | I28: =I25*0.3 -> 120 | J28: 2° CLASSIFICATO
I29: =I25*0.1 -> 40 | J29: 3° CLASSIFICATO
